PDS_VERSION_ID = PDS3
/* FILE DATA ELEMENTS */
RECORD_TYPE = STREAM
/* POINTERS TO DATA OBJECTS */
^COMPRESSED_FILE = "H4765_0000_IR3.JP2"
/* IDENTIFICATION DATA ELEMENTS */
DATA_SET_ID = "MEX-M-HRSC-5-REFDR-MAPPROJECTED-V3.0"
DATA_SET_NAME = "MARS EXPRESS HRSC MAP PROJECTED REFDR V3.0"
DETECTOR_ID = MEX_HRSC_IR
EVENT_TYPE = "MARS-REGIONAL-MAPPING-Im-Gl-La"
INSTRUMENT_HOST_ID = MEX
INSTRUMENT_HOST_NAME = "MARS EXPRESS"
INSTRUMENT_ID = HRSC
INSTRUMENT_NAME = "HIGH RESOLUTION STEREO CAMERA"
MISSION_NAME = "MARS EXPRESS"
MISSION_PHASE_NAME = ME_Phase_10
PROCESSING_LEVEL_ID = 3
PRODUCT_CREATION_TIME = 2016-04-26T13:14:09.000Z
PRODUCT_ID = "H4765_0000_IR3.JP2"
RELEASE_ID = 0054
REVISION_ID = 0000
/* QUALITY DATA ELEMENTS */
DATA_QUALITY_ID = 1
DATA_QUALITY_DESC = "Data calculated based on original SPICE kernels"
/* TIME DATA ELEMENTS */
SPACECRAFT_CLOCK_START_COUNT = "1/0138235094.09039"
SPACECRAFT_CLOCK_STOP_COUNT = "1/0138235449.25860"
START_TIME = 2007-09-18T22:38:27.507Z
STOP_TIME = 2007-09-18T22:41:06.992Z
/* ORBITAL DATA ELEMENTS */
ASCENDING_NODE_LONGITUDE = 128.82
MAXIMUM_RESOLUTION = 95.4
FOOTPRINT_POINT_LATITUDE = (-80.0491,-80.1716,-80.3426,-80.505, -80.6587,-80.8035,-80.9395,-81.0667, -80.7513,-80.4305,-80.188,-79.6903, -79.2772,-79.0236,-78.7665,-78.5943, -78.4222,-78.2469,-77.9834,-77.8058, -77.6272,-77.4479,-77.2674,-76.9967, -76.8132,-76.5376,-76.3525,-76.1658, -75.979,-75.7904,-75.601,-75.4116, -75.2194,-74.9311,-74.6389,-74.4439, -74.148,-73.9504,-73.6506,-73.4503, -73.2475,-73.0447,-72.8404,-72.5336, -72.3257,-72.1131,-71.909,-71.7624, -71.7068,-71.6643,-71.6189,-71.5445, -71.4683,-71.3572,-71.2976,-71.2363, -71.1728,-71.2087,-71.4137,-71.6173, -71.8198,-72.0199,-72.2207,-72.5181, -72.7161,-72.9117,-73.106,-73.2995, -73.4915,-73.6836,-73.873,-74.1563, -74.3424,-74.5287,-74.8058,-74.9889, -75.262,-75.4422,-75.622,-75.7996, -75.978,-76.1544,-76.3282,-76.5023, -76.6747,-76.8451,-77.0156,-77.1848, -77.3498,-77.5189,-77.6848,-77.8482, -78.0106,-78.2538,-78.5709,-78.8066, -79.1143,-79.5671,-79.7894,-80.0491)
FOOTPRINT_POINT_LONGITUDE = (219.914,220.909,222.385,223.898, 225.448,227.032,228.651,230.304,231.154 ,231.986,232.576,233.688,234.532, 235.014,235.478,235.776,236.065,236.35, 236.76,237.027,237.286,237.538,237.785, 238.141,238.373,238.709,238.927,239.14, 239.347,239.55,239.749,239.942,240.132, 240.408,240.676,240.848,241.102,241.266 ,241.506,241.662,241.815,241.964, 242.111,242.324,242.464,242.603,242.734 ,242.213,241.395,240.801,240.209, 239.321,238.436,237.257,236.669,236.083 ,235.498,234.803,234.633,234.459, 234.281,234.1,233.915,233.632,233.437, 233.24,233.036,232.83,232.618,232.403, 232.184,231.844,231.612,231.375,231.011 ,230.761,230.376,230.113,229.842, 229.568,229.288,228.999,228.706,228.404 ,228.095,227.781,227.458,227.128, 226.789,226.445,226.09,225.73,225.358, 224.784,223.985,223.36,222.489,221.099, 220.359,219.914)
ORBIT_NUMBER = 4765
ORBITAL_ECCENTRICITY = 0.57
ORBITAL_INCLINATION = 86.7
ORBITAL_SEMIMAJOR_AXIS = 8555.58
PERIAPSIS_ALTITUDE = 297.76
PERIAPSIS_ARGUMENT_ANGLE = 239.87
PERIAPSIS_TIME = 2007-09-18T22:29:04.000Z
SPACECRAFT_ORIENTATION = (0.0,-1.0,0.0)
^MEX_ORIENTATION_DESC = "MEX_ORIENTATION_DESC.TXT"
SPACECRAFT_POINTING_MODE = ACROSSTRACK
^MEX_POINTING_DESC = "MEX_POINTING_DESC.TXT"
RIGHT_ASCENSION = -1e+32
DECLINATION = -1e+32
OFFSET_ANGLE = 1.2
SPACECRAFT_SOLAR_DISTANCE = 2.17433e+08
TARGET_NAME = MARS
/* CAMERA DATA ELEMENTS */
DETECTOR_TEMPERATURE = 17.7588
FOCAL_PLANE_TEMPERATURE = 8.9911
INST_CMPRS_NAME = "DISCRETE COSINE TRANSFORMATION (DCT)"
INST_CMPRS_RATIO = 19.4465
INST_CMPRS_QUALITY = 0
INST_CMPRS_QUANTZ_TBL_ID = 0
INSTRUMENT_TEMPERATURE = 11.6418
LENS_TEMPERATURE = 9.3989
MACROPIXEL_SIZE = 4
MISSING_FRAMES = 0
PIXEL_SUBSAMPLING_FLAG = N
SIGNAL_CHAIN_ID = 2
/* RADIOMETRIC DATA ELEMENTS */
BANDWIDTH = 81.0
CENTER_FILTER_WAVELENGTH = 955.5
RADIANCE_OFFSET = 0.735953
RADIANCE_SCALING_FACTOR = 0.00308513
REFLECTANCE_SCALING_FACTOR = 0.00031467
MEX:REFLECTANCE_OFFSET = 0.0750641
/* IMAGE OBJECT DEFINITIONS */
OBJECT = IMAGE
  INTERCHANGE_FORMAT = BINARY
  LINES = 5825
  LINE_SAMPLES = 3204
  SAMPLE_TYPE = UNSIGNED_INTEGER
  SAMPLE_BITS = 8
  BANDS = 1
  BAND_STORAGE_TYPE = BAND_SEQUENTIAL
  MAXIMUM = 255
  MEAN = 111.825
  MINIMUM = 1
  STANDARD_DEVIATION = 39.0422
END_OBJECT = IMAGE
/* MAP OBJECT DEFINITIONS */
OBJECT = IMAGE_MAP_PROJECTION
  ^DATA_SET_MAP_PROJECTION_CATALOG= "DSMAP.CAT"
  A_AXIS_RADIUS = 3396.0
  B_AXIS_RADIUS = 3396.0
  C_AXIS_RADIUS = 3396.0
  CENTER_LATITUDE = 0.0
  CENTER_LONGITUDE = 234.0
  COORDINATE_SYSTEM_NAME = PLANETOGRAPHIC
  COORDINATE_SYSTEM_TYPE = "BODY-FIXED ROTATING"
  EASTERNMOST_LONGITUDE = 242.734
  FIRST_STANDARD_PARALLEL = "N/A"
  LINE_FIRST_PIXEL = 1
  LINE_LAST_PIXEL = 5825
  LINE_PROJECTION_OFFSET = -42162.625
  MAP_PROJECTION_ROTATION = 0.0
  MAP_PROJECTION_TYPE = SINUSOIDAL
  MAP_RESOLUTION = 592.713803866667
  MAP_SCALE = 0.1
  MAXIMUM_LATITUDE = -71.1728
  MINIMUM_LATITUDE = -81.0667
  POSITIVE_LONGITUDE_DIRECTION = EAST
  REFERENCE_LATITUDE = "N/A"
  REFERENCE_LONGITUDE = "N/A"
  SAMPLE_FIRST_PIXEL = 1
  SAMPLE_LAST_PIXEL = 3204
  SAMPLE_PROJECTION_OFFSET = 1487.875
  SECOND_STANDARD_PARALLEL = "N/A"
  WESTERNMOST_LONGITUDE = 219.914
END_OBJECT = IMAGE_MAP_PROJECTION
/* The JPEG2000 image data file associated with this label. */
OBJECT = COMPRESSED_FILE
  FILE_NAME = "H4765_0000_IR3.JP2"
  RECORD_TYPE = UNDEFINED
  FILE_RECORDS = UNK
  ENCODING_TYPE = "JP2"
  INTERCHANGE_FORMAT = BINARY
  UNCOMPRESSED_FILE_NAME = "H4765_0000_IR3.IMG"
  REQUIRED_STORAGE_BYTES = "18685728"
  ^DESCRIPTION = "JP2INFO.TXT"
END_OBJECT = COMPRESSED_FILE
END
