PDS_VERSION_ID = PDS3
/* FILE DATA ELEMENTS */
RECORD_TYPE = STREAM
/* POINTERS TO DATA OBJECTS */
^COMPRESSED_FILE = "H4770_0000_IR3.JP2"
/* IDENTIFICATION DATA ELEMENTS */
DATA_SET_ID = "MEX-M-HRSC-5-REFDR-MAPPROJECTED-V3.0"
DATA_SET_NAME = "MARS EXPRESS HRSC MAP PROJECTED REFDR V3.0"
DETECTOR_ID = MEX_HRSC_IR
EVENT_TYPE = "MARS-REGIONAL-MAPPING-Fl-Gl-La"
INSTRUMENT_HOST_ID = MEX
INSTRUMENT_HOST_NAME = "MARS EXPRESS"
INSTRUMENT_ID = HRSC
INSTRUMENT_NAME = "HIGH RESOLUTION STEREO CAMERA"
MISSION_NAME = "MARS EXPRESS"
MISSION_PHASE_NAME = ME_Phase_10
PROCESSING_LEVEL_ID = 3
PRODUCT_CREATION_TIME = 2016-04-26T13:14:09.000Z
PRODUCT_ID = "H4770_0000_IR3.JP2"
RELEASE_ID = 0054
REVISION_ID = 0000
/* QUALITY DATA ELEMENTS */
DATA_QUALITY_ID = 1
DATA_QUALITY_DESC = "Data calculated based on original SPICE kernels"
/* TIME DATA ELEMENTS */
SPACECRAFT_CLOCK_START_COUNT = "1/0138356022.09065"
SPACECRAFT_CLOCK_STOP_COUNT = "1/0138356396.56928"
START_TIME = 2007-09-20T08:13:55.041Z
STOP_TIME = 2007-09-20T08:16:56.576Z
/* ORBITAL DATA ELEMENTS */
ASCENDING_NODE_LONGITUDE = 128.71
MAXIMUM_RESOLUTION = 91.1
FOOTPRINT_POINT_LATITUDE = (-81.7959,-81.9603,-82.192,-82.415, -82.6291,-82.8342,-83.0303,-83.2176, -82.9068,-82.6687,-82.4249,-82.0908, -81.7521,-81.578,-81.4019,-81.2255, -81.0499,-80.8688,-80.6875,-80.5, -80.3109,-80.1184,-79.8349,-79.6416, -79.4462,-79.2488,-79.0512,-78.7505, -78.5486,-78.2414,-78.0358,-77.8271, -77.6182,-77.4085,-77.1968,-76.9858, -76.6618,-76.4443,-76.2208,-75.8846, -75.6605,-75.4362,-75.2099,-74.9827, -74.7522,-74.4119,-74.1804,-73.946, -73.7074,-73.3492,-73.1082,-73.0014, -72.8831,-72.7928,-72.6636,-72.513, -72.3986,-72.2247,-72.4571,-72.8034, -73.0329,-73.2604,-73.5999,-73.8228, -74.0447,-74.2647,-74.4852,-74.7031, -74.9207,-75.1342,-75.3471,-75.5457, -75.755,-76.0647,-76.372,-76.5723, -76.8658,-77.064,-77.2565,-77.4501, -77.6408,-77.9242,-78.2027,-78.3872, -78.5678,-78.7466,-79.0118,-79.1857, -79.4445,-79.6114,-79.7784,-79.9436, -80.105,-80.2649,-80.4231,-80.5788, -80.9577,-81.2473,-81.5254,-81.7959)
FOOTPRINT_POINT_LONGITUDE = (74.182,75.102,76.4886,77.9367,79.4479, 81.0235,82.6672,84.3812,86.1251,87.5247 ,88.8425,90.4843,91.995,92.7137,93.4048 ,94.0664,94.7028,95.3219,95.9151, 96.4944,97.0532,97.5921,98.3628,98.8558 ,99.3337,99.7971,100.243,100.888,101.3, 101.898,102.279,102.651,103.011,103.359 ,103.699,104.027,104.505,104.811, 105.111,105.544,105.824,106.094,106.358 ,106.615,106.866,107.228,107.463, 107.691,107.915,108.24,108.45,107.215, 105.897,104.969,103.734,102.425,101.502 ,100.172,99.9148,99.5177,99.2445, 98.9673,98.5368,98.2412,97.9377,97.6283 ,97.312,96.9894,96.6562,96.3157,95.9646 ,95.5896,95.2213,94.6491,94.054,93.6457 ,93.0009,92.5672,92.1137,91.651,91.1775 ,90.4403,89.6745,89.1421,88.6004, 88.0392,87.1705,86.5706,85.6357,84.9923 ,84.3277,83.6456,82.9461,82.222,81.4752 ,80.7142,78.698,76.9813,75.1617,74.182)
ORBIT_NUMBER = 4770
ORBITAL_ECCENTRICITY = 0.57
ORBITAL_INCLINATION = 86.7
ORBITAL_SEMIMAJOR_AXIS = 8552.86
PERIAPSIS_ALTITUDE = 298.08
PERIAPSIS_ARGUMENT_ANGLE = 239.01
PERIAPSIS_TIME = 2007-09-20T08:05:04.000Z
SPACECRAFT_ORIENTATION = (0.0,-1.0,0.0)
^MEX_ORIENTATION_DESC = "MEX_ORIENTATION_DESC.TXT"
SPACECRAFT_POINTING_MODE = ACROSSTRACK
^MEX_POINTING_DESC = "MEX_POINTING_DESC.TXT"
RIGHT_ASCENSION = -1e+32
DECLINATION = -1e+32
OFFSET_ANGLE = 1.8
SPACECRAFT_SOLAR_DISTANCE = 2.17682e+08
TARGET_NAME = MARS
/* CAMERA DATA ELEMENTS */
DETECTOR_TEMPERATURE = 17.7588
FOCAL_PLANE_TEMPERATURE = 9.195
INST_CMPRS_NAME = "DISCRETE COSINE TRANSFORMATION (DCT)"
INST_CMPRS_RATIO = 17.0891
INST_CMPRS_QUALITY = 0
INST_CMPRS_QUANTZ_TBL_ID = 0
INSTRUMENT_TEMPERATURE = 11.8457
LENS_TEMPERATURE = 9.3989
MACROPIXEL_SIZE = 4
MISSING_FRAMES = 0
PIXEL_SUBSAMPLING_FLAG = N
SIGNAL_CHAIN_ID = 2
/* RADIOMETRIC DATA ELEMENTS */
BANDWIDTH = 81.0
CENTER_FILTER_WAVELENGTH = 955.5
RADIANCE_OFFSET = 0.709482
RADIANCE_SCALING_FACTOR = 0.00337352
REFLECTANCE_SCALING_FACTOR = 0.000344873
MEX:REFLECTANCE_OFFSET = 0.07253
/* IMAGE OBJECT DEFINITIONS */
OBJECT = IMAGE
  INTERCHANGE_FORMAT = BINARY
  LINES = 6438
  LINE_SAMPLES = 4119
  SAMPLE_TYPE = UNSIGNED_INTEGER
  SAMPLE_BITS = 8
  BANDS = 1
  BAND_STORAGE_TYPE = BAND_SEQUENTIAL
  MAXIMUM = 255
  MEAN = 92.6256
  MINIMUM = 1
  STANDARD_DEVIATION = 29.6131
END_OBJECT = IMAGE
/* MAP OBJECT DEFINITIONS */
OBJECT = IMAGE_MAP_PROJECTION
  ^DATA_SET_MAP_PROJECTION_CATALOG= "DSMAP.CAT"
  A_AXIS_RADIUS = 3396.0
  B_AXIS_RADIUS = 3396.0
  C_AXIS_RADIUS = 3396.0
  CENTER_LATITUDE = 0.0
  CENTER_LONGITUDE = 96.0
  COORDINATE_SYSTEM_NAME = PLANETOGRAPHIC
  COORDINATE_SYSTEM_TYPE = "BODY-FIXED ROTATING"
  EASTERNMOST_LONGITUDE = 108.45
  FIRST_STANDARD_PARALLEL = "N/A"
  LINE_FIRST_PIXEL = 1
  LINE_LAST_PIXEL = 6438
  LINE_PROJECTION_OFFSET = -42832.625
  MAP_PROJECTION_ROTATION = 0.0
  MAP_PROJECTION_TYPE = SINUSOIDAL
  MAP_RESOLUTION = 592.713803866667
  MAP_SCALE = 0.1
  MAXIMUM_LATITUDE = -72.2247
  MINIMUM_LATITUDE = -83.2176
  POSITIVE_LONGITUDE_DIRECTION = EAST
  REFERENCE_LATITUDE = "N/A"
  REFERENCE_LONGITUDE = "N/A"
  SAMPLE_FIRST_PIXEL = 1
  SAMPLE_LAST_PIXEL = 4119
  SAMPLE_PROJECTION_OFFSET = 1871.125
  SECOND_STANDARD_PARALLEL = "N/A"
  WESTERNMOST_LONGITUDE = 74.182
END_OBJECT = IMAGE_MAP_PROJECTION
/* The JPEG2000 image data file associated with this label. */
OBJECT = COMPRESSED_FILE
  FILE_NAME = "H4770_0000_IR3.JP2"
  RECORD_TYPE = UNDEFINED
  FILE_RECORDS = UNK
  ENCODING_TYPE = "JP2"
  INTERCHANGE_FORMAT = BINARY
  UNCOMPRESSED_FILE_NAME = "H4770_0000_IR3.IMG"
  REQUIRED_STORAGE_BYTES = "26542836"
  ^DESCRIPTION = "JP2INFO.TXT"
END_OBJECT = COMPRESSED_FILE
END
