PDS_VERSION_ID = PDS3
/* FILE DATA ELEMENTS */
RECORD_TYPE = STREAM
/* POINTERS TO DATA OBJECTS */
^COMPRESSED_FILE = "H4770_0000_S13.JP2"
/* IDENTIFICATION DATA ELEMENTS */
DATA_SET_ID = "MEX-M-HRSC-5-REFDR-MAPPROJECTED-V3.0"
DATA_SET_NAME = "MARS EXPRESS HRSC MAP PROJECTED REFDR V3.0"
DETECTOR_ID = MEX_HRSC_S1
EVENT_TYPE = "MARS-REGIONAL-MAPPING-Fl-Gl-La"
INSTRUMENT_HOST_ID = MEX
INSTRUMENT_HOST_NAME = "MARS EXPRESS"
INSTRUMENT_ID = HRSC
INSTRUMENT_NAME = "HIGH RESOLUTION STEREO CAMERA"
MISSION_NAME = "MARS EXPRESS"
MISSION_PHASE_NAME = ME_Phase_10
PROCESSING_LEVEL_ID = 3
PRODUCT_CREATION_TIME = 2016-04-26T13:14:09.000Z
PRODUCT_ID = "H4770_0000_S13.JP2"
RELEASE_ID = 0054
REVISION_ID = 0000
/* QUALITY DATA ELEMENTS */
DATA_QUALITY_ID = 1
DATA_QUALITY_DESC = "Data calculated based on original SPICE kernels"
/* TIME DATA ELEMENTS */
SPACECRAFT_CLOCK_START_COUNT = "1/0138356022.09065"
SPACECRAFT_CLOCK_STOP_COUNT = "1/0138356396.56928"
START_TIME = 2007-09-20T08:13:46.172Z
STOP_TIME = 2007-09-20T08:16:44.262Z
/* ORBITAL DATA ELEMENTS */
ASCENDING_NODE_LONGITUDE = 128.71
MAXIMUM_RESOLUTION = 45.7
FOOTPRINT_POINT_LATITUDE = (-81.8052,-82.0384,-82.2782,-82.5086, -82.7293,-82.9405,-83.1424,-82.9955, -82.6814,-82.4401,-82.2739,-82.0234, -81.8558,-81.598,-81.4236,-81.2485, -81.0742,-80.8948,-80.7148,-80.5294, -80.2452,-80.0548,-79.7719,-79.5795, -79.2866,-79.09,-78.8916,-78.691, -78.3893,-78.082,-77.7718,-77.5637, -77.2497,-77.0404,-76.8289,-76.6118, -76.3951,-76.1686,-75.8359,-75.6128, -75.2771,-74.9362,-74.7081,-74.3731, -74.1409,-73.9063,-73.6688,-73.4317, -73.1916,-73.0297,-72.9043,-72.8338, -72.7254,-72.6555,-72.5811,-72.4627, -72.3397,-72.3238,-72.5544,-72.7836, -73.1246,-73.4648,-73.6873,-74.018, -74.2381,-74.5659,-74.7837,-74.9986, -75.2112,-75.5139,-75.8271,-76.132, -76.3364,-76.5366,-76.7298,-76.9253, -77.2174,-77.4091,-77.5992,-77.8822, -78.0673,-78.2519,-78.4335,-78.6126, -78.7901,-79.0537,-79.2261,-79.3985, -79.5648,-79.7308,-79.9775,-80.1375, -80.296,-80.4531,-80.6077,-80.8345, -81.1283,-81.3406,-81.6138,-81.8052)
FOOTPRINT_POINT_LONGITUDE = (74.1983,75.4739,76.8948,78.382,79.9363 ,81.5612,83.2605,85.4885,87.3746, 88.6882,89.5286,90.7243,91.4772,92.5633 ,93.2535,93.9147,94.5519,95.1704, 95.7637,96.3426,97.1771,97.7069,98.4658 ,98.9507,99.6523,100.1,100.534,100.956, 101.56,102.141,102.694,103.05,103.563, 103.892,104.212,104.526,104.829,105.128 ,105.556,105.833,106.232,106.618, 106.865,107.223,107.455,107.683,107.905 ,108.121,108.332,107.45,106.101,105.39, 104.364,103.734,103.104,102.16,101.22, 100.126,99.8686,99.6032,99.1954,98.7753 ,98.4844,98.0364,97.728,97.2552,96.9282 ,96.5958,96.2516,95.7092,95.1572, 94.5827,94.1871,93.783,93.3602,92.9319, 92.2686,91.8128,91.3446,90.6146,90.1145 ,89.5977,89.0681,88.5246,87.9621, 87.0937,86.4927,85.8726,85.2404,84.5868 ,83.568,82.869,82.1458,81.3982,80.6379, 79.4475,77.7805,76.4645,74.6216, 74.1983)
ORBIT_NUMBER = 4770
ORBITAL_ECCENTRICITY = 0.57
ORBITAL_INCLINATION = 86.7
ORBITAL_SEMIMAJOR_AXIS = 8552.86
PERIAPSIS_ALTITUDE = 298.08
PERIAPSIS_ARGUMENT_ANGLE = 239.01
PERIAPSIS_TIME = 2007-09-20T08:05:04.000Z
SPACECRAFT_ORIENTATION = (0.0,-1.0,0.0)
^MEX_ORIENTATION_DESC = "MEX_ORIENTATION_DESC.TXT"
SPACECRAFT_POINTING_MODE = ACROSSTRACK
^MEX_POINTING_DESC = "MEX_POINTING_DESC.TXT"
RIGHT_ASCENSION = -1e+32
DECLINATION = -1e+32
OFFSET_ANGLE = 1.8
SPACECRAFT_SOLAR_DISTANCE = 2.17682e+08
TARGET_NAME = MARS
/* CAMERA DATA ELEMENTS */
DETECTOR_TEMPERATURE = 17.7588
FOCAL_PLANE_TEMPERATURE = 9.195
INST_CMPRS_NAME = "DISCRETE COSINE TRANSFORMATION (DCT)"
INST_CMPRS_RATIO = 11.3775
INST_CMPRS_QUALITY = 0
INST_CMPRS_QUANTZ_TBL_ID = 0
INSTRUMENT_TEMPERATURE = 11.8457
LENS_TEMPERATURE = 9.3989
MACROPIXEL_SIZE = 2
MISSING_FRAMES = 0
PIXEL_SUBSAMPLING_FLAG = N
SIGNAL_CHAIN_ID = 1
/* RADIOMETRIC DATA ELEMENTS */
BANDWIDTH = 180.0
CENTER_FILTER_WAVELENGTH = 677.0
RADIANCE_OFFSET = 3.43587
RADIANCE_SCALING_FACTOR = 0.0121659
REFLECTANCE_SCALING_FACTOR = 0.00030077
MEX:REFLECTANCE_OFFSET = 0.0849432
/* IMAGE OBJECT DEFINITIONS */
OBJECT = IMAGE
  INTERCHANGE_FORMAT = BINARY
  LINES = 12876
  LINE_SAMPLES = 8238
  SAMPLE_TYPE = UNSIGNED_INTEGER
  SAMPLE_BITS = 8
  BANDS = 1
  BAND_STORAGE_TYPE = BAND_SEQUENTIAL
  MAXIMUM = 255
  MEAN = 99.5253
  MINIMUM = 1
  STANDARD_DEVIATION = 27.8888
END_OBJECT = IMAGE
/* MAP OBJECT DEFINITIONS */
OBJECT = IMAGE_MAP_PROJECTION
  ^DATA_SET_MAP_PROJECTION_CATALOG= "DSMAP.CAT"
  A_AXIS_RADIUS = 3396.0
  B_AXIS_RADIUS = 3396.0
  C_AXIS_RADIUS = 3396.0
  CENTER_LATITUDE = 0.0
  CENTER_LONGITUDE = 96.0
  COORDINATE_SYSTEM_NAME = PLANETOGRAPHIC
  COORDINATE_SYSTEM_TYPE = "BODY-FIXED ROTATING"
  EASTERNMOST_LONGITUDE = 108.332
  FIRST_STANDARD_PARALLEL = "N/A"
  LINE_FIRST_PIXEL = 1
  LINE_LAST_PIXEL = 12876
  LINE_PROJECTION_OFFSET = -85664.75
  MAP_PROJECTION_ROTATION = 0.0
  MAP_PROJECTION_TYPE = SINUSOIDAL
  MAP_RESOLUTION = 1185.42760773333
  MAP_SCALE = 0.05
  MAXIMUM_LATITUDE = -72.32380000000001
  MINIMUM_LATITUDE = -83.14239999999999
  POSITIVE_LONGITUDE_DIRECTION = EAST
  REFERENCE_LATITUDE = "N/A"
  REFERENCE_LONGITUDE = "N/A"
  SAMPLE_FIRST_PIXEL = 1
  SAMPLE_LAST_PIXEL = 8238
  SAMPLE_PROJECTION_OFFSET = 3742.75
  SECOND_STANDARD_PARALLEL = "N/A"
  WESTERNMOST_LONGITUDE = 74.1983
END_OBJECT = IMAGE_MAP_PROJECTION
/* The JPEG2000 image data file associated with this label. */
OBJECT = COMPRESSED_FILE
  FILE_NAME = "H4770_0000_S13.JP2"
  RECORD_TYPE = UNDEFINED
  FILE_RECORDS = UNK
  ENCODING_TYPE = "JP2"
  INTERCHANGE_FORMAT = BINARY
  UNCOMPRESSED_FILE_NAME = "H4770_0000_S13.IMG"
  REQUIRED_STORAGE_BYTES = "106105440"
  ^DESCRIPTION = "JP2INFO.TXT"
END_OBJECT = COMPRESSED_FILE
END
