PDS_VERSION_ID = PDS3
/* FILE DATA ELEMENTS */
RECORD_TYPE = STREAM
/* POINTERS TO DATA OBJECTS */
^COMPRESSED_FILE = "H4779_0000_P23.JP2"
/* IDENTIFICATION DATA ELEMENTS */
DATA_SET_ID = "MEX-M-HRSC-5-REFDR-MAPPROJECTED-V3.0"
DATA_SET_NAME = "MARS EXPRESS HRSC MAP PROJECTED REFDR V3.0"
DETECTOR_ID = MEX_HRSC_P2
EVENT_TYPE = "MARS-REGIONAL-MAPPING-Gl-La"
INSTRUMENT_HOST_ID = MEX
INSTRUMENT_HOST_NAME = "MARS EXPRESS"
INSTRUMENT_ID = HRSC
INSTRUMENT_NAME = "HIGH RESOLUTION STEREO CAMERA"
MISSION_NAME = "MARS EXPRESS"
MISSION_PHASE_NAME = ME_Phase_10
PROCESSING_LEVEL_ID = 3
PRODUCT_CREATION_TIME = 2016-04-26T13:14:09.000Z
PRODUCT_ID = "H4779_0000_P23.JP2"
RELEASE_ID = 0054
REVISION_ID = 0000
/* QUALITY DATA ELEMENTS */
DATA_QUALITY_ID = 1
DATA_QUALITY_DESC = "Data calculated based on original SPICE kernels"
/* TIME DATA ELEMENTS */
SPACECRAFT_CLOCK_START_COUNT = "1/0138573760.08236"
SPACECRAFT_CLOCK_STOP_COUNT = "1/0138574181.26903"
START_TIME = 2007-09-22T20:44:25.597Z
STOP_TIME = 2007-09-22T20:48:53.366Z
/* ORBITAL DATA ELEMENTS */
ASCENDING_NODE_LONGITUDE = 128.53
MAXIMUM_RESOLUTION = 53.1
FOOTPRINT_POINT_LATITUDE = (-82.9882,-83.2271,-83.4547,-83.6706, -83.8736,-84.0634,-84.1715,-83.8913, -83.4087,-83.1093,-82.7023,-82.2846, -81.9662,-81.7508,-81.4263,-81.2038, -80.9811,-80.6431,-80.2998,-80.0701, -79.7186,-79.3638,-79.1253,-78.8849, -78.5198,-78.275,-78.0289,-77.7809, -77.4049,-77.1531,-76.8994,-76.6434, -76.3855,-76.126,-75.8641,-75.6012, -75.336,-75.0692,-74.8007,-74.5302, -74.2582,-73.9845,-73.7088,-73.4311, -73.1517,-72.8703,-72.5869,-72.2986, -72.244,-72.2116,-72.1745,-72.1347, -72.0917,-72.0448,-71.9882,-71.9342, -71.8472,-71.777,-71.8207,-72.0961, -72.3693,-72.6408,-72.9101,-73.1772, -73.4425,-73.7059,-73.9675,-74.2271, -74.4843,-74.7395,-74.9926,-75.2436, -75.4927,-75.8628,-76.1069,-76.3487, -76.5887,-76.8275,-77.0658,-77.2985, -77.6446,-78.1011,-78.3271,-78.5489, -78.7672,-78.9847,-79.3055,-79.5169, -79.7249,-80.0337,-80.2364,-80.4356, -80.7299,-80.9226,-81.3902,-81.7506, -82.0119,-82.4284,-82.6669,-82.9882)
FOOTPRINT_POINT_LONGITUDE = (271.359,273.489,275.749,278.146, 280.682,283.369,285.832,287.572,290.162 ,291.556,293.244,294.769,295.813, 296.469,297.393,297.98,298.537,299.329, 300.071,300.539,301.208,301.837,302.235 ,302.618,303.166,303.515,303.85,304.174 ,304.639,304.935,305.222,305.499, 305.767,306.026,306.276,306.52,306.755, 306.984,307.205,307.42,307.628,307.831, 308.027,308.218,308.404,308.585,308.761 ,308.931,307.467,306.627,305.79,304.955 ,304.12,303.287,302.352,301.523,300.284 ,299.357,298.076,297.842,297.601, 297.353,297.097,296.835,296.564,296.284 ,295.995,295.698,295.393,295.077, 294.754,294.419,294.075,293.536,293.163 ,292.781,292.383,291.964,291.519, 291.088,290.403,289.408,288.874,288.344 ,287.802,287.227,286.338,285.711, 285.067,284.041,283.328,282.588,281.423 ,280.615,278.441,276.529,275.009, 272.272,270.491,271.359)
ORBIT_NUMBER = 4779
ORBITAL_ECCENTRICITY = 0.57
ORBITAL_INCLINATION = 86.69
ORBITAL_SEMIMAJOR_AXIS = 8558.19
PERIAPSIS_ALTITUDE = 298.64
PERIAPSIS_ARGUMENT_ANGLE = 237.46
PERIAPSIS_TIME = 2007-09-22T20:33:48.000Z
SPACECRAFT_ORIENTATION = (0.0,-1.0,0.0)
^MEX_ORIENTATION_DESC = "MEX_ORIENTATION_DESC.TXT"
SPACECRAFT_POINTING_MODE = ACROSSTRACK
^MEX_POINTING_DESC = "MEX_POINTING_DESC.TXT"
RIGHT_ASCENSION = -1e+32
DECLINATION = -1e+32
OFFSET_ANGLE = 0.9
SPACECRAFT_SOLAR_DISTANCE = 2.18134e+08
TARGET_NAME = MARS
/* CAMERA DATA ELEMENTS */
DETECTOR_TEMPERATURE = 18.9822
FOCAL_PLANE_TEMPERATURE = 8.5833
INST_CMPRS_NAME = "DISCRETE COSINE TRANSFORMATION (DCT)"
INST_CMPRS_RATIO = 7.88875
INST_CMPRS_QUALITY = 0
INST_CMPRS_QUANTZ_TBL_ID = 0
INSTRUMENT_TEMPERATURE = 11.6418
LENS_TEMPERATURE = 8.9911
MACROPIXEL_SIZE = 2
MISSING_FRAMES = 0
PIXEL_SUBSAMPLING_FLAG = N
SIGNAL_CHAIN_ID = 3
/* RADIOMETRIC DATA ELEMENTS */
BANDWIDTH = 177.0
CENTER_FILTER_WAVELENGTH = 676.5
RADIANCE_OFFSET = 2.97788
RADIANCE_SCALING_FACTOR = 0.0137516
REFLECTANCE_SCALING_FACTOR = 0.000346947
MEX:REFLECTANCE_OFFSET = 0.0751306
/* IMAGE OBJECT DEFINITIONS */
OBJECT = IMAGE
  INTERCHANGE_FORMAT = BINARY
  LINES = 14885
  LINE_SAMPLES = 8196
  SAMPLE_TYPE = UNSIGNED_INTEGER
  SAMPLE_BITS = 8
  BANDS = 1
  BAND_STORAGE_TYPE = BAND_SEQUENTIAL
  MAXIMUM = 255
  MEAN = 100.516
  MINIMUM = 1
  STANDARD_DEVIATION = 37.9927
END_OBJECT = IMAGE
/* MAP OBJECT DEFINITIONS */
OBJECT = IMAGE_MAP_PROJECTION
  ^DATA_SET_MAP_PROJECTION_CATALOG= "DSMAP.CAT"
  A_AXIS_RADIUS = 3396.0
  B_AXIS_RADIUS = 3396.0
  C_AXIS_RADIUS = 3396.0
  CENTER_LATITUDE = 0.0
  CENTER_LONGITUDE = 296.0
  COORDINATE_SYSTEM_NAME = PLANETOGRAPHIC
  COORDINATE_SYSTEM_TYPE = "BODY-FIXED ROTATING"
  EASTERNMOST_LONGITUDE = 308.931
  FIRST_STANDARD_PARALLEL = "N/A"
  LINE_FIRST_PIXEL = 1
  LINE_LAST_PIXEL = 14885
  LINE_PROJECTION_OFFSET = -84983.75
  MAP_PROJECTION_ROTATION = 0.0
  MAP_PROJECTION_TYPE = SINUSOIDAL
  MAP_RESOLUTION = 1185.42760773333
  MAP_SCALE = 0.05
  MAXIMUM_LATITUDE = -71.777
  MINIMUM_LATITUDE = -84.17149999999999
  POSITIVE_LONGITUDE_DIRECTION = EAST
  REFERENCE_LATITUDE = "N/A"
  REFERENCE_LONGITUDE = "N/A"
  SAMPLE_FIRST_PIXEL = 1
  SAMPLE_LAST_PIXEL = 8196
  SAMPLE_PROJECTION_OFFSET = 3787.25
  SECOND_STANDARD_PARALLEL = "N/A"
  WESTERNMOST_LONGITUDE = 270.491
END_OBJECT = IMAGE_MAP_PROJECTION
/* The JPEG2000 image data file associated with this label. */
OBJECT = COMPRESSED_FILE
  FILE_NAME = "H4779_0000_P23.JP2"
  RECORD_TYPE = UNDEFINED
  FILE_RECORDS = UNK
  ENCODING_TYPE = "JP2"
  INTERCHANGE_FORMAT = BINARY
  UNCOMPRESSED_FILE_NAME = "H4779_0000_P23.IMG"
  REQUIRED_STORAGE_BYTES = "122030244"
  ^DESCRIPTION = "JP2INFO.TXT"
END_OBJECT = COMPRESSED_FILE
END
