PDS_VERSION_ID = PDS3
/* FILE DATA ELEMENTS */
RECORD_TYPE = STREAM
/* POINTERS TO DATA OBJECTS */
^COMPRESSED_FILE = "H4779_0000_S23.JP2"
/* IDENTIFICATION DATA ELEMENTS */
DATA_SET_ID = "MEX-M-HRSC-5-REFDR-MAPPROJECTED-V3.0"
DATA_SET_NAME = "MARS EXPRESS HRSC MAP PROJECTED REFDR V3.0"
DETECTOR_ID = MEX_HRSC_S2
EVENT_TYPE = "MARS-REGIONAL-MAPPING-Gl-La"
INSTRUMENT_HOST_ID = MEX
INSTRUMENT_HOST_NAME = "MARS EXPRESS"
INSTRUMENT_ID = HRSC
INSTRUMENT_NAME = "HIGH RESOLUTION STEREO CAMERA"
MISSION_NAME = "MARS EXPRESS"
MISSION_PHASE_NAME = ME_Phase_10
PROCESSING_LEVEL_ID = 3
PRODUCT_CREATION_TIME = 2016-04-26T13:14:09.000Z
PRODUCT_ID = "H4779_0000_S23.JP2"
RELEASE_ID = 0054
REVISION_ID = 0000
/* QUALITY DATA ELEMENTS */
DATA_QUALITY_ID = 1
DATA_QUALITY_DESC = "Data calculated based on original SPICE kernels"
/* TIME DATA ELEMENTS */
SPACECRAFT_CLOCK_START_COUNT = "1/0138573760.08236"
SPACECRAFT_CLOCK_STOP_COUNT = "1/0138574181.26903"
START_TIME = 2007-09-22T20:44:52.837Z
STOP_TIME = 2007-09-22T20:49:43.508Z
/* ORBITAL DATA ELEMENTS */
ASCENDING_NODE_LONGITUDE = 128.53
MAXIMUM_RESOLUTION = 57.5
FOOTPRINT_POINT_LATITUDE = (-82.999,-83.2423,-83.4731,-83.6906, -83.8939,-84.0824,-83.8957,-83.605, -83.2079,-82.8006,-82.2777,-82.0634, -81.847,-81.6297,-81.3011,-80.965, -80.7384,-80.5118,-80.2797,-80.0535, -79.8198,-79.5828,-79.3431,-78.9822, -78.6153,-78.3726,-78.002,-77.6296, -77.38,-77.1266,-76.7463,-76.4902, -76.2322,-75.9719,-75.7099,-75.4469, -75.1815,-74.9144,-74.6464,-74.3762, -74.1047,-73.8315,-73.5564,-73.2794, -73.0007,-72.7203,-72.433,-72.2524, -72.2201,-72.1657,-72.1265,-72.0791, -72.0316,-71.9809,-71.898,-71.838, -71.7664,-71.687,-71.9606,-72.2319, -72.501,-72.7687,-73.0343,-73.3001, -73.5603,-73.8207,-74.0788,-74.3357, -74.5902,-74.8426,-75.0929,-75.4648, -75.833,-76.0758,-76.3155,-76.5539, -76.7924,-77.0297,-77.2635,-77.4932, -77.7237,-78.0684,-78.2936,-78.5126, -78.8405,-79.0579,-79.2692,-79.4792, -79.6876,-79.9966,-80.1992,-80.3988, -80.7904,-81.0752,-81.3547,-81.7159, -82.0621,-82.555,-82.7874,-82.999)
FOOTPRINT_POINT_LONGITUDE = (271.897,274.193,276.632,279.215, 281.952,284.851,288.27,289.86,291.777, 293.496,295.406,296.107,296.775,297.408 ,298.302,299.141,299.67,300.174,300.66, 301.119,301.564,301.993,302.405,302.993 ,303.548,303.899,304.403,304.88,305.184 ,305.479,305.901,306.172,306.434, 306.687,306.933,307.171,307.403,307.627 ,307.845,308.056,308.261,308.461, 308.655,308.844,309.028,309.207,309.38, 308.338,307.315,305.842,304.938,303.922 ,303.021,302.121,300.774,299.88,298.875 ,297.834,297.606,297.371,297.13,296.88, 296.624,296.354,296.087,295.805,295.516 ,295.216,294.908,294.592,294.266, 293.757,293.221,292.849,292.471,292.078 ,291.661,291.226,290.783,290.337, 289.858,289.089,288.565,288.05,287.216, 286.623,286.037,285.419,284.774,283.749 ,283.037,282.296,280.727,279.482, 278.144,276.241,274.201,270.795,268.943 ,271.897)
ORBIT_NUMBER = 4779
ORBITAL_ECCENTRICITY = 0.57
ORBITAL_INCLINATION = 86.69
ORBITAL_SEMIMAJOR_AXIS = 8558.19
PERIAPSIS_ALTITUDE = 298.64
PERIAPSIS_ARGUMENT_ANGLE = 237.46
PERIAPSIS_TIME = 2007-09-22T20:33:48.000Z
SPACECRAFT_ORIENTATION = (0.0,-1.0,0.0)
^MEX_ORIENTATION_DESC = "MEX_ORIENTATION_DESC.TXT"
SPACECRAFT_POINTING_MODE = ACROSSTRACK
^MEX_POINTING_DESC = "MEX_POINTING_DESC.TXT"
RIGHT_ASCENSION = -1e+32
DECLINATION = -1e+32
OFFSET_ANGLE = 0.9
SPACECRAFT_SOLAR_DISTANCE = 2.18134e+08
TARGET_NAME = MARS
/* CAMERA DATA ELEMENTS */
DETECTOR_TEMPERATURE = 18.9822
FOCAL_PLANE_TEMPERATURE = 8.5833
INST_CMPRS_NAME = "DISCRETE COSINE TRANSFORMATION (DCT)"
INST_CMPRS_RATIO = 12.755
INST_CMPRS_QUALITY = 0
INST_CMPRS_QUANTZ_TBL_ID = 0
INSTRUMENT_TEMPERATURE = 11.6418
LENS_TEMPERATURE = 8.9911
MACROPIXEL_SIZE = 2
MISSING_FRAMES = 0
PIXEL_SUBSAMPLING_FLAG = N
SIGNAL_CHAIN_ID = 1
/* RADIOMETRIC DATA ELEMENTS */
BANDWIDTH = 178.0
CENTER_FILTER_WAVELENGTH = 679.0
RADIANCE_OFFSET = 3.15409
RADIANCE_SCALING_FACTOR = 0.0143427
REFLECTANCE_SCALING_FACTOR = 0.00036142
MEX:REFLECTANCE_OFFSET = 0.0794794
/* IMAGE OBJECT DEFINITIONS */
OBJECT = IMAGE
  INTERCHANGE_FORMAT = BINARY
  LINES = 14885
  LINE_SAMPLES = 8196
  SAMPLE_TYPE = UNSIGNED_INTEGER
  SAMPLE_BITS = 8
  BANDS = 1
  BAND_STORAGE_TYPE = BAND_SEQUENTIAL
  MAXIMUM = 255
  MEAN = 107.49
  MINIMUM = 1
  STANDARD_DEVIATION = 40.2625
END_OBJECT = IMAGE
/* MAP OBJECT DEFINITIONS */
OBJECT = IMAGE_MAP_PROJECTION
  ^DATA_SET_MAP_PROJECTION_CATALOG= "DSMAP.CAT"
  A_AXIS_RADIUS = 3396.0
  B_AXIS_RADIUS = 3396.0
  C_AXIS_RADIUS = 3396.0
  CENTER_LATITUDE = 0.0
  CENTER_LONGITUDE = 296.0
  COORDINATE_SYSTEM_NAME = PLANETOGRAPHIC
  COORDINATE_SYSTEM_TYPE = "BODY-FIXED ROTATING"
  EASTERNMOST_LONGITUDE = 309.38
  FIRST_STANDARD_PARALLEL = "N/A"
  LINE_FIRST_PIXEL = 1
  LINE_LAST_PIXEL = 14885
  LINE_PROJECTION_OFFSET = -84983.75
  MAP_PROJECTION_ROTATION = 0.0
  MAP_PROJECTION_TYPE = SINUSOIDAL
  MAP_RESOLUTION = 1185.42760773333
  MAP_SCALE = 0.05
  MAXIMUM_LATITUDE = -71.687
  MINIMUM_LATITUDE = -84.08240000000001
  POSITIVE_LONGITUDE_DIRECTION = EAST
  REFERENCE_LATITUDE = "N/A"
  REFERENCE_LONGITUDE = "N/A"
  SAMPLE_FIRST_PIXEL = 1
  SAMPLE_LAST_PIXEL = 8196
  SAMPLE_PROJECTION_OFFSET = 3787.25
  SECOND_STANDARD_PARALLEL = "N/A"
  WESTERNMOST_LONGITUDE = 268.943
END_OBJECT = IMAGE_MAP_PROJECTION
/* The JPEG2000 image data file associated with this label. */
OBJECT = COMPRESSED_FILE
  FILE_NAME = "H4779_0000_S23.JP2"
  RECORD_TYPE = UNDEFINED
  FILE_RECORDS = UNK
  ENCODING_TYPE = "JP2"
  INTERCHANGE_FORMAT = BINARY
  UNCOMPRESSED_FILE_NAME = "H4779_0000_S23.IMG"
  REQUIRED_STORAGE_BYTES = "122030244"
  ^DESCRIPTION = "JP2INFO.TXT"
END_OBJECT = COMPRESSED_FILE
END
