PDS_VERSION_ID = PDS3
/* FILE DATA ELEMENTS */
RECORD_TYPE = STREAM
/* POINTERS TO DATA OBJECTS */
^COMPRESSED_FILE = "H4784_0000_S23.JP2"
/* IDENTIFICATION DATA ELEMENTS */
DATA_SET_ID = "MEX-M-HRSC-5-REFDR-MAPPROJECTED-V3.0"
DATA_SET_NAME = "MARS EXPRESS HRSC MAP PROJECTED REFDR V3.0"
DETECTOR_ID = MEX_HRSC_S2
EVENT_TYPE = "MARS-REGIONAL-MAPPING-Gl-La"
INSTRUMENT_HOST_ID = MEX
INSTRUMENT_HOST_NAME = "MARS EXPRESS"
INSTRUMENT_ID = HRSC
INSTRUMENT_NAME = "HIGH RESOLUTION STEREO CAMERA"
MISSION_NAME = "MARS EXPRESS"
MISSION_PHASE_NAME = ME_Phase_10
PROCESSING_LEVEL_ID = 3
PRODUCT_CREATION_TIME = 2016-04-26T13:14:09.000Z
PRODUCT_ID = "H4784_0000_S23.JP2"
RELEASE_ID = 0054
REVISION_ID = 0000
/* QUALITY DATA ELEMENTS */
DATA_QUALITY_ID = 1
DATA_QUALITY_DESC = "Data calculated based on original SPICE kernels"
/* TIME DATA ELEMENTS */
SPACECRAFT_CLOCK_START_COUNT = "1/0138694832.08275"
SPACECRAFT_CLOCK_STOP_COUNT = "1/0138695223.33090"
START_TIME = 2007-09-24T06:23:26.230Z
STOP_TIME = 2007-09-24T06:27:05.605Z
/* ORBITAL DATA ELEMENTS */
ASCENDING_NODE_LONGITUDE = 128.43
MAXIMUM_RESOLUTION = 72.7
FOOTPRINT_POINT_LATITUDE = (-77.7553,-77.8376,-77.9163,-77.9914, -78.0629,-78.1307,-78.1948,-78.2552, -78.3119,-78.3648,-78.4138,-78.4591, -78.5004,-78.3074,-77.9889,-77.5875, -77.3447,-77.0202,-76.7725,-76.5239, -76.1909,-75.8557,-75.5184,-75.3472, -75.1767,-75.0057,-74.8335,-74.6608, -74.4872,-74.3134,-74.1386,-73.9631, -73.7868,-73.5214,-73.3483,-73.0875, -72.8154,-72.6338,-72.3619,-72.1835, -72.0068,-71.8281,-71.652,-71.4823, -71.3074,-71.1314,-70.9571,-70.7808, -70.6096,-70.4374,-70.2648,-70.0917, -70.0612,-70.0497,-70.0293,-70.011, -69.9826,-69.9619,-69.9293,-69.8776, -69.8403,-69.8109,-69.7689,-69.7236, -69.6686,-69.6248,-69.576,-69.9071, -70.2417,-70.5776,-70.7462,-70.9152, -71.0867,-71.257,-71.5124,-71.6846, -71.8574,-72.0312,-72.2057,-72.3782, -72.5486,-72.7204,-72.8924,-73.1498, -73.3193,-73.4891,-73.6578,-73.9904, -74.3206,-74.7286,-75.1338,-75.4551, -75.7737,-76.1689,-76.4801,-76.7885, -77.094,-77.4713,-77.7692,-77.7553)
FOOTPRINT_POINT_LONGITUDE = (161.523,162.544,163.575,164.616, 165.667,166.727,167.797,168.874,169.96, 171.055,172.159,173.271,174.39,175.113, 175.477,175.91,176.157,176.476,176.705, 176.927,177.212,177.487,177.75,177.878, 178.003,178.126,178.247,178.365,178.481 ,178.595,178.707,178.817,178.925, 179.083,179.188,179.344,179.491,179.586 ,179.725,179.816,179.905,179.991, 180.076,180.162,180.243,180.322,180.4, 180.474,180.549,180.622,180.693,180.762 ,179.976,179.406,178.496,177.815, 176.909,176.344,175.44,174.315,173.527, 172.966,172.181,171.398,170.504,169.835 ,169.127,168.939,168.739,168.531, 168.423,168.313,168.196,168.08,167.902, 167.777,167.648,167.516,167.379,167.243 ,167.109,166.966,166.818,166.588, 166.434,166.275,166.113,165.786,165.446 ,165.002,164.529,164.131,163.716, 163.166,162.711,162.234,161.736,161.081 ,160.532,161.523)
ORBIT_NUMBER = 4784
ORBITAL_ECCENTRICITY = 0.57
ORBITAL_INCLINATION = 86.69
ORBITAL_SEMIMAJOR_AXIS = 8559.69
PERIAPSIS_ALTITUDE = 299.0
PERIAPSIS_ARGUMENT_ANGLE = 236.56
PERIAPSIS_TIME = 2007-09-24T06:09:45.000Z
SPACECRAFT_ORIENTATION = (0.0,-1.0,0.0)
^MEX_ORIENTATION_DESC = "MEX_ORIENTATION_DESC.TXT"
SPACECRAFT_POINTING_MODE = ACROSSTRACK
^MEX_POINTING_DESC = "MEX_POINTING_DESC.TXT"
RIGHT_ASCENSION = -1e+32
DECLINATION = -1e+32
OFFSET_ANGLE = 0.458
SPACECRAFT_SOLAR_DISTANCE = 2.18387e+08
TARGET_NAME = MARS
/* CAMERA DATA ELEMENTS */
DETECTOR_TEMPERATURE = 18.7783
FOCAL_PLANE_TEMPERATURE = 8.5833
INST_CMPRS_NAME = "DISCRETE COSINE TRANSFORMATION (DCT)"
INST_CMPRS_RATIO = 12.4646
INST_CMPRS_QUALITY = 0
INST_CMPRS_QUANTZ_TBL_ID = 0
INSTRUMENT_TEMPERATURE = 11.4379
LENS_TEMPERATURE = 9.195
MACROPIXEL_SIZE = 2
MISSING_FRAMES = 0
PIXEL_SUBSAMPLING_FLAG = N
SIGNAL_CHAIN_ID = 1
/* RADIOMETRIC DATA ELEMENTS */
BANDWIDTH = 178.0
CENTER_FILTER_WAVELENGTH = 679.0
RADIANCE_OFFSET = 3.09779
RADIANCE_SCALING_FACTOR = 0.0135322
REFLECTANCE_SCALING_FACTOR = 0.000341788
MEX:REFLECTANCE_OFFSET = 0.0782422
/* IMAGE OBJECT DEFINITIONS */
OBJECT = IMAGE
  INTERCHANGE_FORMAT = BINARY
  LINES = 10717
  LINE_SAMPLES = 5582
  SAMPLE_TYPE = UNSIGNED_INTEGER
  SAMPLE_BITS = 8
  BANDS = 1
  BAND_STORAGE_TYPE = BAND_SEQUENTIAL
  MAXIMUM = 254
  MEAN = 118.752
  MINIMUM = 1
  STANDARD_DEVIATION = 30.5778
END_OBJECT = IMAGE
/* MAP OBJECT DEFINITIONS */
OBJECT = IMAGE_MAP_PROJECTION
  ^DATA_SET_MAP_PROJECTION_CATALOG= "DSMAP.CAT"
  A_AXIS_RADIUS = 3396.0
  B_AXIS_RADIUS = 3396.0
  C_AXIS_RADIUS = 3396.0
  CENTER_LATITUDE = 0.0
  CENTER_LONGITUDE = 172.0
  COORDINATE_SYSTEM_NAME = PLANETOGRAPHIC
  COORDINATE_SYSTEM_TYPE = "BODY-FIXED ROTATING"
  EASTERNMOST_LONGITUDE = 180.762
  FIRST_STANDARD_PARALLEL = "N/A"
  LINE_FIRST_PIXEL = 1
  LINE_LAST_PIXEL = 10717
  LINE_PROJECTION_OFFSET = -82499.75
  MAP_PROJECTION_ROTATION = 0.0
  MAP_PROJECTION_TYPE = SINUSOIDAL
  MAP_RESOLUTION = 1185.42760773333
  MAP_SCALE = 0.05
  MAXIMUM_LATITUDE = -69.57599999999999
  MINIMUM_LATITUDE = -78.5004
  POSITIVE_LONGITUDE_DIRECTION = EAST
  REFERENCE_LATITUDE = "N/A"
  REFERENCE_LONGITUDE = "N/A"
  SAMPLE_FIRST_PIXEL = 1
  SAMPLE_LAST_PIXEL = 5582
  SAMPLE_PROJECTION_OFFSET = 2608.25
  SECOND_STANDARD_PARALLEL = "N/A"
  WESTERNMOST_LONGITUDE = 160.532
END_OBJECT = IMAGE_MAP_PROJECTION
/* The JPEG2000 image data file associated with this label. */
OBJECT = COMPRESSED_FILE
  FILE_NAME = "H4784_0000_S23.JP2"
  RECORD_TYPE = UNDEFINED
  FILE_RECORDS = UNK
  ENCODING_TYPE = "JP2"
  INTERCHANGE_FORMAT = BINARY
  UNCOMPRESSED_FILE_NAME = "H4784_0000_S23.IMG"
  REQUIRED_STORAGE_BYTES = "59850204"
  ^DESCRIPTION = "JP2INFO.TXT"
END_OBJECT = COMPRESSED_FILE
END
