PDS_VERSION_ID = PDS3
/* FILE DATA ELEMENTS */
RECORD_TYPE = STREAM
/* POINTERS TO DATA OBJECTS */
^COMPRESSED_FILE = "H4791_0000_S23.JP2"
/* IDENTIFICATION DATA ELEMENTS */
DATA_SET_ID = "MEX-M-HRSC-5-REFDR-MAPPROJECTED-V3.0"
DATA_SET_NAME = "MARS EXPRESS HRSC MAP PROJECTED REFDR V3.0"
DETECTOR_ID = MEX_HRSC_S2
EVENT_TYPE = "MARS-REGIONAL-MAPPING-Gl-La-Ot"
INSTRUMENT_HOST_ID = MEX
INSTRUMENT_HOST_NAME = "MARS EXPRESS"
INSTRUMENT_ID = HRSC
INSTRUMENT_NAME = "HIGH RESOLUTION STEREO CAMERA"
MISSION_NAME = "MARS EXPRESS"
MISSION_PHASE_NAME = ME_Phase_10
PROCESSING_LEVEL_ID = 3
PRODUCT_CREATION_TIME = 2016-04-26T13:14:09.000Z
PRODUCT_ID = "H4791_0000_S23.JP2"
RELEASE_ID = 0054
REVISION_ID = 0000
/* QUALITY DATA ELEMENTS */
DATA_QUALITY_ID = 1
DATA_QUALITY_DESC = "Data calculated based on original SPICE kernels"
/* TIME DATA ELEMENTS */
SPACECRAFT_CLOCK_START_COUNT = "1/0138864045.07276"
SPACECRAFT_CLOCK_STOP_COUNT = "1/0138864423.20227"
START_TIME = 2007-09-26T05:22:54.197Z
STOP_TIME = 2007-09-26T05:27:05.386Z
/* ORBITAL DATA ELEMENTS */
ASCENDING_NODE_LONGITUDE = 128.29
MAXIMUM_RESOLUTION = 56.3
FOOTPRINT_POINT_LATITUDE = (-85.4432,-85.7265,-86.0394,-86.3239, -86.5969,-86.9509,-86.7381,-86.4271, -86.2632,-85.9245,-85.7499,-85.569, -85.387,-85.2019,-85.0146,-84.8246, -84.6324,-84.4375,-84.1414,-83.8408, -83.6383,-83.4335,-83.1236,-82.81, -82.493,-82.1722,-81.848,-81.5207, -81.3014,-81.0814,-80.8576,-80.5206, -80.2948,-80.0667,-79.8367,-79.6057, -79.3733,-79.1397,-78.9048,-78.6685, -78.4313,-78.0738,-77.7114,-77.4693, -77.2258,-76.9803,-76.7341,-76.5378, -76.507,-76.4609,-76.4145,-76.3614, -76.3112,-76.2491,-76.1561,-76.0754, -75.995,-75.9886,-76.2251,-76.4594, -76.6923,-76.9231,-77.268,-77.4977, -77.7223,-78.0579,-78.2793,-78.5, -78.7171,-78.9339,-79.1486,-79.3615, -79.5729,-79.7823,-79.9896,-80.2977, -80.5001,-80.7011,-80.8993,-81.1912, -81.3835,-81.6679,-81.9469,-82.1301, -82.3102,-82.575,-82.8332,-83.0017, -83.1664,-83.4073,-83.564,-83.7159, -83.8644,-84.0081,-84.1481,-84.2832, -84.5996,-84.8274,-85.0297,-85.4432)
FOOTPRINT_POINT_LONGITUDE = (157.332,159.521,162.363,165.454, 169.042,174.906,178.67,183.021,184.933, 188.302,189.791,191.173,192.448,193.63, 194.728,195.751,196.704,197.598,198.83, 199.951,200.643,201.296,202.207,203.044 ,203.816,204.531,205.194,205.81,206.197 ,206.569,206.923,207.425,207.743, 208.047,208.338,208.619,208.889,209.148 ,209.397,209.638,209.87,210.204,210.52, 210.722,210.918,211.107,211.29,210.581, 209.464,208.077,206.838,205.611,204.527 ,203.316,201.72,200.4,199.227,197.358, 197.062,196.758,196.443,196.12,195.608, 195.245,194.882,194.306,193.906,193.487 ,193.062,192.614,192.15,191.669,191.169 ,190.65,190.111,189.258,188.663,188.041 ,187.398,186.392,185.682,184.557, 183.359,182.514,181.635,180.244,178.758 ,177.71,176.618,174.884,173.657,172.381 ,171.044,169.653,168.189,166.66,162.531 ,158.918,155.08,157.332)
ORBIT_NUMBER = 4791
ORBITAL_ECCENTRICITY = 0.57
ORBITAL_INCLINATION = 86.7
ORBITAL_SEMIMAJOR_AXIS = 8561.98
PERIAPSIS_ALTITUDE = 298.23
PERIAPSIS_ARGUMENT_ANGLE = 235.37
PERIAPSIS_TIME = 2007-09-26T05:12:03.000Z
SPACECRAFT_ORIENTATION = (0.0,-1.0,0.0)
^MEX_ORIENTATION_DESC = "MEX_ORIENTATION_DESC.TXT"
SPACECRAFT_POINTING_MODE = NADIR
^MEX_POINTING_DESC = "MEX_POINTING_DESC.TXT"
RIGHT_ASCENSION = -1e+32
DECLINATION = -1e+32
OFFSET_ANGLE = -1e+32
SPACECRAFT_SOLAR_DISTANCE = 2.18744e+08
TARGET_NAME = MARS
/* CAMERA DATA ELEMENTS */
DETECTOR_TEMPERATURE = 18.5744
FOCAL_PLANE_TEMPERATURE = 8.5833
INST_CMPRS_NAME = "DISCRETE COSINE TRANSFORMATION (DCT)"
INST_CMPRS_RATIO = 12.268
INST_CMPRS_QUALITY = 0
INST_CMPRS_QUANTZ_TBL_ID = 0
INSTRUMENT_TEMPERATURE = 11.234
LENS_TEMPERATURE = 8.7872
MACROPIXEL_SIZE = 2
MISSING_FRAMES = 0
PIXEL_SUBSAMPLING_FLAG = N
SIGNAL_CHAIN_ID = 1
/* RADIOMETRIC DATA ELEMENTS */
BANDWIDTH = 178.0
CENTER_FILTER_WAVELENGTH = 679.0
RADIANCE_OFFSET = 2.79238
RADIANCE_SCALING_FACTOR = 0.0101821
REFLECTANCE_SCALING_FACTOR = 0.000258014
MEX:REFLECTANCE_OFFSET = 0.070759
/* IMAGE OBJECT DEFINITIONS */
OBJECT = IMAGE
  INTERCHANGE_FORMAT = BINARY
  LINES = 13002
  LINE_SAMPLES = 8294
  SAMPLE_TYPE = UNSIGNED_INTEGER
  SAMPLE_BITS = 8
  BANDS = 1
  BAND_STORAGE_TYPE = BAND_SEQUENTIAL
  MAXIMUM = 255
  MEAN = 100.373
  MINIMUM = 1
  STANDARD_DEVIATION = 47.4132
END_OBJECT = IMAGE
/* MAP OBJECT DEFINITIONS */
OBJECT = IMAGE_MAP_PROJECTION
  ^DATA_SET_MAP_PROJECTION_CATALOG= "DSMAP.CAT"
  A_AXIS_RADIUS = 3396.0
  B_AXIS_RADIUS = 3396.0
  C_AXIS_RADIUS = 3396.0
  CENTER_LATITUDE = 0.0
  CENTER_LONGITUDE = 194.0
  COORDINATE_SYSTEM_NAME = PLANETOGRAPHIC
  COORDINATE_SYSTEM_TYPE = "BODY-FIXED ROTATING"
  EASTERNMOST_LONGITUDE = 211.29
  FIRST_STANDARD_PARALLEL = "N/A"
  LINE_FIRST_PIXEL = 1
  LINE_LAST_PIXEL = 13002
  LINE_PROJECTION_OFFSET = -90022.75
  MAP_PROJECTION_ROTATION = 0.0
  MAP_PROJECTION_TYPE = SINUSOIDAL
  MAP_RESOLUTION = 1185.42760773333
  MAP_SCALE = 0.05
  MAXIMUM_LATITUDE = -75.98860000000001
  MINIMUM_LATITUDE = -86.9509
  POSITIVE_LONGITUDE_DIRECTION = EAST
  REFERENCE_LATITUDE = "N/A"
  REFERENCE_LONGITUDE = "N/A"
  SAMPLE_FIRST_PIXEL = 1
  SAMPLE_LAST_PIXEL = 8294
  SAMPLE_PROJECTION_OFFSET = 3918.75
  SECOND_STANDARD_PARALLEL = "N/A"
  WESTERNMOST_LONGITUDE = 155.08
END_OBJECT = IMAGE_MAP_PROJECTION
/* The JPEG2000 image data file associated with this label. */
OBJECT = COMPRESSED_FILE
  FILE_NAME = "H4791_0000_S23.JP2"
  RECORD_TYPE = UNDEFINED
  FILE_RECORDS = UNK
  ENCODING_TYPE = "JP2"
  INTERCHANGE_FORMAT = BINARY
  UNCOMPRESSED_FILE_NAME = "H4791_0000_S23.IMG"
  REQUIRED_STORAGE_BYTES = "107871764"
  ^DESCRIPTION = "JP2INFO.TXT"
END_OBJECT = COMPRESSED_FILE
END
