PDS_VERSION_ID = PDS3
/* FILE DATA ELEMENTS */
RECORD_TYPE = STREAM
/* POINTERS TO DATA OBJECTS */
^COMPRESSED_FILE = "H4795_0000_GR3.JP2"
/* IDENTIFICATION DATA ELEMENTS */
DATA_SET_ID = "MEX-M-HRSC-5-REFDR-MAPPROJECTED-V3.0"
DATA_SET_NAME = "MARS EXPRESS HRSC MAP PROJECTED REFDR V3.0"
DETECTOR_ID = MEX_HRSC_GREEN
EVENT_TYPE = "MARS-REGIONAL-MAPPING-Vo-Fl-Eo"
INSTRUMENT_HOST_ID = MEX
INSTRUMENT_HOST_NAME = "MARS EXPRESS"
INSTRUMENT_ID = HRSC
INSTRUMENT_NAME = "HIGH RESOLUTION STEREO CAMERA"
MISSION_NAME = "MARS EXPRESS"
MISSION_PHASE_NAME = ME_Phase_10
PROCESSING_LEVEL_ID = 3
PRODUCT_CREATION_TIME = 2016-04-26T13:14:09.000Z
PRODUCT_ID = "H4795_0000_GR3.JP2"
RELEASE_ID = 0054
REVISION_ID = 0000
/* QUALITY DATA ELEMENTS */
DATA_QUALITY_ID = 2
DATA_QUALITY_DESC = "Data calculated based on photogrammetrically improved orbit and attitude data"
/* TIME DATA ELEMENTS */
SPACECRAFT_CLOCK_START_COUNT = "1/0138961086.09082"
SPACECRAFT_CLOCK_STOP_COUNT = "1/0138961875.36781"
START_TIME = 2007-09-27T08:19:29.957Z
STOP_TIME = 2007-09-27T08:25:08.950Z
/* ORBITAL DATA ELEMENTS */
ASCENDING_NODE_LONGITUDE = 128.21
MAXIMUM_RESOLUTION = 73.4
FOOTPRINT_POINT_LATITUDE = (-71.4718,-71.5725,-71.6712,-71.7456, -71.8076,-71.8622,-71.5939,-71.0599, -70.5192,-69.8337,-69.4177,-68.858, -68.2904,-67.7159,-67.28,-66.8395, -66.5452,-66.2488,-65.9498,-65.649, -65.3461,-65.0411,-64.7344,-64.4259, -64.1161,-63.8028,-63.488,-63.1708, -62.8527,-62.5315,-62.2084,-61.883, -61.5556,-61.2264,-60.8947,-60.5611, -60.2248,-59.8868,-59.5465,-59.2042, -58.8628,-58.5227,-58.1842,-57.8472, -57.5117,-57.1775,-56.8449,-56.4729, -56.474,-56.4702,-56.464,-56.4503, -56.4349,-56.4157,-56.3958,-56.3625, -56.3316,-56.3017,-56.2686,-56.2208, -56.546,-56.8726,-57.2007,-57.5302, -57.861,-58.1938,-58.528,-59.032, -59.3682,-59.7021,-60.0335,-60.5285, -60.8554,-61.1797,-61.502,-61.8222, -62.1403,-62.4564,-62.77,-63.0816, -63.3919,-63.6998,-64.0055,-64.3093, -64.6108,-64.9104,-65.2093,-65.5063, -65.8004,-66.3838,-66.9594,-67.6686, -68.2265,-68.6423,-69.1893,-69.7295, -70.2629,-70.7895,-71.3095,-71.4718)
FOOTPRINT_POINT_LONGITUDE = (170.691,172.195,173.906,175.438, 176.982,178.736,179.362,179.552,179.735 ,179.952,180.074,180.223,180.373, 180.514,180.619,180.721,180.779,180.837 ,180.898,180.957,181.014,181.07,181.126 ,181.179,181.229,181.282,181.332, 181.384,181.429,181.476,181.522,181.568 ,181.611,181.654,181.695,181.736, 181.776,181.814,181.851,181.887,181.922 ,181.956,181.989,182.021,182.051, 182.081,182.109,181.805,181.044,180.285 ,179.695,178.855,178.184,177.514, 176.928,176.091,175.423,174.84,174.257, 173.476,173.446,173.415,173.382,173.347 ,173.309,173.27,173.229,173.163,173.116 ,173.068,173.016,172.94,172.886,172.829 ,172.77,172.708,172.644,172.579,172.509 ,172.439,172.368,172.294,172.216, 172.137,172.054,171.969,171.884,171.797 ,171.706,171.517,171.315,171.044,170.81 ,170.635,170.383,170.117,169.837, 169.541,169.228,170.691)
ORBIT_NUMBER = 4795
ORBITAL_ECCENTRICITY = 0.57
ORBITAL_INCLINATION = 86.69
ORBITAL_SEMIMAJOR_AXIS = 8562.61
PERIAPSIS_ALTITUDE = 299.34
PERIAPSIS_ARGUMENT_ANGLE = 234.65
PERIAPSIS_TIME = 2007-09-27T08:04:49.000Z
SPACECRAFT_ORIENTATION = (0.0,-1.0,0.0)
^MEX_ORIENTATION_DESC = "MEX_ORIENTATION_DESC.TXT"
SPACECRAFT_POINTING_MODE = NADIR
^MEX_POINTING_DESC = "MEX_POINTING_DESC.TXT"
RIGHT_ASCENSION = -1e+32
DECLINATION = -1e+32
OFFSET_ANGLE = -1e+32
SPACECRAFT_SOLAR_DISTANCE = 2.18949e+08
TARGET_NAME = MARS
/* CAMERA DATA ELEMENTS */
DETECTOR_TEMPERATURE = 18.3705
FOCAL_PLANE_TEMPERATURE = 8.7872
INST_CMPRS_NAME = "DISCRETE COSINE TRANSFORMATION (DCT)"
INST_CMPRS_RATIO = 9.87203
INST_CMPRS_QUALITY = 0
INST_CMPRS_QUANTZ_TBL_ID = 0
INSTRUMENT_TEMPERATURE = 11.6418
LENS_TEMPERATURE = 8.9911
MACROPIXEL_SIZE = 2
MISSING_FRAMES = 0
PIXEL_SUBSAMPLING_FLAG = N
SIGNAL_CHAIN_ID = 2
/* RADIOMETRIC DATA ELEMENTS */
BANDWIDTH = 88.0
CENTER_FILTER_WAVELENGTH = 538.0
RADIANCE_OFFSET = 1.08434
RADIANCE_SCALING_FACTOR = 0.00411174
REFLECTANCE_SCALING_FACTOR = 0.000169711
MEX:REFLECTANCE_OFFSET = 0.0447558
/* IMAGE OBJECT DEFINITIONS */
OBJECT = IMAGE
  INTERCHANGE_FORMAT = BINARY
  LINES = 9264
  LINE_SAMPLES = 3246
  SAMPLE_TYPE = UNSIGNED_INTEGER
  SAMPLE_BITS = 8
  BANDS = 1
  BAND_STORAGE_TYPE = BAND_SEQUENTIAL
  MAXIMUM = 255
  MEAN = 148.028
  MINIMUM = 1
  STANDARD_DEVIATION = 31.6775
END_OBJECT = IMAGE
/* MAP OBJECT DEFINITIONS */
OBJECT = IMAGE_MAP_PROJECTION
  ^DATA_SET_MAP_PROJECTION_CATALOG= "DSMAP.CAT"
  A_AXIS_RADIUS = 3396.0
  B_AXIS_RADIUS = 3396.0
  C_AXIS_RADIUS = 3396.0
  CENTER_LATITUDE = 0.0
  CENTER_LONGITUDE = 177.0
  COORDINATE_SYSTEM_NAME = PLANETOGRAPHIC
  COORDINATE_SYSTEM_TYPE = "BODY-FIXED ROTATING"
  EASTERNMOST_LONGITUDE = 182.109
  FIRST_STANDARD_PARALLEL = "N/A"
  LINE_FIRST_PIXEL = 1
  LINE_LAST_PIXEL = 9264
  LINE_PROJECTION_OFFSET = -33327.75
  MAP_PROJECTION_ROTATION = 0.0
  MAP_PROJECTION_TYPE = SINUSOIDAL
  MAP_RESOLUTION = 592.713803866667
  MAP_SCALE = 0.1
  MAXIMUM_LATITUDE = -56.2208
  MINIMUM_LATITUDE = -71.8622
  POSITIVE_LONGITUDE_DIRECTION = EAST
  REFERENCE_LATITUDE = "N/A"
  REFERENCE_LONGITUDE = "N/A"
  SAMPLE_FIRST_PIXEL = 1
  SAMPLE_LAST_PIXEL = 3246
  SAMPLE_PROJECTION_OFFSET = 1496.25
  SECOND_STANDARD_PARALLEL = "N/A"
  WESTERNMOST_LONGITUDE = 169.228
END_OBJECT = IMAGE_MAP_PROJECTION
/* The JPEG2000 image data file associated with this label. */
OBJECT = COMPRESSED_FILE
  FILE_NAME = "H4795_0000_GR3.JP2"
  RECORD_TYPE = UNDEFINED
  FILE_RECORDS = UNK
  ENCODING_TYPE = "JP2"
  INTERCHANGE_FORMAT = BINARY
  UNCOMPRESSED_FILE_NAME = "H4795_0000_GR3.IMG"
  REQUIRED_STORAGE_BYTES = "30093666"
  ^DESCRIPTION = "JP2INFO.TXT"
END_OBJECT = COMPRESSED_FILE
END
