PDS_VERSION_ID = PDS3
/* FILE DATA ELEMENTS */
RECORD_TYPE = STREAM
/* POINTERS TO DATA OBJECTS */
^COMPRESSED_FILE = "H4799_0000_RE3.JP2"
/* IDENTIFICATION DATA ELEMENTS */
DATA_SET_ID = "MEX-M-HRSC-5-REFDR-MAPPROJECTED-V3.0"
DATA_SET_NAME = "MARS EXPRESS HRSC MAP PROJECTED REFDR V3.0"
DETECTOR_ID = MEX_HRSC_RED
EVENT_TYPE = "MARS-REGIONAL-MAPPING-Gl-Ot"
INSTRUMENT_HOST_ID = MEX
INSTRUMENT_HOST_NAME = "MARS EXPRESS"
INSTRUMENT_ID = HRSC
INSTRUMENT_NAME = "HIGH RESOLUTION STEREO CAMERA"
MISSION_NAME = "MARS EXPRESS"
MISSION_PHASE_NAME = ME_Phase_10
PROCESSING_LEVEL_ID = 3
PRODUCT_CREATION_TIME = 2016-04-26T13:14:09.000Z
PRODUCT_ID = "H4799_0000_RE3.JP2"
RELEASE_ID = 0054
REVISION_ID = 0000
/* QUALITY DATA ELEMENTS */
DATA_QUALITY_ID = 1
DATA_QUALITY_DESC = "Data calculated based on original SPICE kernels"
/* TIME DATA ELEMENTS */
SPACECRAFT_CLOCK_START_COUNT = "1/0139057690.09068"
SPACECRAFT_CLOCK_STOP_COUNT = "1/0139058402.27718"
START_TIME = 2007-09-28T11:10:41.688Z
STOP_TIME = 2007-09-28T11:19:07.282Z
/* ORBITAL DATA ELEMENTS */
ASCENDING_NODE_LONGITUDE = 128.13
MAXIMUM_RESOLUTION = 68.2
FOOTPRINT_POINT_LATITUDE = (-80.932,-81.2595,-81.4965,-81.6247, -81.7336,-81.2269,-80.7582,-80.1071, -79.4493,-78.9508,-78.279,-77.9366, -77.5926,-77.2426,-76.8912,-76.5378, -76.182,-75.8241,-75.4626,-75.101, -74.7325,-74.3633,-73.8121,-73.4302, -72.8609,-72.4786,-72.0912,-71.7062, -71.3145,-70.9192,-70.5195,-70.1172, -69.7107,-69.0955,-68.4732,-68.0555, -67.635,-67.2121,-66.5686,-66.1392, -65.702,-65.2682,-64.8433,-64.4069, -63.9961,-63.5714,-62.9167,-62.9216, -62.9246,-62.9204,-62.8977,-62.8802, -62.8543,-62.8262,-62.7964,-62.7431, -62.7031,-62.8517,-63.2446,-63.6441, -64.0507,-64.464,-65.0906,-65.5089, -65.9242,-66.347,-66.7686,-67.1799, -67.5919,-67.9982,-68.4013,-68.8006, -69.1993,-69.5935,-69.9859,-70.3733, -70.7562,-71.1363,-71.5142,-71.8806, -72.2623,-72.6318,-72.9932,-73.5302, -73.8862,-74.4177,-74.7674,-75.2888, -75.6322,-76.1424,-76.4757,-76.9712, -77.3015,-77.9386,-78.5701,-79.0348, -79.633,-80.2204,-80.7916,-80.932)
FOOTPRINT_POINT_LONGITUDE = (123.758,128.387,132.626,135.454, 138.369,140.194,140.947,141.833,142.624 ,143.164,143.823,144.125,144.413, 144.685,144.945,145.195,145.434,145.662 ,145.882,146.094,146.294,146.487, 146.773,146.943,147.196,147.358,147.513 ,147.667,147.812,147.953,148.087, 148.218,148.344,148.526,148.7,148.813, 148.923,149.032,149.186,149.289,149.386 ,149.48,149.574,149.65,149.743,149.816, 149.604,148.695,147.79,146.773,145.082, 144.295,143.283,142.385,141.486,140.141 ,139.242,138.266,138.188,138.103, 138.008,137.904,137.737,137.622,137.505 ,137.366,137.219,137.076,136.919,136.76 ,136.594,136.421,136.236,136.046, 135.845,135.638,135.425,135.202,134.967 ,134.74,134.463,134.194,133.925,133.497 ,133.192,132.699,132.353,131.796, 131.404,130.778,130.344,129.648,129.14, 128.102,126.917,125.944,124.566,123.006 ,121.263,123.758)
ORBIT_NUMBER = 4799
ORBITAL_ECCENTRICITY = 0.57
ORBITAL_INCLINATION = 86.69
ORBITAL_SEMIMAJOR_AXIS = 8561.35
PERIAPSIS_ALTITUDE = 299.79
PERIAPSIS_ARGUMENT_ANGLE = 233.95
PERIAPSIS_TIME = 2007-09-28T10:57:32.000Z
SPACECRAFT_ORIENTATION = (0.0,-1.0,0.0)
^MEX_ORIENTATION_DESC = "MEX_ORIENTATION_DESC.TXT"
SPACECRAFT_POINTING_MODE = NADIR
^MEX_POINTING_DESC = "MEX_POINTING_DESC.TXT"
RIGHT_ASCENSION = -1e+32
DECLINATION = -1e+32
OFFSET_ANGLE = -1e+32
SPACECRAFT_SOLAR_DISTANCE = 2.19155e+08
TARGET_NAME = MARS
/* CAMERA DATA ELEMENTS */
DETECTOR_TEMPERATURE = 18.7783
FOCAL_PLANE_TEMPERATURE = 8.1755
INST_CMPRS_NAME = "DISCRETE COSINE TRANSFORMATION (DCT)"
INST_CMPRS_RATIO = 9.72038
INST_CMPRS_QUALITY = 0
INST_CMPRS_QUANTZ_TBL_ID = 0
INSTRUMENT_TEMPERATURE = 11.4379
LENS_TEMPERATURE = 8.9911
MACROPIXEL_SIZE = 2
MISSING_FRAMES = 0
PIXEL_SUBSAMPLING_FLAG = N
SIGNAL_CHAIN_ID = 3
/* RADIOMETRIC DATA ELEMENTS */
BANDWIDTH = 48.0
CENTER_FILTER_WAVELENGTH = 748.0
RADIANCE_OFFSET = 0.697638
RADIANCE_SCALING_FACTOR = 0.00363838
REFLECTANCE_SCALING_FACTOR = 0.00039879
MEX:REFLECTANCE_OFFSET = 0.0764656
/* IMAGE OBJECT DEFINITIONS */
OBJECT = IMAGE
  INTERCHANGE_FORMAT = BINARY
  LINES = 22754
  LINE_SAMPLES = 7976
  SAMPLE_TYPE = UNSIGNED_INTEGER
  SAMPLE_BITS = 8
  BANDS = 1
  BAND_STORAGE_TYPE = BAND_SEQUENTIAL
  MAXIMUM = 255
  MEAN = 108.177
  MINIMUM = 1
  STANDARD_DEVIATION = 42.1884
END_OBJECT = IMAGE
/* MAP OBJECT DEFINITIONS */
OBJECT = IMAGE_MAP_PROJECTION
  ^DATA_SET_MAP_PROJECTION_CATALOG= "DSMAP.CAT"
  A_AXIS_RADIUS = 3396.0
  B_AXIS_RADIUS = 3396.0
  C_AXIS_RADIUS = 3396.0
  CENTER_LATITUDE = 0.0
  CENTER_LONGITUDE = 140.0
  COORDINATE_SYSTEM_NAME = PLANETOGRAPHIC
  COORDINATE_SYSTEM_TYPE = "BODY-FIXED ROTATING"
  EASTERNMOST_LONGITUDE = 149.816
  FIRST_STANDARD_PARALLEL = "N/A"
  LINE_FIRST_PIXEL = 1
  LINE_LAST_PIXEL = 22754
  LINE_PROJECTION_OFFSET = -74265.75
  MAP_PROJECTION_ROTATION = 0.0
  MAP_PROJECTION_TYPE = SINUSOIDAL
  MAP_RESOLUTION = 1185.42760773333
  MAP_SCALE = 0.05
  MAXIMUM_LATITUDE = -62.7031
  MINIMUM_LATITUDE = -81.7336
  POSITIVE_LONGITUDE_DIRECTION = EAST
  REFERENCE_LATITUDE = "N/A"
  REFERENCE_LONGITUDE = "N/A"
  SAMPLE_FIRST_PIXEL = 1
  SAMPLE_LAST_PIXEL = 7976
  SAMPLE_PROJECTION_OFFSET = 3354.75
  SECOND_STANDARD_PARALLEL = "N/A"
  WESTERNMOST_LONGITUDE = 121.263
END_OBJECT = IMAGE_MAP_PROJECTION
/* The JPEG2000 image data file associated with this label. */
OBJECT = COMPRESSED_FILE
  FILE_NAME = "H4799_0000_RE3.JP2"
  RECORD_TYPE = UNDEFINED
  FILE_RECORDS = UNK
  ENCODING_TYPE = "JP2"
  INTERCHANGE_FORMAT = BINARY
  UNCOMPRESSED_FILE_NAME = "H4799_0000_RE3.IMG"
  REQUIRED_STORAGE_BYTES = "181517808"
  ^DESCRIPTION = "JP2INFO.TXT"
END_OBJECT = COMPRESSED_FILE
END
