PDS_VERSION_ID = PDS3
/* FILE DATA ELEMENTS */
RECORD_TYPE = STREAM
/* POINTERS TO DATA OBJECTS */
^COMPRESSED_FILE = "H4806_0000_S23.JP2"
/* IDENTIFICATION DATA ELEMENTS */
DATA_SET_ID = "MEX-M-HRSC-5-REFDR-MAPPROJECTED-V3.0"
DATA_SET_NAME = "MARS EXPRESS HRSC MAP PROJECTED REFDR V3.0"
DETECTOR_ID = MEX_HRSC_S2
EVENT_TYPE = "MARS-REGIONAL-MAPPING-Gl-Ot"
INSTRUMENT_HOST_ID = MEX
INSTRUMENT_HOST_NAME = "MARS EXPRESS"
INSTRUMENT_ID = HRSC
INSTRUMENT_NAME = "HIGH RESOLUTION STEREO CAMERA"
MISSION_NAME = "MARS EXPRESS"
MISSION_PHASE_NAME = ME_Phase_10
PROCESSING_LEVEL_ID = 3
PRODUCT_CREATION_TIME = 2016-04-26T18:31:19.000Z
PRODUCT_ID = "H4806_0000_S23.JP2"
RELEASE_ID = 0055
REVISION_ID = 0000
/* QUALITY DATA ELEMENTS */
DATA_QUALITY_ID = 1
DATA_QUALITY_DESC = "Data calculated based on original SPICE kernels"
/* TIME DATA ELEMENTS */
SPACECRAFT_CLOCK_START_COUNT = "1/0139227029.07292"
SPACECRAFT_CLOCK_STOP_COUNT = "1/0139227531.34653"
START_TIME = 2007-09-30T10:13:19.242Z
STOP_TIME = 2007-09-30T10:18:53.662Z
/* ORBITAL DATA ELEMENTS */
ASCENDING_NODE_LONGITUDE = 127.99
MAXIMUM_RESOLUTION = 71.3
FOOTPRINT_POINT_LATITUDE = (-81.8325,-82.0565,-82.1835,-82.3952, -82.5873,-82.7585,-82.9074,-83.1426, -82.7061,-82.2638,-81.8158,-81.3636, -81.0193,-80.5558,-80.3214,-80.0862, -79.85,-79.6114,-79.3719,-79.1313, -78.7697,-78.525,-78.2793,-78.0323, -77.7847,-77.5351,-77.2842,-77.0323, -76.7779,-76.5223,-76.2663,-76.0091, -75.7505,-75.3573,-75.0954,-74.8309, -74.5653,-74.2986,-74.0285,-73.7586, -73.4873,-73.0846,-72.8118,-72.5344, -72.2551,-71.9772,-71.693,-71.4193, -71.1343,-70.8475,-70.543,-70.5426, -70.5033,-70.4751,-70.4447,-70.4092, -70.3631,-70.2868,-70.2329,-70.1525, -70.0886,-70.3204,-70.7322,-71.0047, -71.2757,-71.5446,-71.8127,-72.0783, -72.3406,-72.7373,-73.127,-73.3861, -73.6452,-73.8999,-74.2804,-74.5329, -74.7819,-75.0347,-75.401,-75.647, -75.8909,-76.2555,-76.4948,-76.7328, -76.9696,-77.2043,-77.4374,-77.6689, -77.8989,-78.1272,-78.3538,-78.5781, -78.801,-79.2408,-79.6729,-80.0972, -80.5132,-80.9248,-81.5155,-81.8325)
FOOTPRINT_POINT_LONGITUDE = (148.856,151.394,152.981,155.922, 159.014,162.252,165.638,169.053,170.146 ,171.123,172.005,172.803,173.352, 174.028,174.343,174.646,174.937,175.215 ,175.482,175.739,176.108,176.341, 176.566,176.783,176.992,177.195,177.39, 177.579,177.761,177.938,178.109,178.275 ,178.437,178.668,178.818,178.963, 179.104,179.241,179.373,179.503,179.629 ,179.82,179.94,180.055,180.166,180.278, 180.382,180.495,180.597,180.696,180.273 ,179.219,177.627,176.444,175.396, 174.352,173.182,171.498,170.468,169.056 ,168.034,167.201,166.969,166.809, 166.643,166.473,166.297,166.117,165.935 ,165.638,165.335,165.122,164.899, 164.676,164.323,164.076,163.827,163.555 ,163.157,162.87,162.575,162.107,161.787 ,161.456,161.111,160.755,160.387, 160.005,159.608,159.196,158.768,158.326 ,157.867,156.894,155.845,154.71,153.479 ,152.114,149.902,148.856)
ORBIT_NUMBER = 4806
ORBITAL_ECCENTRICITY = 0.57
ORBITAL_INCLINATION = 86.69
ORBITAL_SEMIMAJOR_AXIS = 8565.6
PERIAPSIS_ALTITUDE = 299.7
PERIAPSIS_ARGUMENT_ANGLE = 232.73
PERIAPSIS_TIME = 2007-09-30T09:59:52.000Z
SPACECRAFT_ORIENTATION = (0.0,-1.0,0.0)
^MEX_ORIENTATION_DESC = "MEX_ORIENTATION_DESC.TXT"
SPACECRAFT_POINTING_MODE = NADIR
^MEX_POINTING_DESC = "MEX_POINTING_DESC.TXT"
RIGHT_ASCENSION = -1e+32
DECLINATION = -1e+32
OFFSET_ANGLE = -1e+32
SPACECRAFT_SOLAR_DISTANCE = 2.19518e+08
TARGET_NAME = MARS
/* CAMERA DATA ELEMENTS */
DETECTOR_TEMPERATURE = 18.3705
FOCAL_PLANE_TEMPERATURE = 8.3794
INST_CMPRS_NAME = "DISCRETE COSINE TRANSFORMATION (DCT)"
INST_CMPRS_RATIO = 12.1399
INST_CMPRS_QUALITY = 0
INST_CMPRS_QUANTZ_TBL_ID = 0
INSTRUMENT_TEMPERATURE = 11.0301
LENS_TEMPERATURE = 8.3794
MACROPIXEL_SIZE = 2
MISSING_FRAMES = 0
PIXEL_SUBSAMPLING_FLAG = N
SIGNAL_CHAIN_ID = 1
/* RADIOMETRIC DATA ELEMENTS */
BANDWIDTH = 178.0
CENTER_FILTER_WAVELENGTH = 679.0
RADIANCE_OFFSET = 2.51187
RADIANCE_SCALING_FACTOR = 0.0147204
REFLECTANCE_SCALING_FACTOR = 0.000375659
MEX:REFLECTANCE_OFFSET = 0.0641021
/* IMAGE OBJECT DEFINITIONS */
OBJECT = IMAGE
  INTERCHANGE_FORMAT = BINARY
  LINES = 15444
  LINE_SAMPLES = 7188
  SAMPLE_TYPE = UNSIGNED_INTEGER
  SAMPLE_BITS = 8
  BANDS = 1
  BAND_STORAGE_TYPE = BAND_SEQUENTIAL
  MAXIMUM = 241
  MEAN = 114.424
  MINIMUM = 1
  STANDARD_DEVIATION = 37.9283
END_OBJECT = IMAGE
/* MAP OBJECT DEFINITIONS */
OBJECT = IMAGE_MAP_PROJECTION
  ^DATA_SET_MAP_PROJECTION_CATALOG= "DSMAP.CAT"
  A_AXIS_RADIUS = 3396.0
  B_AXIS_RADIUS = 3396.0
  C_AXIS_RADIUS = 3396.0
  CENTER_LATITUDE = 0.0
  CENTER_LONGITUDE = 169.0
  COORDINATE_SYSTEM_NAME = PLANETOGRAPHIC
  COORDINATE_SYSTEM_TYPE = "BODY-FIXED ROTATING"
  EASTERNMOST_LONGITUDE = 180.696
  FIRST_STANDARD_PARALLEL = "N/A"
  LINE_FIRST_PIXEL = 1
  LINE_LAST_PIXEL = 15444
  LINE_PROJECTION_OFFSET = -83084.75
  MAP_PROJECTION_ROTATION = 0.0
  MAP_PROJECTION_TYPE = SINUSOIDAL
  MAP_RESOLUTION = 1185.42760773333
  MAP_SCALE = 0.05
  MAXIMUM_LATITUDE = -70.0886
  MINIMUM_LATITUDE = -83.1426
  POSITIVE_LONGITUDE_DIRECTION = EAST
  REFERENCE_LATITUDE = "N/A"
  REFERENCE_LONGITUDE = "N/A"
  SAMPLE_FIRST_PIXEL = 1
  SAMPLE_LAST_PIXEL = 7188
  SAMPLE_PROJECTION_OFFSET = 3268.25
  SECOND_STANDARD_PARALLEL = "N/A"
  WESTERNMOST_LONGITUDE = 148.856
END_OBJECT = IMAGE_MAP_PROJECTION
/* The JPEG2000 image data file associated with this label. */
OBJECT = COMPRESSED_FILE
  FILE_NAME = "H4806_0000_S23.JP2"
  RECORD_TYPE = UNDEFINED
  FILE_RECORDS = UNK
  ENCODING_TYPE = "JP2"
  INTERCHANGE_FORMAT = BINARY
  UNCOMPRESSED_FILE_NAME = "H4806_0000_S23.IMG"
  REQUIRED_STORAGE_BYTES = "111040224"
  ^DESCRIPTION = "JP2INFO.TXT"
END_OBJECT = COMPRESSED_FILE
END
