PDS_VERSION_ID = PDS3
/* FILE DATA ELEMENTS */
RECORD_TYPE = STREAM
/* POINTERS TO DATA OBJECTS */
^COMPRESSED_FILE = "H4808_0000_ND3.JP2"
/* IDENTIFICATION DATA ELEMENTS */
DATA_SET_ID = "MEX-M-HRSC-5-REFDR-MAPPROJECTED-V3.0"
DATA_SET_NAME = "MARS EXPRESS HRSC MAP PROJECTED REFDR V3.0"
DETECTOR_ID = MEX_HRSC_NADIR
EVENT_TYPE = "MARS-REGIONAL-MAPPING-Im-Fl"
INSTRUMENT_HOST_ID = MEX
INSTRUMENT_HOST_NAME = "MARS EXPRESS"
INSTRUMENT_ID = HRSC
INSTRUMENT_NAME = "HIGH RESOLUTION STEREO CAMERA"
MISSION_NAME = "MARS EXPRESS"
MISSION_PHASE_NAME = ME_Phase_10
PROCESSING_LEVEL_ID = 3
PRODUCT_CREATION_TIME = 2016-04-26T18:31:19.000Z
PRODUCT_ID = "H4808_0000_ND3.JP2"
RELEASE_ID = 0055
REVISION_ID = 0000
/* QUALITY DATA ELEMENTS */
DATA_QUALITY_ID = 1
DATA_QUALITY_DESC = "Data calculated based on original SPICE kernels"
/* TIME DATA ELEMENTS */
SPACECRAFT_CLOCK_START_COUNT = "1/0139275651.08385"
SPACECRAFT_CLOCK_STOP_COUNT = "1/0139276582.15135"
START_TIME = 2007-09-30T23:42:51.123Z
STOP_TIME = 2007-09-30T23:49:07.085Z
/* ORBITAL DATA ELEMENTS */
ASCENDING_NODE_LONGITUDE = 127.94
MAXIMUM_RESOLUTION = 42.5
FOOTPRINT_POINT_LATITUDE = (-69.244,-69.3527,-69.4131,-69.4972, -69.5543,-69.6278,-69.6651,-69.325, -68.9862,-68.6488,-68.3129,-67.9784, -67.6454,-67.3138,-66.9837,-66.6549, -66.3275,-66.0015,-65.677,-65.3539, -65.0321,-64.7116,-64.3926,-64.075, -63.7587,-63.4439,-63.1305,-62.8184, -62.5076,-62.1982,-61.8901,-61.5833, -61.2779,-60.9738,-60.6711,-60.3697, -60.0695,-59.7707,-59.4732,-58.8822, -58.2962,-57.7154,-57.1395,-56.5688, -56.0029,-55.4419,-54.8858,-54.3345, -54.3382,-54.3472,-54.3511,-54.3496, -54.3375,-54.3255,-54.3073,-54.2907, -54.2714,-54.2495,-54.2117,-54.1832, -54.1442,-54.6826,-55.226,-55.7744, -56.3278,-56.8863,-57.4499,-58.0187, -58.5927,-59.1717,-59.7561,-60.3456, -60.9404,-61.2399,-61.5407,-61.8428, -62.1463,-62.451,-62.7571,-63.0646, -63.3734,-63.6836,-63.9951,-64.308, -64.6223,-64.9379,-65.2549,-65.5732, -65.8928,-66.2137,-66.536,-66.8595, -67.1844,-67.5106,-67.8381,-68.167, -68.4972,-68.8287,-69.1614,-69.244)
FOOTPRINT_POINT_LONGITUDE = (333.306,334.915,335.928,337.558,338.89 ,341.162,342.869,342.963,343.05,343.135 ,343.217,343.295,343.371,343.446, 343.517,343.586,343.65,343.714,343.776, 343.836,343.892,343.945,343.998,344.047 ,344.096,344.145,344.193,344.24,344.283 ,344.325,344.364,344.401,344.439, 344.474,344.51,344.544,344.575,344.607, 344.639,344.7,344.754,344.808,344.856, 344.903,344.946,344.987,345.026,345.063 ,344.4,343.64,342.976,341.842,340.71, 340.049,339.294,338.728,338.163,337.597 ,336.748,336.185,335.478,335.447, 335.415,335.379,335.335,335.288,335.236 ,335.179,335.116,335.039,334.961,334.87 ,334.771,334.719,334.667,334.61,334.55, 334.487,334.422,334.354,334.284,334.211 ,334.134,334.054,333.971,333.885, 333.795,333.7,333.601,333.497,333.388, 333.274,333.154,333.03,332.899,332.764, 332.622,332.474,332.318,333.306)
ORBIT_NUMBER = 4808
ORBITAL_ECCENTRICITY = 0.57
ORBITAL_INCLINATION = 86.7
ORBITAL_SEMIMAJOR_AXIS = 8563.51
PERIAPSIS_ALTITUDE = 299.67
PERIAPSIS_ARGUMENT_ANGLE = 232.39
PERIAPSIS_TIME = 2007-09-30T23:26:16.000Z
SPACECRAFT_ORIENTATION = (0.0,-1.0,0.0)
^MEX_ORIENTATION_DESC = "MEX_ORIENTATION_DESC.TXT"
SPACECRAFT_POINTING_MODE = NADIR
^MEX_POINTING_DESC = "MEX_POINTING_DESC.TXT"
RIGHT_ASCENSION = -1e+32
DECLINATION = -1e+32
OFFSET_ANGLE = -1e+32
SPACECRAFT_SOLAR_DISTANCE = 2.19622e+08
TARGET_NAME = MARS
/* CAMERA DATA ELEMENTS */
DETECTOR_TEMPERATURE = 18.5744
FOCAL_PLANE_TEMPERATURE = 9.195
INST_CMPRS_NAME = "DISCRETE COSINE TRANSFORMATION (DCT)"
INST_CMPRS_RATIO = 7.31978
INST_CMPRS_QUALITY = 0
INST_CMPRS_QUANTZ_TBL_ID = 0
INSTRUMENT_TEMPERATURE = 11.234
LENS_TEMPERATURE = 9.6028
MACROPIXEL_SIZE = 1
MISSING_FRAMES = 0
PIXEL_SUBSAMPLING_FLAG = N
SIGNAL_CHAIN_ID = 0
/* RADIOMETRIC DATA ELEMENTS */
BANDWIDTH = 177.0
CENTER_FILTER_WAVELENGTH = 677.5
RADIANCE_OFFSET = 2.59061
RADIANCE_SCALING_FACTOR = 0.0151608
REFLECTANCE_SCALING_FACTOR = 0.000388476
MEX:REFLECTANCE_OFFSET = 0.0663813
/* IMAGE OBJECT DEFINITIONS */
OBJECT = IMAGE
  INTERCHANGE_FORMAT = BINARY
  LINES = 18395
  LINE_SAMPLES = 6754
  SAMPLE_TYPE = UNSIGNED_INTEGER
  SAMPLE_BITS = 8
  BANDS = 1
  BAND_STORAGE_TYPE = BAND_SEQUENTIAL
  MAXIMUM = 255
  MEAN = 136.946
  MINIMUM = 1
  STANDARD_DEVIATION = 34.3351
END_OBJECT = IMAGE
/* MAP OBJECT DEFINITIONS */
OBJECT = IMAGE_MAP_PROJECTION
  ^DATA_SET_MAP_PROJECTION_CATALOG= "DSMAP.CAT"
  A_AXIS_RADIUS = 3396.0
  B_AXIS_RADIUS = 3396.0
  C_AXIS_RADIUS = 3396.0
  CENTER_LATITUDE = 0.0
  CENTER_LONGITUDE = 340.0
  COORDINATE_SYSTEM_NAME = PLANETOGRAPHIC
  COORDINATE_SYSTEM_TYPE = "BODY-FIXED ROTATING"
  EASTERNMOST_LONGITUDE = 345.063
  FIRST_STANDARD_PARALLEL = "N/A"
  LINE_FIRST_PIXEL = 1
  LINE_LAST_PIXEL = 18395
  LINE_PROJECTION_OFFSET = -64186.0
  MAP_PROJECTION_ROTATION = 0.0
  MAP_PROJECTION_TYPE = SINUSOIDAL
  MAP_RESOLUTION = 1185.42760773333
  MAP_SCALE = 0.05
  MAXIMUM_LATITUDE = -54.1442
  MINIMUM_LATITUDE = -69.6651
  POSITIVE_LONGITUDE_DIRECTION = EAST
  REFERENCE_LATITUDE = "N/A"
  REFERENCE_LONGITUDE = "N/A"
  SAMPLE_FIRST_PIXEL = 1
  SAMPLE_LAST_PIXEL = 6754
  SAMPLE_PROJECTION_OFFSET = 3246.0
  SECOND_STANDARD_PARALLEL = "N/A"
  WESTERNMOST_LONGITUDE = 332.318
END_OBJECT = IMAGE_MAP_PROJECTION
/* The JPEG2000 image data file associated with this label. */
OBJECT = COMPRESSED_FILE
  FILE_NAME = "H4808_0000_ND3.JP2"
  RECORD_TYPE = UNDEFINED
  FILE_RECORDS = UNK
  ENCODING_TYPE = "JP2"
  INTERCHANGE_FORMAT = BINARY
  UNCOMPRESSED_FILE_NAME = "H4808_0000_ND3.IMG"
  REQUIRED_STORAGE_BYTES = "124273600"
  ^DESCRIPTION = "JP2INFO.TXT"
END_OBJECT = COMPRESSED_FILE
END
