PDS_VERSION_ID = PDS3
/* FILE DATA ELEMENTS */
RECORD_TYPE = STREAM
/* POINTERS TO DATA OBJECTS */
^COMPRESSED_FILE = "H4810_0000_RE3.JP2"
/* IDENTIFICATION DATA ELEMENTS */
DATA_SET_ID = "MEX-M-HRSC-5-REFDR-MAPPROJECTED-V3.0"
DATA_SET_NAME = "MARS EXPRESS HRSC MAP PROJECTED REFDR V3.0"
DETECTOR_ID = MEX_HRSC_RED
EVENT_TYPE = "MARS-REGIONAL-CARTOGRAPHY-Gl-La-At"
INSTRUMENT_HOST_ID = MEX
INSTRUMENT_HOST_NAME = "MARS EXPRESS"
INSTRUMENT_ID = HRSC
INSTRUMENT_NAME = "HIGH RESOLUTION STEREO CAMERA"
MISSION_NAME = "MARS EXPRESS"
MISSION_PHASE_NAME = ME_Phase_10
PROCESSING_LEVEL_ID = 3
PRODUCT_CREATION_TIME = 2016-04-26T18:31:19.000Z
PRODUCT_ID = "H4810_0000_RE3.JP2"
RELEASE_ID = 0055
REVISION_ID = 0000
/* QUALITY DATA ELEMENTS */
DATA_QUALITY_ID = 1
DATA_QUALITY_DESC = "Data calculated based on original SPICE kernels"
/* TIME DATA ELEMENTS */
SPACECRAFT_CLOCK_START_COUNT = "1/0139323633.07294"
SPACECRAFT_CLOCK_STOP_COUNT = "1/0139324033.22759"
START_TIME = 2007-10-01T13:02:17.354Z
STOP_TIME = 2007-10-01T13:07:00.000Z
/* ORBITAL DATA ELEMENTS */
ASCENDING_NODE_LONGITUDE = 127.91
MAXIMUM_RESOLUTION = 54.8
FOOTPRINT_POINT_LATITUDE = (-83.6393,-83.6271,-83.5909,-83.529, -83.4401,-83.2614,-83.7514,-84.0409, -84.4749,-84.7622,-85.1875,-85.7571, -86.0428,-86.3294,-86.6137,-86.8962, -87.1746,-87.5776,-87.8408,-88.2035, -88.5052,-88.6453,-88.7229,-88.7233, -88.6413,-88.488,-88.2818,-88.0384, -87.767,-87.4765,-87.171,-86.8565, -86.5318,-86.1982,-85.6833,-85.3343, -84.9794,-84.6197,-84.2555,-83.886, -83.3246,-82.9478,-82.5605,-82.1701, -81.7755,-81.3769,-80.9743,-80.5658, -80.1526,-79.7342,-79.7131,-79.6324, -79.5473,-79.4407,-79.3143,-79.1772, -79.596,-80.0102,-80.4198,-81.0273, -81.4173,-81.8061,-82.2007,-82.5804, -82.9587,-83.3257,-83.6909,-84.0531, -84.4113,-84.7641,-85.1106,-85.4499, -85.7819,-86.1075,-86.4251,-86.7344, -87.0322,-87.3158,-87.7093,-88.0459, -88.294,-88.3922,-88.429,-88.4003, -88.3104,-88.1694,-87.9902,-87.6695, -87.4325,-87.1843,-86.7955,-86.382, -86.1096,-85.5715,-85.1553,-84.5957, -84.0349,-83.4873,-83.6393)
FOOTPRINT_POINT_LONGITUDE = (344.458,341.124,337.72,334.275,330.809 ,325.83,323.627,323.115,322.246,321.549 ,320.306,318.236,316.97,315.499,313.766 ,311.687,309.188,304.268,299.963, 291.141,278.192,266.707,253.027,238.315 ,224.397,212.617,203.286,196.081, 190.299,185.903,182.325,179.58,177.294, 175.332,172.854,171.559,170.424,169.441 ,168.574,167.799,166.815,166.297, 165.729,165.239,164.797,164.403,164.048 ,163.713,163.408,163.122,159.899,155.28 ,152.35,149.544,146.865,144.407,144.077 ,143.725,143.347,142.733,142.254, 141.746,141.22,140.617,139.965,139.229, 138.423,137.532,136.536,135.414,134.141 ,132.686,131.017,129.081,126.815, 124.135,120.933,117.074,109.622,99.4666 ,85.9816,75.2662,63.6241,52.0284, 41.3323,32.0544,24.3845,15.3533,10.7096 ,6.9026,2.34852,358.618,356.705,353.751 ,351.883,349.833,348.176,346.882, 344.458)
ORBIT_NUMBER = 4810
ORBITAL_ECCENTRICITY = 0.57
ORBITAL_INCLINATION = 86.7
ORBITAL_SEMIMAJOR_AXIS = 8564.21
PERIAPSIS_ALTITUDE = 300.07
PERIAPSIS_ARGUMENT_ANGLE = 232.03
PERIAPSIS_TIME = 2007-10-01T12:52:34.000Z
SPACECRAFT_ORIENTATION = (0.0,-1.0,0.0)
^MEX_ORIENTATION_DESC = "MEX_ORIENTATION_DESC.TXT"
SPACECRAFT_POINTING_MODE = INERT
^MEX_POINTING_DESC = "MEX_POINTING_DESC.TXT"
RIGHT_ASCENSION = 242.54
DECLINATION = 64.635
OFFSET_ANGLE = -1e+32
SPACECRAFT_SOLAR_DISTANCE = 2.19726e+08
TARGET_NAME = MARS
/* CAMERA DATA ELEMENTS */
DETECTOR_TEMPERATURE = 18.7783
FOCAL_PLANE_TEMPERATURE = 9.195
INST_CMPRS_NAME = "DISCRETE COSINE TRANSFORMATION (DCT)"
INST_CMPRS_RATIO = 8.18853
INST_CMPRS_QUALITY = 0
INST_CMPRS_QUANTZ_TBL_ID = 0
INSTRUMENT_TEMPERATURE = 11.4379
LENS_TEMPERATURE = 9.3989
MACROPIXEL_SIZE = 2
MISSING_FRAMES = 0
PIXEL_SUBSAMPLING_FLAG = N
SIGNAL_CHAIN_ID = 3
/* RADIOMETRIC DATA ELEMENTS */
BANDWIDTH = 48.0
CENTER_FILTER_WAVELENGTH = 748.0
RADIANCE_OFFSET = 0.609729
RADIANCE_SCALING_FACTOR = 0.00539704
REFLECTANCE_SCALING_FACTOR = 0.000594633
MEX:REFLECTANCE_OFFSET = 0.0671785
/* IMAGE OBJECT DEFINITIONS */
OBJECT = IMAGE
  INTERCHANGE_FORMAT = BINARY
  LINES = 19438
  LINE_SAMPLES = 11287
  SAMPLE_TYPE = UNSIGNED_INTEGER
  SAMPLE_BITS = 8
  BANDS = 1
  BAND_STORAGE_TYPE = BAND_SEQUENTIAL
  MAXIMUM = 255
  MEAN = 82.0068
  MINIMUM = 1
  STANDARD_DEVIATION = 46.4995
END_OBJECT = IMAGE
/* MAP OBJECT DEFINITIONS */
OBJECT = IMAGE_MAP_PROJECTION
  ^DATA_SET_MAP_PROJECTION_CATALOG= "DSMAP.CAT"
  A_AXIS_RADIUS = 3396.0
  B_AXIS_RADIUS = 3396.0
  C_AXIS_RADIUS = 3396.0
  CENTER_LATITUDE = -90.0
  CENTER_LONGITUDE = 0.0
  COORDINATE_SYSTEM_NAME = PLANETOGRAPHIC
  COORDINATE_SYSTEM_TYPE = "BODY-FIXED ROTATING"
  EASTERNMOST_LONGITUDE = 360.0
  FIRST_STANDARD_PARALLEL = "N/A"
  LINE_FIRST_PIXEL = 1
  LINE_LAST_PIXEL = 19438
  LINE_PROJECTION_OFFSET = 7614.25
  MAP_PROJECTION_ROTATION = 0.0
  MAP_PROJECTION_TYPE = STEREOGRAPHIC
  MAP_RESOLUTION = 1185.42760773333
  MAP_SCALE = 0.05
  MAXIMUM_LATITUDE = -79.1772
  MINIMUM_LATITUDE = -90.0
  POSITIVE_LONGITUDE_DIRECTION = EAST
  REFERENCE_LATITUDE = "N/A"
  REFERENCE_LONGITUDE = "N/A"
  SAMPLE_FIRST_PIXEL = 1
  SAMPLE_LAST_PIXEL = 11287
  SAMPLE_PROJECTION_OFFSET = 4233.75
  SECOND_STANDARD_PARALLEL = "N/A"
  WESTERNMOST_LONGITUDE = 0.0
END_OBJECT = IMAGE_MAP_PROJECTION
/* The JPEG2000 image data file associated with this label. */
OBJECT = COMPRESSED_FILE
  FILE_NAME = "H4810_0000_RE3.JP2"
  RECORD_TYPE = UNDEFINED
  FILE_RECORDS = UNK
  ENCODING_TYPE = "JP2"
  INTERCHANGE_FORMAT = BINARY
  UNCOMPRESSED_FILE_NAME = "H4810_0000_RE3.IMG"
  REQUIRED_STORAGE_BYTES = "219430567"
  ^DESCRIPTION = "JP2INFO.TXT"
END_OBJECT = COMPRESSED_FILE
END
