PDS_VERSION_ID = PDS3
/* FILE DATA ELEMENTS */
RECORD_TYPE = STREAM
/* POINTERS TO DATA OBJECTS */
^COMPRESSED_FILE = "H4815_0000_ND3.JP2"
/* IDENTIFICATION DATA ELEMENTS */
DATA_SET_ID = "MEX-M-HRSC-5-REFDR-MAPPROJECTED-V3.0"
DATA_SET_NAME = "MARS EXPRESS HRSC MAP PROJECTED REFDR V3.0"
DETECTOR_ID = MEX_HRSC_NADIR
EVENT_TYPE = "MARS-REGIONAL-MAPPING-Pf-Eo"
INSTRUMENT_HOST_ID = MEX
INSTRUMENT_HOST_NAME = "MARS EXPRESS"
INSTRUMENT_ID = HRSC
INSTRUMENT_NAME = "HIGH RESOLUTION STEREO CAMERA"
MISSION_NAME = "MARS EXPRESS"
MISSION_PHASE_NAME = ME_Phase_10
PROCESSING_LEVEL_ID = 3
PRODUCT_CREATION_TIME = 2016-04-26T18:31:19.000Z
PRODUCT_ID = "H4815_0000_ND3.JP2"
RELEASE_ID = 0055
REVISION_ID = 0000
/* QUALITY DATA ELEMENTS */
DATA_QUALITY_ID = 2
DATA_QUALITY_DESC = "Data calculated based on photogrammetrically improved orbit and attitude data"
/* TIME DATA ELEMENTS */
SPACECRAFT_CLOCK_START_COUNT = "1/0139444947.08796"
SPACECRAFT_CLOCK_STOP_COUNT = "1/0139446099.49841"
START_TIME = 2007-10-02T22:44:18.778Z
STOP_TIME = 2007-10-02T22:52:47.701Z
/* ORBITAL DATA ELEMENTS */
ASCENDING_NODE_LONGITUDE = 127.8
MAXIMUM_RESOLUTION = 40.2
FOOTPRINT_POINT_LATITUDE = (-72.4717,-72.6602,-72.7604,-72.8298, -72.9226,-72.9729,-72.2457,-71.5071, -70.7567,-69.9941,-69.2188,-68.4308, -68.0321,-67.6299,-67.2242,-66.8154, -66.4032,-65.9875,-65.5682,-65.1454, -64.7191,-64.2894,-63.8558,-63.419, -62.9778,-62.5331,-62.0846,-61.6362, -61.1907,-60.7481,-60.3083,-59.8713, -59.4373,-59.006,-58.5774,-58.1515, -57.7286,-57.3083,-56.8907,-56.4758, -56.0635,-55.6539,-55.247,-54.8426, -54.4408,-54.0416,-53.2507,-52.4698, -52.4561,-52.4723,-52.4794,-52.4812, -52.4782,-52.4712,-52.4544,-52.4353, -52.3969,-52.3605,-52.3277,-52.6783, -53.4434,-54.219,-55.005,-55.4021, -55.8019,-56.2043,-56.6095,-57.0176, -57.4282,-57.8416,-58.2579,-58.6769, -59.0988,-59.5236,-59.9511,-60.3815, -60.8148,-61.251,-61.6901,-62.1297, -62.5658,-62.9984,-63.4271,-63.8522, -64.2735,-64.6915,-65.1061,-65.5171, -65.9244,-66.3285,-66.7291,-67.1267, -67.5205,-67.911,-68.6821,-69.4406, -70.1858,-70.9181,-71.6385,-72.4717)
FOOTPRINT_POINT_LONGITUDE = (3.43357,6.21231,8.01769,9.49698, 12.0281,13.9422,14.2273,14.4912,14.7326 ,14.9652,15.1781,15.3765,15.4708, 15.5616,15.6486,15.7339,15.8167,15.8964 ,15.9737,16.0486,16.1202,16.1896, 16.2564,16.3219,16.3856,16.4461,16.5045 ,16.5608,16.6138,16.6665,16.7146, 16.7611,16.8096,16.8522,16.8883,16.9237 ,16.9632,16.9989,17.0319,17.0627, 17.0944,17.1238,17.151,17.1774,17.2029, 17.2277,17.2722,17.3128,16.4316,15.4488 ,14.6655,13.7847,13.1014,12.4176, 11.4414,10.6601,9.4858,8.60717,7.92542, 7.37891,7.35329,7.32163,7.27773,7.25353 ,7.22606,7.1952,7.16234,7.12996,7.08863 ,7.04475,6.99961,6.94834,6.89542, 6.83853,6.77652,6.71038,6.63969,6.5646, 6.48426,6.39887,6.30986,6.21577,6.11762 ,6.01403,5.90524,5.79218,5.6743,5.55117 ,5.4228,5.28908,5.14989,5.00554,4.85434 ,4.69772,4.3645,4.00636,3.61563,3.19366 ,2.74208,3.43357)
ORBIT_NUMBER = 4815
ORBITAL_ECCENTRICITY = 0.57
ORBITAL_INCLINATION = 86.69
ORBITAL_SEMIMAJOR_AXIS = 8566.21
PERIAPSIS_ALTITUDE = 299.72
PERIAPSIS_ARGUMENT_ANGLE = 231.15
PERIAPSIS_TIME = 2007-10-02T22:28:29.000Z
SPACECRAFT_ORIENTATION = (0.0,-1.0,0.0)
^MEX_ORIENTATION_DESC = "MEX_ORIENTATION_DESC.TXT"
SPACECRAFT_POINTING_MODE = NADIR
^MEX_POINTING_DESC = "MEX_POINTING_DESC.TXT"
RIGHT_ASCENSION = -1e+32
DECLINATION = -1e+32
OFFSET_ANGLE = -1e+32
SPACECRAFT_SOLAR_DISTANCE = 2.19987e+08
TARGET_NAME = MARS
/* CAMERA DATA ELEMENTS */
DETECTOR_TEMPERATURE = 18.5744
FOCAL_PLANE_TEMPERATURE = 9.3989
INST_CMPRS_NAME = "DISCRETE COSINE TRANSFORMATION (DCT)"
INST_CMPRS_RATIO = 7.22508
INST_CMPRS_QUALITY = 0
INST_CMPRS_QUANTZ_TBL_ID = 0
INSTRUMENT_TEMPERATURE = 11.6418
LENS_TEMPERATURE = 9.6028
MACROPIXEL_SIZE = 1
MISSING_FRAMES = 0
PIXEL_SUBSAMPLING_FLAG = N
SIGNAL_CHAIN_ID = 0
/* RADIOMETRIC DATA ELEMENTS */
BANDWIDTH = 177.0
CENTER_FILTER_WAVELENGTH = 677.5
RADIANCE_OFFSET = 2.69994
RADIANCE_SCALING_FACTOR = 0.0144589
REFLECTANCE_SCALING_FACTOR = 0.000371724
MEX:REFLECTANCE_OFFSET = 0.0694128
/* IMAGE OBJECT DEFINITIONS */
OBJECT = IMAGE
  INTERCHANGE_FORMAT = BINARY
  LINES = 24503
  LINE_SAMPLES = 7717
  SAMPLE_TYPE = UNSIGNED_INTEGER
  SAMPLE_BITS = 8
  BANDS = 1
  BAND_STORAGE_TYPE = BAND_SEQUENTIAL
  MAXIMUM = 255
  MEAN = 129.59
  MINIMUM = 1
  STANDARD_DEVIATION = 35.2803
END_OBJECT = IMAGE
/* MAP OBJECT DEFINITIONS */
OBJECT = IMAGE_MAP_PROJECTION
  ^DATA_SET_MAP_PROJECTION_CATALOG= "DSMAP.CAT"
  A_AXIS_RADIUS = 3396.0
  B_AXIS_RADIUS = 3396.0
  C_AXIS_RADIUS = 3396.0
  CENTER_LATITUDE = 0.0
  CENTER_LONGITUDE = 11.0
  COORDINATE_SYSTEM_NAME = PLANETOGRAPHIC
  COORDINATE_SYSTEM_TYPE = "BODY-FIXED ROTATING"
  EASTERNMOST_LONGITUDE = 17.3128
  FIRST_STANDARD_PARALLEL = "N/A"
  LINE_FIRST_PIXEL = 1
  LINE_LAST_PIXEL = 24503
  LINE_PROJECTION_OFFSET = -62006.0
  MAP_PROJECTION_ROTATION = 0.0
  MAP_PROJECTION_TYPE = SINUSOIDAL
  MAP_RESOLUTION = 1185.42760773333
  MAP_SCALE = 0.05
  MAXIMUM_LATITUDE = -52.3277
  MINIMUM_LATITUDE = -72.9729
  POSITIVE_LONGITUDE_DIRECTION = EAST
  REFERENCE_LATITUDE = "N/A"
  REFERENCE_LONGITUDE = "N/A"
  SAMPLE_FIRST_PIXEL = 1
  SAMPLE_LAST_PIXEL = 7717
  SAMPLE_PROJECTION_OFFSET = 3128.0
  SECOND_STANDARD_PARALLEL = "N/A"
  WESTERNMOST_LONGITUDE = 2.74208
END_OBJECT = IMAGE_MAP_PROJECTION
/* The JPEG2000 image data file associated with this label. */
OBJECT = COMPRESSED_FILE
  FILE_NAME = "H4815_0000_ND3.JP2"
  RECORD_TYPE = UNDEFINED
  FILE_RECORDS = UNK
  ENCODING_TYPE = "JP2"
  INTERCHANGE_FORMAT = BINARY
  UNCOMPRESSED_FILE_NAME = "H4815_0000_ND3.IMG"
  REQUIRED_STORAGE_BYTES = "189120519"
  ^DESCRIPTION = "JP2INFO.TXT"
END_OBJECT = COMPRESSED_FILE
END
