PDS_VERSION_ID = PDS3
/* FILE DATA ELEMENTS */
RECORD_TYPE = STREAM
/* POINTERS TO DATA OBJECTS */
^COMPRESSED_FILE = "H4817_0000_S23.JP2"
/* IDENTIFICATION DATA ELEMENTS */
DATA_SET_ID = "MEX-M-HRSC-5-REFDR-MAPPROJECTED-V3.0"
DATA_SET_NAME = "MARS EXPRESS HRSC MAP PROJECTED REFDR V3.0"
DETECTOR_ID = MEX_HRSC_S2
EVENT_TYPE = "MARS-REGIONAL-MAPPING-Im-Fl-Ot"
INSTRUMENT_HOST_ID = MEX
INSTRUMENT_HOST_NAME = "MARS EXPRESS"
INSTRUMENT_ID = HRSC
INSTRUMENT_NAME = "HIGH RESOLUTION STEREO CAMERA"
MISSION_NAME = "MARS EXPRESS"
MISSION_PHASE_NAME = ME_Phase_10
PROCESSING_LEVEL_ID = 3
PRODUCT_CREATION_TIME = 2016-04-26T18:31:19.000Z
PRODUCT_ID = "H4817_0000_S23.JP2"
RELEASE_ID = 0055
REVISION_ID = 0000
/* QUALITY DATA ELEMENTS */
DATA_QUALITY_ID = 2
DATA_QUALITY_DESC = "Data calculated based on photogrammetrically improved orbit and attitude data"
/* TIME DATA ELEMENTS */
SPACECRAFT_CLOCK_START_COUNT = "1/0139493621.07276"
SPACECRAFT_CLOCK_STOP_COUNT = "1/0139494881.42654"
START_TIME = 2007-10-03T12:23:20.710Z
STOP_TIME = 2007-10-03T12:34:43.761Z
/* ORBITAL DATA ELEMENTS */
ASCENDING_NODE_LONGITUDE = 127.76
MAXIMUM_RESOLUTION = 186.1
FOOTPRINT_POINT_LATITUDE = (-57.6233,-57.635,-57.6453,-57.654, -57.6612,-57.667,-57.6712,-57.6741, -57.6754,-57.6753,-57.6738,-57.6709, -57.6665,-57.6607,-57.6535,-57.6449, -57.6348,-57.6234,-57.6104,-57.596, -57.5801,-57.5627,-57.5438,-57.5235, -57.5016,-57.4783,-57.3068,-57.0315, -56.7617,-56.4936,-56.2277,-55.9637, -55.4504,-54.9467,-54.4533,-53.9713, -53.4985,-53.0375,-52.5853,-52.1504, -51.8274,-51.2889,-50.7832,-50.1812, -49.6963,-49.3236,-48.9547,-48.5938, -48.241,-47.8956,-47.3107,-46.9905, -46.9964,-47.0935,-47.1463,-47.2328, -47.2926,-47.3675,-47.4699,-47.5214, -47.5724,-47.6564,-47.7463,-47.8182, -47.8793,-47.9565,-48.0016,-48.0633, -48.1073,-48.1675,-48.2297,-48.3164, -48.3752,-48.4032,-48.4577,-48.4982, -48.6172,-49.0638,-49.3906,-49.8923, -50.2453,-50.5457,-50.8593,-51.182, -51.5141,-51.8557,-52.2071,-52.5736, -53.0407,-53.3345,-53.7287,-54.1348, -54.5559,-54.9881,-55.4342,-55.8904, -56.3616,-56.8518,-57.2309,-57.6233)
FOOTPRINT_POINT_LONGITUDE = (169.159,169.717,170.274,170.83,171.386 ,171.941,172.496,173.05,173.604,174.157 ,174.71,175.263,175.816,176.368,176.92, 177.471,178.022,178.574,179.126,179.678 ,180.23,180.783,181.337,181.891,182.446 ,183.001,183.482,183.542,183.604, 183.665,183.724,183.782,183.903,184.021 ,184.138,184.255,184.37,184.487,184.602 ,184.723,184.812,184.95,185.103,185.278 ,185.426,185.55,185.671,185.793,185.916 ,186.04,186.261,186.392,185.579,184.735 ,184.226,183.56,182.878,182.208,181.199 ,180.695,180.191,179.352,178.513, 177.669,176.993,176.147,175.638,174.959 ,174.447,173.764,173.079,172.045, 171.352,170.834,170.136,169.611,168.847 ,168.876,168.9,168.924,168.949,168.966, 168.981,168.995,169.008,169.021,169.032 ,169.04,169.05,169.052,169.057,169.059, 169.056,169.051,169.042,169.03,169.012, 168.986,168.961,169.159)
ORBIT_NUMBER = 4817
ORBITAL_ECCENTRICITY = 0.57
ORBITAL_INCLINATION = 86.69
ORBITAL_SEMIMAJOR_AXIS = 8568.6
PERIAPSIS_ALTITUDE = 299.96
PERIAPSIS_ARGUMENT_ANGLE = 230.82
PERIAPSIS_TIME = 2007-10-03T11:54:53.000Z
SPACECRAFT_ORIENTATION = (0.0,-1.0,0.0)
^MEX_ORIENTATION_DESC = "MEX_ORIENTATION_DESC.TXT"
SPACECRAFT_POINTING_MODE = NADIR
^MEX_POINTING_DESC = "MEX_POINTING_DESC.TXT"
RIGHT_ASCENSION = -1e+32
DECLINATION = -1e+32
OFFSET_ANGLE = -1e+32
SPACECRAFT_SOLAR_DISTANCE = 2.20092e+08
TARGET_NAME = MARS
/* CAMERA DATA ELEMENTS */
DETECTOR_TEMPERATURE = 18.7783
FOCAL_PLANE_TEMPERATURE = 8.3794
INST_CMPRS_NAME = "DISCRETE COSINE TRANSFORMATION (DCT)"
INST_CMPRS_RATIO = 10.7237
INST_CMPRS_QUALITY = 0
INST_CMPRS_QUANTZ_TBL_ID = 0
INSTRUMENT_TEMPERATURE = 11.0301
LENS_TEMPERATURE = 8.7872
MACROPIXEL_SIZE = 2
MISSING_FRAMES = 0
PIXEL_SUBSAMPLING_FLAG = N
SIGNAL_CHAIN_ID = 1
/* RADIOMETRIC DATA ELEMENTS */
BANDWIDTH = 178.0
CENTER_FILTER_WAVELENGTH = 679.0
RADIANCE_OFFSET = 3.77331
RADIANCE_SCALING_FACTOR = 0.0188567
REFLECTANCE_SCALING_FACTOR = 0.000483741
MEX:REFLECTANCE_OFFSET = 0.0967986
/* IMAGE OBJECT DEFINITIONS */
OBJECT = IMAGE
  INTERCHANGE_FORMAT = BINARY
  LINES = 6098
  LINE_SAMPLES = 4101
  SAMPLE_TYPE = UNSIGNED_INTEGER
  SAMPLE_BITS = 8
  BANDS = 1
  BAND_STORAGE_TYPE = BAND_SEQUENTIAL
  MAXIMUM = 207
  MEAN = 114.707
  MINIMUM = 1
  STANDARD_DEVIATION = 33.6009
END_OBJECT = IMAGE
/* MAP OBJECT DEFINITIONS */
OBJECT = IMAGE_MAP_PROJECTION
  ^DATA_SET_MAP_PROJECTION_CATALOG= "DSMAP.CAT"
  A_AXIS_RADIUS = 3396.0
  B_AXIS_RADIUS = 3396.0
  C_AXIS_RADIUS = 3396.0
  CENTER_LATITUDE = 0.0
  CENTER_LONGITUDE = 176.0
  COORDINATE_SYSTEM_NAME = PLANETOGRAPHIC
  COORDINATE_SYSTEM_TYPE = "BODY-FIXED ROTATING"
  EASTERNMOST_LONGITUDE = 186.392
  FIRST_STANDARD_PARALLEL = "N/A"
  LINE_FIRST_PIXEL = 1
  LINE_LAST_PIXEL = 6098
  LINE_PROJECTION_OFFSET = -28171.25
  MAP_PROJECTION_ROTATION = 0.0
  MAP_PROJECTION_TYPE = SINUSOIDAL
  MAP_RESOLUTION = 592.713803866667
  MAP_SCALE = 0.1
  MAXIMUM_LATITUDE = -46.9905
  MINIMUM_LATITUDE = -57.6754
  POSITIVE_LONGITUDE_DIRECTION = EAST
  REFERENCE_LATITUDE = "N/A"
  REFERENCE_LONGITUDE = "N/A"
  SAMPLE_FIRST_PIXEL = 1
  SAMPLE_LAST_PIXEL = 4101
  SAMPLE_PROJECTION_OFFSET = 2112.75
  SECOND_STANDARD_PARALLEL = "N/A"
  WESTERNMOST_LONGITUDE = 168.847
END_OBJECT = IMAGE_MAP_PROJECTION
/* The JPEG2000 image data file associated with this label. */
OBJECT = COMPRESSED_FILE
  FILE_NAME = "H4817_0000_S23.JP2"
  RECORD_TYPE = UNDEFINED
  FILE_RECORDS = UNK
  ENCODING_TYPE = "JP2"
  INTERCHANGE_FORMAT = BINARY
  UNCOMPRESSED_FILE_NAME = "H4817_0000_S23.IMG"
  REQUIRED_STORAGE_BYTES = "25032504"
  ^DESCRIPTION = "JP2INFO.TXT"
END_OBJECT = COMPRESSED_FILE
END
