PDS_VERSION_ID = PDS3
/* FILE DATA ELEMENTS */
RECORD_TYPE = STREAM
/* POINTERS TO DATA OBJECTS */
^COMPRESSED_FILE = "H4852_0000_GR3.JP2"
/* IDENTIFICATION DATA ELEMENTS */
DATA_SET_ID = "MEX-M-HRSC-5-REFDR-MAPPROJECTED-V3.0"
DATA_SET_NAME = "MARS EXPRESS HRSC MAP PROJECTED REFDR V3.0"
DETECTOR_ID = MEX_HRSC_GREEN
EVENT_TYPE = "MARS-REGIONAL-MAPPING-Im-Fl-Gl"
INSTRUMENT_HOST_ID = MEX
INSTRUMENT_HOST_NAME = "MARS EXPRESS"
INSTRUMENT_ID = HRSC
INSTRUMENT_NAME = "HIGH RESOLUTION STEREO CAMERA"
MISSION_NAME = "MARS EXPRESS"
MISSION_PHASE_NAME = ME_Phase_10
PROCESSING_LEVEL_ID = 3
PRODUCT_CREATION_TIME = 2016-04-26T18:31:19.000Z
PRODUCT_ID = "H4852_0000_GR3.JP2"
RELEASE_ID = 0055
REVISION_ID = 0000
/* QUALITY DATA ELEMENTS */
DATA_QUALITY_ID = 1
DATA_QUALITY_DESC = "Data calculated based on original SPICE kernels"
/* TIME DATA ELEMENTS */
SPACECRAFT_CLOCK_START_COUNT = "1/0140339966.09076"
SPACECRAFT_CLOCK_STOP_COUNT = "1/0140340590.17691"
START_TIME = 2007-10-13T07:20:49.298Z
STOP_TIME = 2007-10-13T07:24:57.597Z
/* ORBITAL DATA ELEMENTS */
ASCENDING_NODE_LONGITUDE = 127.05
MAXIMUM_RESOLUTION = 73.1
FOOTPRINT_POINT_LATITUDE = (-81.001,-81.1225,-81.2387,-81.3498, -81.4554,-81.5794,-81.6718,-81.7582, -81.8383,-81.912,-81.9871,-82.0535, -81.8709,-81.4673,-81.0592,-80.6459, -80.2287,-79.8065,-79.4868,-79.0568, -78.6219,-78.0719,-77.6268,-77.1771, -76.9506,-76.7231,-76.4941,-76.2637, -76.0323,-75.7998,-75.5661,-75.3309, -75.0946,-74.8571,-74.6185,-74.3787, -74.1376,-73.8951,-73.6517,-73.4071, -73.1511,-72.9036,-72.6551,-72.4054, -72.1544,-71.9018,-71.648,-71.3928, -71.1363,-70.8682,-70.6086,-70.5785, -70.5616,-70.54,-70.5019,-70.465, -70.4173,-70.3748,-70.3071,-70.2063, -70.1363,-70.0722,-70.0956,-70.357, -70.607,-70.8556,-71.1027,-71.3482, -71.5927,-71.8354,-72.0765,-72.3165, -72.5556,-72.9209,-73.1556,-73.3896, -73.6219,-73.8528,-74.0825,-74.3108, -74.5379,-74.7636,-74.9879,-75.2105, -75.4319,-75.652,-75.8702,-76.3027, -76.7298,-77.1508,-77.5665,-77.9762, -78.4795,-78.9734,-79.3613,-79.7425, -80.1166,-80.4839,-80.7551,-81.001)
FOOTPRINT_POINT_LONGITUDE = (312.153,313.505,314.891,316.314, 317.774,319.648,321.183,322.752,324.354 ,325.986,327.862,329.772,331.336, 332.006,332.619,333.187,333.706,334.187 ,334.524,334.945,335.337,335.787, 336.123,336.433,336.581,336.724,336.864 ,337.0,337.131,337.257,337.379,337.5, 337.617,337.731,337.839,337.946,338.05, 338.154,338.25,338.344,338.44,338.531, 338.618,338.701,338.782,338.862,338.941 ,339.016,339.09,339.167,339.239,338.36, 337.474,336.592,335.338,334.34,333.221, 332.355,331.123,329.533,328.561,327.719 ,326.405,326.257,326.11,325.959,325.804 ,325.645,325.482,325.314,325.14,324.962 ,324.781,324.492,324.295,324.094, 323.888,323.675,323.457,323.232,323.002 ,322.764,322.52,322.268,322.009,321.743 ,321.468,320.894,320.286,319.64,318.953 ,318.224,317.243,316.182,315.267, 314.288,313.241,312.118,311.222, 312.153)
ORBIT_NUMBER = 4852
ORBITAL_ECCENTRICITY = 0.57
ORBITAL_INCLINATION = 86.71
ORBITAL_SEMIMAJOR_AXIS = 8575.67
PERIAPSIS_ALTITUDE = 300.86
PERIAPSIS_ARGUMENT_ANGLE = 224.72
PERIAPSIS_TIME = 2007-10-13T07:06:15.000Z
SPACECRAFT_ORIENTATION = (0.0,-1.0,0.0)
^MEX_ORIENTATION_DESC = "MEX_ORIENTATION_DESC.TXT"
SPACECRAFT_POINTING_MODE = NADIR
^MEX_POINTING_DESC = "MEX_POINTING_DESC.TXT"
RIGHT_ASCENSION = -1e+32
DECLINATION = -1e+32
OFFSET_ANGLE = -1e+32
SPACECRAFT_SOLAR_DISTANCE = 2.2195e+08
TARGET_NAME = MARS
/* CAMERA DATA ELEMENTS */
DETECTOR_TEMPERATURE = 18.5744
FOCAL_PLANE_TEMPERATURE = 8.7872
INST_CMPRS_NAME = "DISCRETE COSINE TRANSFORMATION (DCT)"
INST_CMPRS_RATIO = 14.0528
INST_CMPRS_QUALITY = 0
INST_CMPRS_QUANTZ_TBL_ID = 0
INSTRUMENT_TEMPERATURE = 11.6418
LENS_TEMPERATURE = 9.195
MACROPIXEL_SIZE = 2
MISSING_FRAMES = 2
PIXEL_SUBSAMPLING_FLAG = N
SIGNAL_CHAIN_ID = 2
/* RADIOMETRIC DATA ELEMENTS */
BANDWIDTH = 88.0
CENTER_FILTER_WAVELENGTH = 538.0
RADIANCE_OFFSET = 0.807312
RADIANCE_SCALING_FACTOR = 0.00345374
REFLECTANCE_SCALING_FACTOR = 0.000146487
MEX:REFLECTANCE_OFFSET = 0.0342413
/* IMAGE OBJECT DEFINITIONS */
OBJECT = IMAGE
  INTERCHANGE_FORMAT = BINARY
  LINES = 14338
  LINE_SAMPLES = 7513
  SAMPLE_TYPE = UNSIGNED_INTEGER
  SAMPLE_BITS = 8
  BANDS = 1
  BAND_STORAGE_TYPE = BAND_SEQUENTIAL
  MAXIMUM = 255
  MEAN = 107.699
  MINIMUM = 1
  STANDARD_DEVIATION = 36.6272
END_OBJECT = IMAGE
/* MAP OBJECT DEFINITIONS */
OBJECT = IMAGE_MAP_PROJECTION
  ^DATA_SET_MAP_PROJECTION_CATALOG= "DSMAP.CAT"
  A_AXIS_RADIUS = 3396.0
  B_AXIS_RADIUS = 3396.0
  C_AXIS_RADIUS = 3396.0
  CENTER_LATITUDE = 0.0
  CENTER_LONGITUDE = 329.0
  COORDINATE_SYSTEM_NAME = PLANETOGRAPHIC
  COORDINATE_SYSTEM_TYPE = "BODY-FIXED ROTATING"
  EASTERNMOST_LONGITUDE = 339.239
  FIRST_STANDARD_PARALLEL = "N/A"
  LINE_FIRST_PIXEL = 1
  LINE_LAST_PIXEL = 14338
  LINE_PROJECTION_OFFSET = -82943.25
  MAP_PROJECTION_ROTATION = 0.0
  MAP_PROJECTION_TYPE = SINUSOIDAL
  MAP_RESOLUTION = 1185.42760773333
  MAP_SCALE = 0.05
  MAXIMUM_LATITUDE = -70.0722
  MINIMUM_LATITUDE = -82.0535
  POSITIVE_LONGITUDE_DIRECTION = EAST
  REFERENCE_LATITUDE = "N/A"
  REFERENCE_LONGITUDE = "N/A"
  SAMPLE_FIRST_PIXEL = 1
  SAMPLE_LAST_PIXEL = 7513
  SAMPLE_PROJECTION_OFFSET = 3421.75
  SECOND_STANDARD_PARALLEL = "N/A"
  WESTERNMOST_LONGITUDE = 311.222
END_OBJECT = IMAGE_MAP_PROJECTION
/* The JPEG2000 image data file associated with this label. */
OBJECT = COMPRESSED_FILE
  FILE_NAME = "H4852_0000_GR3.JP2"
  RECORD_TYPE = UNDEFINED
  FILE_RECORDS = UNK
  ENCODING_TYPE = "JP2"
  INTERCHANGE_FORMAT = BINARY
  UNCOMPRESSED_FILE_NAME = "H4852_0000_GR3.IMG"
  REQUIRED_STORAGE_BYTES = "107751446"
  ^DESCRIPTION = "JP2INFO.TXT"
END_OBJECT = COMPRESSED_FILE
END
