PDS_VERSION_ID = PDS3
/* FILE DATA ELEMENTS */
RECORD_TYPE = STREAM
/* POINTERS TO DATA OBJECTS */
^COMPRESSED_FILE = "H4887_0000_BL3.JP2"
/* IDENTIFICATION DATA ELEMENTS */
DATA_SET_ID = "MEX-M-HRSC-5-REFDR-MAPPROJECTED-V3.0"
DATA_SET_NAME = "MARS EXPRESS HRSC MAP PROJECTED REFDR V3.0"
DETECTOR_ID = MEX_HRSC_BLUE
EVENT_TYPE = "MARS-GLOBAL-VARIABLE-Gl-Ot"
INSTRUMENT_HOST_ID = MEX
INSTRUMENT_HOST_NAME = "MARS EXPRESS"
INSTRUMENT_ID = HRSC
INSTRUMENT_NAME = "HIGH RESOLUTION STEREO CAMERA"
MISSION_NAME = "MARS EXPRESS"
MISSION_PHASE_NAME = ME_Phase_10
PROCESSING_LEVEL_ID = 3
PRODUCT_CREATION_TIME = 2016-04-26T18:31:19.000Z
PRODUCT_ID = "H4887_0000_BL3.JP2"
RELEASE_ID = 0055
REVISION_ID = 0000
/* QUALITY DATA ELEMENTS */
DATA_QUALITY_ID = 1
DATA_QUALITY_DESC = "Data calculated based on original SPICE kernels"
/* TIME DATA ELEMENTS */
SPACECRAFT_CLOCK_START_COUNT = "1/0141186825.07295"
SPACECRAFT_CLOCK_STOP_COUNT = "1/0141187695.61981"
START_TIME = 2007-10-23T02:36:34.997Z
STOP_TIME = 2007-10-23T02:41:38.028Z
/* ORBITAL DATA ELEMENTS */
ASCENDING_NODE_LONGITUDE = 126.34
MAXIMUM_RESOLUTION = 99.7
FOOTPRINT_POINT_LATITUDE = (-78.1108,-78.2425,-78.3512,-78.468, -78.5764,-78.7232,-78.8101,-78.8881, -78.957,-79.0166,-79.0667,-79.1073, -78.9048,-78.6619,-78.4198,-78.1786, -77.9383,-77.6987,-77.4598,-77.2219, -76.9846,-76.748,-76.5124,-76.2781, -76.0444,-75.6955,-75.4624,-75.2314, -75.0013,-74.7717,-74.543,-74.3152, -73.8623,-73.4124,-72.9671,-72.4118, -71.973,-71.6469,-71.2129,-70.783, -70.3552,-69.9306,-69.509,-69.0901, -68.6743,-68.2614,-67.9323,-67.9342, -67.932,-67.9277,-67.9191,-67.9098, -67.8987,-67.8814,-67.8644,-67.8269, -67.7914,-67.7592,-67.731,-67.7004, -67.6507,-67.6149,-67.5771,-67.5057, -67.4508,-67.3925,-67.3436,-67.6228, -68.0194,-68.4184,-68.8204,-69.2254, -69.6332,-70.0437,-70.4567,-70.8722, -71.2905,-71.7115,-72.028,-72.4526, -72.9889,-73.5287,-73.9624,-74.3985, -74.6174,-74.8369,-75.0568,-75.2772, -75.498,-75.7192,-75.9408,-76.1628, -76.3853,-76.7189,-76.9423,-77.1658, -77.3895,-77.6133,-77.8372,-78.1108)
FOOTPRINT_POINT_LONGITUDE = (117.605,119.096,120.425,121.973, 123.549,125.966,127.608,129.274,130.963 ,132.673,134.405,136.151,137.464, 137.645,137.817,137.982,138.14,138.291, 138.434,138.572,138.704,138.829,138.95, 139.069,139.182,139.345,139.439,139.537 ,139.632,139.722,139.809,139.893, 140.054,140.204,140.352,140.506,140.631 ,140.724,140.833,140.939,141.035, 141.126,141.212,141.292,141.367,141.439 ,141.042,140.278,139.362,138.751, 137.989,137.381,136.774,136.017,135.412 ,134.207,133.306,132.556,131.957,131.36 ,130.468,129.874,129.282,128.251, 127.518,126.787,126.203,125.884,125.713 ,125.534,125.341,125.134,124.914, 124.681,124.434,124.173,123.893,123.595 ,123.37,123.048,122.585,122.085,121.663 ,121.209,120.967,120.716,120.457, 120.186,119.908,119.618,119.318,119.005 ,118.678,118.181,117.814,117.435, 117.042,116.635,116.209,117.605)
ORBIT_NUMBER = 4887
ORBITAL_ECCENTRICITY = 0.57
ORBITAL_INCLINATION = 86.7
ORBITAL_SEMIMAJOR_AXIS = 8585.48
PERIAPSIS_ALTITUDE = 302.5
PERIAPSIS_ARGUMENT_ANGLE = 218.59
PERIAPSIS_TIME = 2007-10-23T02:17:50.000Z
SPACECRAFT_ORIENTATION = (0.0,-1.0,0.0)
^MEX_ORIENTATION_DESC = "MEX_ORIENTATION_DESC.TXT"
SPACECRAFT_POINTING_MODE = NADIR
^MEX_POINTING_DESC = "MEX_POINTING_DESC.TXT"
RIGHT_ASCENSION = -1e+32
DECLINATION = -1e+32
OFFSET_ANGLE = -1e+32
SPACECRAFT_SOLAR_DISTANCE = 2.23844e+08
TARGET_NAME = MARS
/* CAMERA DATA ELEMENTS */
DETECTOR_TEMPERATURE = 18.5744
FOCAL_PLANE_TEMPERATURE = 8.5833
INST_CMPRS_NAME = "DISCRETE COSINE TRANSFORMATION (DCT)"
INST_CMPRS_RATIO = 7.05107
INST_CMPRS_QUALITY = 0
INST_CMPRS_QUANTZ_TBL_ID = 0
INSTRUMENT_TEMPERATURE = 9.6028
LENS_TEMPERATURE = 8.9911
MACROPIXEL_SIZE = 2
MISSING_FRAMES = 0
PIXEL_SUBSAMPLING_FLAG = N
SIGNAL_CHAIN_ID = 2
/* RADIOMETRIC DATA ELEMENTS */
BANDWIDTH = 76.0
CENTER_FILTER_WAVELENGTH = 444.0
RADIANCE_OFFSET = 0.255992
RADIANCE_SCALING_FACTOR = 0.00154987
REFLECTANCE_SCALING_FACTOR = 7.97901e-05
MEX:REFLECTANCE_OFFSET = 0.013179
/* IMAGE OBJECT DEFINITIONS */
OBJECT = IMAGE
  INTERCHANGE_FORMAT = BINARY
  LINES = 7001
  LINE_SAMPLES = 4086
  SAMPLE_TYPE = UNSIGNED_INTEGER
  SAMPLE_BITS = 8
  BANDS = 1
  BAND_STORAGE_TYPE = BAND_SEQUENTIAL
  MAXIMUM = 254
  MEAN = 124.084
  MINIMUM = 1
  STANDARD_DEVIATION = 43.991
END_OBJECT = IMAGE
/* MAP OBJECT DEFINITIONS */
OBJECT = IMAGE_MAP_PROJECTION
  ^DATA_SET_MAP_PROJECTION_CATALOG= "DSMAP.CAT"
  A_AXIS_RADIUS = 3396.0
  B_AXIS_RADIUS = 3396.0
  C_AXIS_RADIUS = 3396.0
  CENTER_LATITUDE = 0.0
  CENTER_LONGITUDE = 131.0
  COORDINATE_SYSTEM_NAME = PLANETOGRAPHIC
  COORDINATE_SYSTEM_TYPE = "BODY-FIXED ROTATING"
  EASTERNMOST_LONGITUDE = 141.439
  FIRST_STANDARD_PARALLEL = "N/A"
  LINE_FIRST_PIXEL = 1
  LINE_LAST_PIXEL = 7001
  LINE_PROJECTION_OFFSET = -39913.25
  MAP_PROJECTION_ROTATION = 0.0
  MAP_PROJECTION_TYPE = SINUSOIDAL
  MAP_RESOLUTION = 592.713803866667
  MAP_SCALE = 0.1
  MAXIMUM_LATITUDE = -67.3436
  MINIMUM_LATITUDE = -79.1073
  POSITIVE_LONGITUDE_DIRECTION = EAST
  REFERENCE_LATITUDE = "N/A"
  REFERENCE_LONGITUDE = "N/A"
  SAMPLE_FIRST_PIXEL = 1
  SAMPLE_LAST_PIXEL = 4086
  SAMPLE_PROJECTION_OFFSET = 1817.75
  SECOND_STANDARD_PARALLEL = "N/A"
  WESTERNMOST_LONGITUDE = 116.209
END_OBJECT = IMAGE_MAP_PROJECTION
/* The JPEG2000 image data file associated with this label. */
OBJECT = COMPRESSED_FILE
  FILE_NAME = "H4887_0000_BL3.JP2"
  RECORD_TYPE = UNDEFINED
  FILE_RECORDS = UNK
  ENCODING_TYPE = "JP2"
  INTERCHANGE_FORMAT = BINARY
  UNCOMPRESSED_FILE_NAME = "H4887_0000_BL3.IMG"
  REQUIRED_STORAGE_BYTES = "28630602"
  ^DESCRIPTION = "JP2INFO.TXT"
END_OBJECT = COMPRESSED_FILE
END
