PDS_VERSION_ID = PDS3
/* FILE DATA ELEMENTS */
RECORD_TYPE = STREAM
/* POINTERS TO DATA OBJECTS */
^COMPRESSED_FILE = "H4887_0000_RE3.JP2"
/* IDENTIFICATION DATA ELEMENTS */
DATA_SET_ID = "MEX-M-HRSC-5-REFDR-MAPPROJECTED-V3.0"
DATA_SET_NAME = "MARS EXPRESS HRSC MAP PROJECTED REFDR V3.0"
DETECTOR_ID = MEX_HRSC_RED
EVENT_TYPE = "MARS-GLOBAL-VARIABLE-Gl-Ot"
INSTRUMENT_HOST_ID = MEX
INSTRUMENT_HOST_NAME = "MARS EXPRESS"
INSTRUMENT_ID = HRSC
INSTRUMENT_NAME = "HIGH RESOLUTION STEREO CAMERA"
MISSION_NAME = "MARS EXPRESS"
MISSION_PHASE_NAME = ME_Phase_10
PROCESSING_LEVEL_ID = 3
PRODUCT_CREATION_TIME = 2016-04-26T18:31:19.000Z
PRODUCT_ID = "H4887_0000_RE3.JP2"
RELEASE_ID = 0055
REVISION_ID = 0000
/* QUALITY DATA ELEMENTS */
DATA_QUALITY_ID = 1
DATA_QUALITY_DESC = "Data calculated based on original SPICE kernels"
/* TIME DATA ELEMENTS */
SPACECRAFT_CLOCK_START_COUNT = "1/0141186825.07295"
SPACECRAFT_CLOCK_STOP_COUNT = "1/0141187695.61981"
START_TIME = 2007-10-23T02:39:04.308Z
STOP_TIME = 2007-10-23T02:46:12.244Z
/* ORBITAL DATA ELEMENTS */
ASCENDING_NODE_LONGITUDE = 126.34
MAXIMUM_RESOLUTION = 123.8
FOOTPRINT_POINT_LATITUDE = (-77.9586,-78.1105,-78.2516,-78.3819, -78.5566,-78.6587,-78.7491,-78.8274, -78.8934,-78.947,-78.9878,-79.0156, -78.8702,-78.6051,-78.3426,-78.0833, -77.8252,-77.5683,-77.3151,-77.0588, -76.8058,-76.5553,-76.3067,-76.0598, -75.8147,-75.5707,-75.3298,-75.0896, -74.851,-74.6133,-74.3779,-73.9107, -73.4499,-73.1098,-72.6608,-72.3269, -71.9023,-71.4645,-71.0299,-70.5065, -70.1925,-69.78,-69.3727,-68.9699, -68.5731,-68.1805,-67.792,-67.8077, -67.827,-67.8426,-67.8641,-67.875, -67.8773,-67.8744,-67.8672,-67.8544, -67.8516,-67.8246,-67.7995,-67.7773, -67.7443,-67.6908,-67.6561,-67.618, -67.577,-67.5109,-67.4605,-67.5129, -68.0516,-68.4099,-68.8759,-69.3495, -69.7336,-70.122,-70.5158,-70.9142, -71.3183,-71.727,-72.0329,-72.4472, -72.772,-73.2037,-73.6382,-74.0768, -74.5203,-74.7456,-74.9731,-75.1996, -75.4274,-75.6563,-75.8862,-76.1172, -76.349,-76.5755,-76.9296,-77.1676, -77.4041,-77.6415,-77.8796,-77.9586)
FOOTPRINT_POINT_LONGITUDE = (116.363,118.146,119.965,121.822, 124.678,126.624,128.598,130.603,132.631 ,134.685,136.76,138.854,140.374,140.547 ,140.712,140.873,141.025,141.17,141.312 ,141.44,141.565,141.687,141.805,141.918 ,142.028,142.132,142.236,142.334,142.43 ,142.521,142.611,142.781,142.941, 143.058,143.206,143.311,143.466,143.589 ,143.703,143.855,143.938,144.046,144.15 ,144.25,144.349,144.443,144.533,143.368 ,142.583,141.798,140.428,139.255, 138.278,136.913,136.133,135.354,134.575 ,133.604,132.438,131.662,130.695, 129.343,128.574,127.805,127.038,125.888 ,125.126,124.44,124.212,124.06,123.836, 123.593,123.385,123.164,122.927,122.675 ,122.403,122.113,121.89,121.57,121.287, 120.899,120.486,120.043,119.563,119.303 ,119.029,118.75,118.458,118.154,117.837 ,117.505,117.16,116.823,116.238,115.82, 115.393,114.944,114.473,116.363)
ORBIT_NUMBER = 4887
ORBITAL_ECCENTRICITY = 0.57
ORBITAL_INCLINATION = 86.7
ORBITAL_SEMIMAJOR_AXIS = 8585.48
PERIAPSIS_ALTITUDE = 302.5
PERIAPSIS_ARGUMENT_ANGLE = 218.59
PERIAPSIS_TIME = 2007-10-23T02:17:50.000Z
SPACECRAFT_ORIENTATION = (0.0,-1.0,0.0)
^MEX_ORIENTATION_DESC = "MEX_ORIENTATION_DESC.TXT"
SPACECRAFT_POINTING_MODE = NADIR
^MEX_POINTING_DESC = "MEX_POINTING_DESC.TXT"
RIGHT_ASCENSION = -1e+32
DECLINATION = -1e+32
OFFSET_ANGLE = -1e+32
SPACECRAFT_SOLAR_DISTANCE = 2.23844e+08
TARGET_NAME = MARS
/* CAMERA DATA ELEMENTS */
DETECTOR_TEMPERATURE = 18.7783
FOCAL_PLANE_TEMPERATURE = 8.5833
INST_CMPRS_NAME = "DISCRETE COSINE TRANSFORMATION (DCT)"
INST_CMPRS_RATIO = 15.2383
INST_CMPRS_QUALITY = 0
INST_CMPRS_QUANTZ_TBL_ID = 0
INSTRUMENT_TEMPERATURE = 9.6028
LENS_TEMPERATURE = 8.9911
MACROPIXEL_SIZE = 2
MISSING_FRAMES = 0
PIXEL_SUBSAMPLING_FLAG = N
SIGNAL_CHAIN_ID = 3
/* RADIOMETRIC DATA ELEMENTS */
BANDWIDTH = 48.0
CENTER_FILTER_WAVELENGTH = 748.0
RADIANCE_OFFSET = 0.300958
RADIANCE_SCALING_FACTOR = 0.00296743
REFLECTANCE_SCALING_FACTOR = 0.000339317
MEX:REFLECTANCE_OFFSET = 0.0344136
/* IMAGE OBJECT DEFINITIONS */
OBJECT = IMAGE
  INTERCHANGE_FORMAT = BINARY
  LINES = 7001
  LINE_SAMPLES = 4086
  SAMPLE_TYPE = UNSIGNED_INTEGER
  SAMPLE_BITS = 8
  BANDS = 1
  BAND_STORAGE_TYPE = BAND_SEQUENTIAL
  MAXIMUM = 255
  MEAN = 102.954
  MINIMUM = 1
  STANDARD_DEVIATION = 40.6088
END_OBJECT = IMAGE
/* MAP OBJECT DEFINITIONS */
OBJECT = IMAGE_MAP_PROJECTION
  ^DATA_SET_MAP_PROJECTION_CATALOG= "DSMAP.CAT"
  A_AXIS_RADIUS = 3396.0
  B_AXIS_RADIUS = 3396.0
  C_AXIS_RADIUS = 3396.0
  CENTER_LATITUDE = 0.0
  CENTER_LONGITUDE = 131.0
  COORDINATE_SYSTEM_NAME = PLANETOGRAPHIC
  COORDINATE_SYSTEM_TYPE = "BODY-FIXED ROTATING"
  EASTERNMOST_LONGITUDE = 144.533
  FIRST_STANDARD_PARALLEL = "N/A"
  LINE_FIRST_PIXEL = 1
  LINE_LAST_PIXEL = 7001
  LINE_PROJECTION_OFFSET = -39913.25
  MAP_PROJECTION_ROTATION = 0.0
  MAP_PROJECTION_TYPE = SINUSOIDAL
  MAP_RESOLUTION = 592.713803866667
  MAP_SCALE = 0.1
  MAXIMUM_LATITUDE = -67.4605
  MINIMUM_LATITUDE = -79.01560000000001
  POSITIVE_LONGITUDE_DIRECTION = EAST
  REFERENCE_LATITUDE = "N/A"
  REFERENCE_LONGITUDE = "N/A"
  SAMPLE_FIRST_PIXEL = 1
  SAMPLE_LAST_PIXEL = 4086
  SAMPLE_PROJECTION_OFFSET = 1817.75
  SECOND_STANDARD_PARALLEL = "N/A"
  WESTERNMOST_LONGITUDE = 114.473
END_OBJECT = IMAGE_MAP_PROJECTION
/* The JPEG2000 image data file associated with this label. */
OBJECT = COMPRESSED_FILE
  FILE_NAME = "H4887_0000_RE3.JP2"
  RECORD_TYPE = UNDEFINED
  FILE_RECORDS = UNK
  ENCODING_TYPE = "JP2"
  INTERCHANGE_FORMAT = BINARY
  UNCOMPRESSED_FILE_NAME = "H4887_0000_RE3.IMG"
  REQUIRED_STORAGE_BYTES = "28630602"
  ^DESCRIPTION = "JP2INFO.TXT"
END_OBJECT = COMPRESSED_FILE
END
