PDS_VERSION_ID = PDS3
/* FILE DATA ELEMENTS */
RECORD_TYPE = STREAM
/* POINTERS TO DATA OBJECTS */
^COMPRESSED_FILE = "H4888_0000_RE3.JP2"
/* IDENTIFICATION DATA ELEMENTS */
DATA_SET_ID = "MEX-M-HRSC-5-REFDR-MAPPROJECTED-V3.0"
DATA_SET_NAME = "MARS EXPRESS HRSC MAP PROJECTED REFDR V3.0"
DETECTOR_ID = MEX_HRSC_RED
EVENT_TYPE = "MARS-GLOBAL-VARIABLE-Gl-Ot-At"
INSTRUMENT_HOST_ID = MEX
INSTRUMENT_HOST_NAME = "MARS EXPRESS"
INSTRUMENT_ID = HRSC
INSTRUMENT_NAME = "HIGH RESOLUTION STEREO CAMERA"
MISSION_NAME = "MARS EXPRESS"
MISSION_PHASE_NAME = ME_Phase_10
PROCESSING_LEVEL_ID = 3
PRODUCT_CREATION_TIME = 2016-04-26T18:31:19.000Z
PRODUCT_ID = "H4888_0000_RE3.JP2"
RELEASE_ID = 0055
REVISION_ID = 0000
/* QUALITY DATA ELEMENTS */
DATA_QUALITY_ID = 1
DATA_QUALITY_DESC = "Data calculated based on original SPICE kernels"
/* TIME DATA ELEMENTS */
SPACECRAFT_CLOCK_START_COUNT = "1/0141210869.07296"
SPACECRAFT_CLOCK_STOP_COUNT = "1/0141211636.39746"
START_TIME = 2007-10-23T09:18:15.781Z
STOP_TIME = 2007-10-23T09:25:53.756Z
/* ORBITAL DATA ELEMENTS */
ASCENDING_NODE_LONGITUDE = 126.31
MAXIMUM_RESOLUTION = 94.8
FOOTPRINT_POINT_LATITUDE = (-84.5271,-84.7902,-85.0483,-85.3636, -85.6088,-86.0473,-86.3205,-86.5252, -86.7153,-86.888,-87.1752,-86.9147, -86.5151,-86.0971,-85.8145,-85.5274, -85.2396,-84.9428,-84.6471,-84.3467, -84.0454,-83.5843,-83.2751,-82.9625, -82.6488,-82.3396,-82.0272,-81.716, -81.4069,-80.953,-80.6504,-80.3507, -80.0524,-79.7551,-79.4638,-79.1683, -78.8778,-78.5889,-78.3025,-77.8783, -77.3126,-76.7638,-75.9451,-75.5426, -75.0154,-74.4957,-74.1071,-73.5975, -73.0932,-72.9857,-72.9875,-72.9807, -72.9575,-72.917,-72.87,-72.812, -72.7672,-72.6551,-72.5372,-72.4424, -72.323,-72.5834,-73.0506,-73.5243, -74.004,-74.4892,-74.9782,-75.4761, -75.9808,-76.4893,-76.8744,-77.3907, -77.9125,-78.1737,-78.5676,-78.8295, -79.0912,-79.3575,-79.6247,-79.8895, -80.1536,-80.4181,-80.6815,-80.9435, -81.2037,-81.4584,-81.7082,-81.952, -82.19,-82.4223,-82.6472,-82.8642, -83.1753,-83.3722,-83.5599,-83.7375, -83.9048,-84.0607,-84.2047,-84.5271)
FOOTPRINT_POINT_LONGITUDE = (343.187,344.844,346.665,349.214, 351.504,356.519,360.49,364.095,368.134, 372.646,379.034,381.809,385.204,387.909 ,389.425,390.754,391.935,392.976, 393.915,394.758,395.523,396.535,397.141 ,397.695,398.205,398.678,399.102, 399.491,399.85,400.351,400.651,400.933, 401.195,401.44,401.676,401.888,402.093, 402.286,402.47,402.731,403.038,403.332, 403.711,403.885,404.105,404.31,404.449, 404.627,404.791,403.565,402.493,400.361 ,398.032,396.133,394.455,392.783, 391.745,389.476,387.433,386.017,384.413 ,383.063,382.656,382.214,381.733,381.21 ,380.644,380.014,379.316,378.553, 377.926,377.017,375.998,375.451,374.566 ,373.941,373.283,372.557,371.78,370.97, 370.109,369.183,368.197,367.146,366.02, 364.836,363.58,362.251,360.842,359.336, 357.752,356.083,353.39,351.463,349.43, 347.289,345.04,342.688,340.272,343.187)
ORBIT_NUMBER = 4888
ORBITAL_ECCENTRICITY = 0.57
ORBITAL_INCLINATION = 86.69
ORBITAL_SEMIMAJOR_AXIS = 8590.87
PERIAPSIS_ALTITUDE = 301.87
PERIAPSIS_ARGUMENT_ANGLE = 218.43
PERIAPSIS_TIME = 2007-10-23T09:00:59.000Z
SPACECRAFT_ORIENTATION = (0.0,-1.0,0.0)
^MEX_ORIENTATION_DESC = "MEX_ORIENTATION_DESC.TXT"
SPACECRAFT_POINTING_MODE = NADIR
^MEX_POINTING_DESC = "MEX_POINTING_DESC.TXT"
RIGHT_ASCENSION = -1e+32
DECLINATION = -1e+32
OFFSET_ANGLE = -1e+32
SPACECRAFT_SOLAR_DISTANCE = 2.23898e+08
TARGET_NAME = MARS
/* CAMERA DATA ELEMENTS */
DETECTOR_TEMPERATURE = 18.9822
FOCAL_PLANE_TEMPERATURE = 8.1755
INST_CMPRS_NAME = "DISCRETE COSINE TRANSFORMATION (DCT)"
INST_CMPRS_RATIO = 13.8668
INST_CMPRS_QUALITY = 0
INST_CMPRS_QUANTZ_TBL_ID = 0
INSTRUMENT_TEMPERATURE = 11.234
LENS_TEMPERATURE = 8.7872
MACROPIXEL_SIZE = 2
MISSING_FRAMES = 0
PIXEL_SUBSAMPLING_FLAG = N
SIGNAL_CHAIN_ID = 3
/* RADIOMETRIC DATA ELEMENTS */
BANDWIDTH = 48.0
CENTER_FILTER_WAVELENGTH = 748.0
RADIANCE_OFFSET = 0.313916
RADIANCE_SCALING_FACTOR = 0.00312264
REFLECTANCE_SCALING_FACTOR = 0.000357238
MEX:REFLECTANCE_OFFSET = 0.0359128
/* IMAGE OBJECT DEFINITIONS */
OBJECT = IMAGE
  INTERCHANGE_FORMAT = BINARY
  LINES = 17519
  LINE_SAMPLES = 10692
  SAMPLE_TYPE = UNSIGNED_INTEGER
  SAMPLE_BITS = 8
  BANDS = 1
  BAND_STORAGE_TYPE = BAND_SEQUENTIAL
  MAXIMUM = 251
  MEAN = 71.6227
  MINIMUM = 1
  STANDARD_DEVIATION = 35.0003
END_OBJECT = IMAGE
/* MAP OBJECT DEFINITIONS */
OBJECT = IMAGE_MAP_PROJECTION
  ^DATA_SET_MAP_PROJECTION_CATALOG= "DSMAP.CAT"
  A_AXIS_RADIUS = 3396.0
  B_AXIS_RADIUS = 3396.0
  C_AXIS_RADIUS = 3396.0
  CENTER_LATITUDE = 0.0
  CENTER_LONGITUDE = 25.0
  COORDINATE_SYSTEM_NAME = PLANETOGRAPHIC
  COORDINATE_SYSTEM_TYPE = "BODY-FIXED ROTATING"
  EASTERNMOST_LONGITUDE = 44.791
  FIRST_STANDARD_PARALLEL = "N/A"
  LINE_FIRST_PIXEL = 1
  LINE_LAST_PIXEL = 17519
  LINE_PROJECTION_OFFSET = -85648.75
  MAP_PROJECTION_ROTATION = 0.0
  MAP_PROJECTION_TYPE = SINUSOIDAL
  MAP_RESOLUTION = 1185.42760773333
  MAP_SCALE = 0.05
  MAXIMUM_LATITUDE = -72.32299999999999
  MINIMUM_LATITUDE = -87.1752
  POSITIVE_LONGITUDE_DIRECTION = EAST
  REFERENCE_LATITUDE = "N/A"
  REFERENCE_LONGITUDE = "N/A"
  SAMPLE_FIRST_PIXEL = 1
  SAMPLE_LAST_PIXEL = 10692
  SAMPLE_PROJECTION_OFFSET = 4947.75
  SECOND_STANDARD_PARALLEL = "N/A"
  WESTERNMOST_LONGITUDE = -19.728
END_OBJECT = IMAGE_MAP_PROJECTION
/* The JPEG2000 image data file associated with this label. */
OBJECT = COMPRESSED_FILE
  FILE_NAME = "H4888_0000_RE3.JP2"
  RECORD_TYPE = UNDEFINED
  FILE_RECORDS = UNK
  ENCODING_TYPE = "JP2"
  INTERCHANGE_FORMAT = BINARY
  UNCOMPRESSED_FILE_NAME = "H4888_0000_RE3.IMG"
  REQUIRED_STORAGE_BYTES = "187345224"
  ^DESCRIPTION = "JP2INFO.TXT"
END_OBJECT = COMPRESSED_FILE
END
