PDS_VERSION_ID = PDS3
/* FILE DATA ELEMENTS */
RECORD_TYPE = STREAM
/* POINTERS TO DATA OBJECTS */
^COMPRESSED_FILE = "H4888_0000_S13.JP2"
/* IDENTIFICATION DATA ELEMENTS */
DATA_SET_ID = "MEX-M-HRSC-5-REFDR-MAPPROJECTED-V3.0"
DATA_SET_NAME = "MARS EXPRESS HRSC MAP PROJECTED REFDR V3.0"
DETECTOR_ID = MEX_HRSC_S1
EVENT_TYPE = "MARS-GLOBAL-VARIABLE-Gl-Ot-At"
INSTRUMENT_HOST_ID = MEX
INSTRUMENT_HOST_NAME = "MARS EXPRESS"
INSTRUMENT_ID = HRSC
INSTRUMENT_NAME = "HIGH RESOLUTION STEREO CAMERA"
MISSION_NAME = "MARS EXPRESS"
MISSION_PHASE_NAME = ME_Phase_10
PROCESSING_LEVEL_ID = 3
PRODUCT_CREATION_TIME = 2016-04-26T18:31:19.000Z
PRODUCT_ID = "H4888_0000_S13.JP2"
RELEASE_ID = 0055
REVISION_ID = 0000
/* QUALITY DATA ELEMENTS */
DATA_QUALITY_ID = 1
DATA_QUALITY_DESC = "Data calculated based on original SPICE kernels"
/* TIME DATA ELEMENTS */
SPACECRAFT_CLOCK_START_COUNT = "1/0141210869.07296"
SPACECRAFT_CLOCK_STOP_COUNT = "1/0141211636.39746"
START_TIME = 2007-10-23T09:14:33.156Z
STOP_TIME = 2007-10-23T09:18:56.780Z
/* ORBITAL DATA ELEMENTS */
ASCENDING_NODE_LONGITUDE = 126.31
MAXIMUM_RESOLUTION = 72
FOOTPRINT_POINT_LATITUDE = (-84.999,-85.5668,-85.9459,-86.3072, -86.6459,-86.9544,-86.8731,-86.5693, -86.248,-85.8033,-85.3398,-84.9829, -84.7413,-84.4954,-84.2459,-83.8696, -83.4845,-83.0956,-82.8353,-82.5711, -82.3047,-82.036,-81.7659,-81.3547, -81.082,-80.8042,-80.5245,-80.2427, -79.9594,-79.5314,-79.0966,-78.8076, -78.3667,-78.0709,-77.7718,-77.3207, -77.0196,-76.7125,-76.4059,-76.0965, -75.628,-75.3149,-74.9984,-74.6793, -74.3583,-74.0357,-73.7093,-73.3832, -73.0746,-73.0445,-72.9935,-72.9222, -72.8653,-72.7613,-72.6606,-72.589, -72.4767,-72.3942,-72.3165,-72.6352, -72.9522,-73.2666,-73.5771,-74.041, -74.347,-74.6495,-74.9515,-75.251, -75.5431,-75.9801,-76.5489,-76.8336, -77.2561,-77.526,-77.8147,-78.0855, -78.3542,-78.62,-79.0163,-79.2753, -79.5314,-79.7861,-80.0364,-80.2843, -80.5269,-80.8845,-81.119,-81.3495, -81.6869,-82.016,-82.2295,-82.5426, -82.7448,-82.9418,-83.1374,-83.4099, -83.8407,-84.1543,-84.5739,-84.999)
FOOTPRINT_POINT_LONGITUDE = (343.737,347.604,350.942,354.962, 359.849,365.807,370.643,374.356,377.518 ,380.959,383.773,385.548,386.597, 387.569,388.467,389.662,390.743,391.699 ,392.275,392.818,393.326,393.802, 394.248,394.873,395.247,395.609,395.95, 396.274,396.579,397.005,397.405,397.648 ,397.999,398.218,398.43,398.727,398.91, 399.092,399.262,399.426,399.66,399.805, 399.947,400.083,400.213,400.338,400.46, 400.573,399.272,398.156,396.63,394.982, 393.893,392.136,390.666,389.741,388.432 ,387.525,386.706,386.452,386.189, 385.915,385.633,385.188,384.877,384.556 ,384.221,383.873,383.514,382.947, 382.139,381.709,381.03,380.559,380.055, 379.54,379.001,378.439,377.546,376.919, 376.263,375.575,374.857,374.104,373.318 ,372.068,371.182,370.253,368.775, 367.182,366.055,364.248,362.968,361.621 ,360.188,357.946,353.781,350.063, 343.724,343.737)
ORBIT_NUMBER = 4888
ORBITAL_ECCENTRICITY = 0.57
ORBITAL_INCLINATION = 86.69
ORBITAL_SEMIMAJOR_AXIS = 8590.87
PERIAPSIS_ALTITUDE = 301.87
PERIAPSIS_ARGUMENT_ANGLE = 218.43
PERIAPSIS_TIME = 2007-10-23T09:00:59.000Z
SPACECRAFT_ORIENTATION = (0.0,-1.0,0.0)
^MEX_ORIENTATION_DESC = "MEX_ORIENTATION_DESC.TXT"
SPACECRAFT_POINTING_MODE = NADIR
^MEX_POINTING_DESC = "MEX_POINTING_DESC.TXT"
RIGHT_ASCENSION = -1e+32
DECLINATION = -1e+32
OFFSET_ANGLE = -1e+32
SPACECRAFT_SOLAR_DISTANCE = 2.23898e+08
TARGET_NAME = MARS
/* CAMERA DATA ELEMENTS */
DETECTOR_TEMPERATURE = 18.5744
FOCAL_PLANE_TEMPERATURE = 8.1755
INST_CMPRS_NAME = "DISCRETE COSINE TRANSFORMATION (DCT)"
INST_CMPRS_RATIO = 13.6392
INST_CMPRS_QUALITY = 0
INST_CMPRS_QUANTZ_TBL_ID = 0
INSTRUMENT_TEMPERATURE = 11.234
LENS_TEMPERATURE = 8.7872
MACROPIXEL_SIZE = 2
MISSING_FRAMES = 0
PIXEL_SUBSAMPLING_FLAG = N
SIGNAL_CHAIN_ID = 1
/* RADIOMETRIC DATA ELEMENTS */
BANDWIDTH = 180.0
CENTER_FILTER_WAVELENGTH = 677.0
RADIANCE_OFFSET = 1.36586
RADIANCE_SCALING_FACTOR = 0.0129444
REFLECTANCE_SCALING_FACTOR = 0.000338558
MEX:REFLECTANCE_OFFSET = 0.0357238
/* IMAGE OBJECT DEFINITIONS */
OBJECT = IMAGE
  INTERCHANGE_FORMAT = BINARY
  LINES = 17519
  LINE_SAMPLES = 10692
  SAMPLE_TYPE = UNSIGNED_INTEGER
  SAMPLE_BITS = 8
  BANDS = 1
  BAND_STORAGE_TYPE = BAND_SEQUENTIAL
  MAXIMUM = 255
  MEAN = 76.1015
  MINIMUM = 1
  STANDARD_DEVIATION = 33.804
END_OBJECT = IMAGE
/* MAP OBJECT DEFINITIONS */
OBJECT = IMAGE_MAP_PROJECTION
  ^DATA_SET_MAP_PROJECTION_CATALOG= "DSMAP.CAT"
  A_AXIS_RADIUS = 3396.0
  B_AXIS_RADIUS = 3396.0
  C_AXIS_RADIUS = 3396.0
  CENTER_LATITUDE = 0.0
  CENTER_LONGITUDE = 25.0
  COORDINATE_SYSTEM_NAME = PLANETOGRAPHIC
  COORDINATE_SYSTEM_TYPE = "BODY-FIXED ROTATING"
  EASTERNMOST_LONGITUDE = 40.573
  FIRST_STANDARD_PARALLEL = "N/A"
  LINE_FIRST_PIXEL = 1
  LINE_LAST_PIXEL = 17519
  LINE_PROJECTION_OFFSET = -85648.75
  MAP_PROJECTION_ROTATION = 0.0
  MAP_PROJECTION_TYPE = SINUSOIDAL
  MAP_RESOLUTION = 1185.42760773333
  MAP_SCALE = 0.05
  MAXIMUM_LATITUDE = -72.3165
  MINIMUM_LATITUDE = -86.95440000000001
  POSITIVE_LONGITUDE_DIRECTION = EAST
  REFERENCE_LATITUDE = "N/A"
  REFERENCE_LONGITUDE = "N/A"
  SAMPLE_FIRST_PIXEL = 1
  SAMPLE_LAST_PIXEL = 10692
  SAMPLE_PROJECTION_OFFSET = 4947.75
  SECOND_STANDARD_PARALLEL = "N/A"
  WESTERNMOST_LONGITUDE = -16.276
END_OBJECT = IMAGE_MAP_PROJECTION
/* The JPEG2000 image data file associated with this label. */
OBJECT = COMPRESSED_FILE
  FILE_NAME = "H4888_0000_S13.JP2"
  RECORD_TYPE = UNDEFINED
  FILE_RECORDS = UNK
  ENCODING_TYPE = "JP2"
  INTERCHANGE_FORMAT = BINARY
  UNCOMPRESSED_FILE_NAME = "H4888_0000_S13.IMG"
  REQUIRED_STORAGE_BYTES = "187345224"
  ^DESCRIPTION = "JP2INFO.TXT"
END_OBJECT = COMPRESSED_FILE
END
