PDS_VERSION_ID = PDS3
/* FILE DATA ELEMENTS */
RECORD_TYPE = STREAM
/* POINTERS TO DATA OBJECTS */
^COMPRESSED_FILE = "H4892_0000_BL3.JP2"
/* IDENTIFICATION DATA ELEMENTS */
DATA_SET_ID = "MEX-M-HRSC-5-REFDR-MAPPROJECTED-V3.0"
DATA_SET_NAME = "MARS EXPRESS HRSC MAP PROJECTED REFDR V3.0"
DETECTOR_ID = MEX_HRSC_BLUE
EVENT_TYPE = "MARS-GLOBAL-VARIABLE-Gl-Ot-At"
INSTRUMENT_HOST_ID = MEX
INSTRUMENT_HOST_NAME = "MARS EXPRESS"
INSTRUMENT_ID = HRSC
INSTRUMENT_NAME = "HIGH RESOLUTION STEREO CAMERA"
MISSION_NAME = "MARS EXPRESS"
MISSION_PHASE_NAME = ME_Phase_10
PROCESSING_LEVEL_ID = 3
PRODUCT_CREATION_TIME = 2016-04-26T18:31:19.000Z
PRODUCT_ID = "H4892_0000_BL3.JP2"
RELEASE_ID = 0055
REVISION_ID = 0000
/* QUALITY DATA ELEMENTS */
DATA_QUALITY_ID = 1
DATA_QUALITY_DESC = "Data calculated based on original SPICE kernels"
/* TIME DATA ELEMENTS */
SPACECRAFT_CLOCK_START_COUNT = "1/0141307686.09052"
SPACECRAFT_CLOCK_STOP_COUNT = "1/0141308611.34124"
START_TIME = 2007-10-24T12:10:25.208Z
STOP_TIME = 2007-10-24T12:17:14.521Z
/* ORBITAL DATA ELEMENTS */
ASCENDING_NODE_LONGITUDE = 126.23
MAXIMUM_RESOLUTION = 85.5
FOOTPRINT_POINT_LATITUDE = (-83.3203,-83.7372,-84.1516,-84.6347, -84.9394,-85.2799,-85.4077,-84.8661, -84.3122,-83.599,-83.0189,-82.4266, -81.8258,-81.5218,-81.2157,-80.9074, -80.5964,-80.2828,-79.9678,-79.6503, -79.3306,-79.0082,-78.6837,-78.3575, -78.0288,-77.6975,-77.364,-77.0287, -76.6909,-76.3509,-76.0113,-75.6733, -75.337,-75.0022,-74.6689,-74.3383, -74.0089,-73.6812,-73.3553,-73.0311, -72.7085,-72.3879,-72.0688,-71.7514, -71.4357,-71.1218,-70.8094,-70.4985, -69.882,-69.6451,-69.6357,-69.6181, -69.5874,-69.5605,-69.5111,-69.4503, -69.3695,-69.3048,-69.2332,-69.1432, -69.0451,-68.9619,-69.5505,-70.1453, -70.7458,-71.3517,-71.6568,-71.9635, -72.2714,-72.5804,-72.8907,-73.2025, -73.5156,-73.8298,-74.1453,-74.4619, -74.7797,-75.0985,-75.4183,-75.8949, -76.2088,-76.5202,-76.8284,-77.1335, -77.4355,-77.7345,-78.0305,-78.3233, -78.6123,-78.8981,-79.1803,-79.4592, -80.0054,-80.5352,-81.0484,-81.5433, -82.0175,-82.4696,-82.8969,-83.3203)
FOOTPRINT_POINT_LONGITUDE = (322.71,326.157,330.328,336.623,341.901 ,350.184,353.905,356.219,358.127, 360.017,361.284,362.349,363.272,363.686 ,364.075,364.441,364.78,365.098,365.401 ,365.687,365.955,366.207,366.446, 366.673,366.889,367.094,367.287,367.473 ,367.649,367.818,367.979,368.131, 368.273,368.407,368.532,368.656,368.771 ,368.88,368.984,369.084,369.178,369.269 ,369.354,369.437,369.516,369.591, 369.663,369.731,369.861,369.105,367.329 ,366.042,364.601,363.644,362.215, 360.791,359.219,358.126,357.039,355.805 ,354.578,353.606,353.298,352.956, 352.583,352.177,351.959,351.727,351.487 ,351.238,350.975,350.698,350.406,350.1, 349.778,349.437,349.078,348.7,348.301, 347.666,347.222,346.753,346.264,345.754 ,345.218,344.651,344.064,343.439, 342.805,342.125,341.419,340.672,339.062 ,337.286,335.314,333.122,330.682, 327.961,324.934,322.71)
ORBIT_NUMBER = 4892
ORBITAL_ECCENTRICITY = 0.57
ORBITAL_INCLINATION = 86.69
ORBITAL_SEMIMAJOR_AXIS = 8587.61
PERIAPSIS_ALTITUDE = 302.5
PERIAPSIS_ARGUMENT_ANGLE = 217.7
PERIAPSIS_TIME = 2007-10-24T11:53:51.000Z
SPACECRAFT_ORIENTATION = (0.0,-1.0,0.0)
^MEX_ORIENTATION_DESC = "MEX_ORIENTATION_DESC.TXT"
SPACECRAFT_POINTING_MODE = NADIR
^MEX_POINTING_DESC = "MEX_POINTING_DESC.TXT"
RIGHT_ASCENSION = -1e+32
DECLINATION = -1e+32
OFFSET_ANGLE = -1e+32
SPACECRAFT_SOLAR_DISTANCE = 2.24116e+08
TARGET_NAME = MARS
/* CAMERA DATA ELEMENTS */
DETECTOR_TEMPERATURE = 18.5744
FOCAL_PLANE_TEMPERATURE = 8.9911
INST_CMPRS_NAME = "DISCRETE COSINE TRANSFORMATION (DCT)"
INST_CMPRS_RATIO = 19.8049
INST_CMPRS_QUALITY = 0
INST_CMPRS_QUANTZ_TBL_ID = 0
INSTRUMENT_TEMPERATURE = 11.234
LENS_TEMPERATURE = 9.3989
MACROPIXEL_SIZE = 2
MISSING_FRAMES = 0
PIXEL_SUBSAMPLING_FLAG = N
SIGNAL_CHAIN_ID = 2
/* RADIOMETRIC DATA ELEMENTS */
BANDWIDTH = 76.0
CENTER_FILTER_WAVELENGTH = 444.0
RADIANCE_OFFSET = 0.225189
RADIANCE_SCALING_FACTOR = 0.00252313
REFLECTANCE_SCALING_FACTOR = 0.000130212
MEX:REFLECTANCE_OFFSET = 0.0116214
/* IMAGE OBJECT DEFINITIONS */
OBJECT = IMAGE
  INTERCHANGE_FORMAT = BINARY
  LINES = 9735
  LINE_SAMPLES = 5088
  SAMPLE_TYPE = UNSIGNED_INTEGER
  SAMPLE_BITS = 8
  BANDS = 1
  BAND_STORAGE_TYPE = BAND_SEQUENTIAL
  MAXIMUM = 255
  MEAN = 69.3061
  MINIMUM = 2
  STANDARD_DEVIATION = 24.712
END_OBJECT = IMAGE
/* MAP OBJECT DEFINITIONS */
OBJECT = IMAGE_MAP_PROJECTION
  ^DATA_SET_MAP_PROJECTION_CATALOG= "DSMAP.CAT"
  A_AXIS_RADIUS = 3396.0
  B_AXIS_RADIUS = 3396.0
  C_AXIS_RADIUS = 3396.0
  CENTER_LATITUDE = 0.0
  CENTER_LONGITUDE = 356.0
  COORDINATE_SYSTEM_NAME = PLANETOGRAPHIC
  COORDINATE_SYSTEM_TYPE = "BODY-FIXED ROTATING"
  EASTERNMOST_LONGITUDE = 9.861000000000001
  FIRST_STANDARD_PARALLEL = "N/A"
  LINE_FIRST_PIXEL = 1
  LINE_LAST_PIXEL = 9735
  LINE_PROJECTION_OFFSET = -40880.75
  MAP_PROJECTION_ROTATION = 0.0
  MAP_PROJECTION_TYPE = SINUSOIDAL
  MAP_RESOLUTION = 592.713803866667
  MAP_SCALE = 0.1
  MAXIMUM_LATITUDE = -68.9619
  MINIMUM_LATITUDE = -85.40770000000001
  POSITIVE_LONGITUDE_DIRECTION = EAST
  REFERENCE_LATITUDE = "N/A"
  REFERENCE_LONGITUDE = "N/A"
  SAMPLE_FIRST_PIXEL = 1
  SAMPLE_LAST_PIXEL = 5088
  SAMPLE_PROJECTION_OFFSET = 2310.25
  SECOND_STANDARD_PARALLEL = "N/A"
  WESTERNMOST_LONGITUDE = -37.29
END_OBJECT = IMAGE_MAP_PROJECTION
/* The JPEG2000 image data file associated with this label. */
OBJECT = COMPRESSED_FILE
  FILE_NAME = "H4892_0000_BL3.JP2"
  RECORD_TYPE = UNDEFINED
  FILE_RECORDS = UNK
  ENCODING_TYPE = "JP2"
  INTERCHANGE_FORMAT = BINARY
  UNCOMPRESSED_FILE_NAME = "H4892_0000_BL3.IMG"
  REQUIRED_STORAGE_BYTES = "49557120"
  ^DESCRIPTION = "JP2INFO.TXT"
END_OBJECT = COMPRESSED_FILE
END
