PDS_VERSION_ID = PDS3
/* FILE DATA ELEMENTS */
RECORD_TYPE = STREAM
/* POINTERS TO DATA OBJECTS */
^COMPRESSED_FILE = "H4894_0000_GR3.JP2"
/* IDENTIFICATION DATA ELEMENTS */
DATA_SET_ID = "MEX-M-HRSC-5-REFDR-MAPPROJECTED-V3.0"
DATA_SET_NAME = "MARS EXPRESS HRSC MAP PROJECTED REFDR V3.0"
DETECTOR_ID = MEX_HRSC_GREEN
EVENT_TYPE = "MARS-GLOBAL-VARIABLE-Gl-Ot-At"
INSTRUMENT_HOST_ID = MEX
INSTRUMENT_HOST_NAME = "MARS EXPRESS"
INSTRUMENT_ID = HRSC
INSTRUMENT_NAME = "HIGH RESOLUTION STEREO CAMERA"
MISSION_NAME = "MARS EXPRESS"
MISSION_PHASE_NAME = ME_Phase_10
PROCESSING_LEVEL_ID = 3
PRODUCT_CREATION_TIME = 2016-04-26T18:31:19.000Z
PRODUCT_ID = "H4894_0000_GR3.JP2"
RELEASE_ID = 0055
REVISION_ID = 0000
/* QUALITY DATA ELEMENTS */
DATA_QUALITY_ID = 1
DATA_QUALITY_DESC = "Data calculated based on original SPICE kernels"
/* TIME DATA ELEMENTS */
SPACECRAFT_CLOCK_START_COUNT = "1/0141356077.07303"
SPACECRAFT_CLOCK_STOP_COUNT = "1/0141356999.47541"
START_TIME = 2007-10-25T01:36:12.422Z
STOP_TIME = 2007-10-25T01:42:14.566Z
/* ORBITAL DATA ELEMENTS */
ASCENDING_NODE_LONGITUDE = 126.19
MAXIMUM_RESOLUTION = 81.5
FOOTPRINT_POINT_LATITUDE = (-83.7396,-84.0755,-84.5194,-84.8372, -85.1156,-85.4192,-84.9061,-84.3797, -83.8425,-83.2946,-82.7364,-82.1702, -81.5945,-80.862,-80.5658,-80.2672, -79.9667,-79.6638,-79.3589,-79.052, -78.7426,-78.4312,-78.1177,-77.8018, -77.4842,-77.164,-76.8422,-76.518, -76.1917,-75.8631,-75.5325,-75.1993, -74.8642,-74.5268,-74.187,-73.8449, -73.3318,-72.9915,-72.653,-72.316, -71.9802,-71.6459,-71.3133,-70.9821, -70.6527,-70.3245,-69.9763,-69.9574, -69.9337,-69.906,-69.8496,-69.806, -69.7407,-69.6471,-69.5695,-69.4843, -69.3919,-69.2602,-69.5752,-69.8911, -70.208,-70.5267,-70.8465,-71.1673, -71.4899,-71.8134,-72.1386,-72.465, -72.9563,-73.283,-73.6078,-73.9296, -74.2493,-74.5658,-74.8793,-75.1904, -75.4982,-75.8043,-76.1072,-76.4076, -76.7046,-76.9992,-77.2904,-77.5784, -77.8639,-78.1467,-78.426,-78.7051, -78.9781,-79.2481,-79.515,-80.0379, -80.5438,-81.16,-81.631,-82.0839, -82.5179,-82.9283,-83.3128,-83.7396)
FOOTPRINT_POINT_LONGITUDE = (128.855,132.012,137.17,141.896,147.206 ,156.079,158.397,160.298,161.865, 163.208,164.373,165.351,166.213,167.157 ,167.481,167.798,168.095,168.377, 168.643,168.895,169.135,169.362,169.58, 169.786,169.982,170.169,170.347,170.517 ,170.679,170.833,170.983,171.124, 171.259,171.389,171.514,171.634,171.803 ,171.909,172.008,172.101,172.193,172.28 ,172.362,172.441,172.514,172.585, 171.903,170.239,169.035,167.986,166.346 ,165.307,163.979,162.364,161.2,160.046, 158.902,157.428,157.257,157.077,156.888 ,156.692,156.487,156.271,156.046,155.81 ,155.564,155.306,154.893,154.599, 154.297,153.981,153.653,153.31,152.953, 152.581,152.193,151.79,151.37,150.931, 150.473,149.995,149.495,148.971,148.424 ,147.857,147.26,146.646,145.994,145.312 ,144.596,143.059,141.358,139.002, 136.882,134.536,131.937,129.05,125.849, 128.855)
ORBIT_NUMBER = 4894
ORBITAL_ECCENTRICITY = 0.57
ORBITAL_INCLINATION = 86.69
ORBITAL_SEMIMAJOR_AXIS = 8590.58
PERIAPSIS_ALTITUDE = 302.9
PERIAPSIS_ARGUMENT_ANGLE = 217.36
PERIAPSIS_TIME = 2007-10-25T01:20:16.000Z
SPACECRAFT_ORIENTATION = (0.0,-1.0,0.0)
^MEX_ORIENTATION_DESC = "MEX_ORIENTATION_DESC.TXT"
SPACECRAFT_POINTING_MODE = NADIR
^MEX_POINTING_DESC = "MEX_POINTING_DESC.TXT"
RIGHT_ASCENSION = -1e+32
DECLINATION = -1e+32
OFFSET_ANGLE = -1e+32
SPACECRAFT_SOLAR_DISTANCE = 2.24225e+08
TARGET_NAME = MARS
/* CAMERA DATA ELEMENTS */
DETECTOR_TEMPERATURE = 18.3705
FOCAL_PLANE_TEMPERATURE = 8.7872
INST_CMPRS_NAME = "DISCRETE COSINE TRANSFORMATION (DCT)"
INST_CMPRS_RATIO = 11.5754
INST_CMPRS_QUALITY = 0
INST_CMPRS_QUANTZ_TBL_ID = 0
INSTRUMENT_TEMPERATURE = 11.234
LENS_TEMPERATURE = 9.195
MACROPIXEL_SIZE = 2
MISSING_FRAMES = 0
PIXEL_SUBSAMPLING_FLAG = N
SIGNAL_CHAIN_ID = 2
/* RADIOMETRIC DATA ELEMENTS */
BANDWIDTH = 88.0
CENTER_FILTER_WAVELENGTH = 538.0
RADIANCE_OFFSET = 0.41215
RADIANCE_SCALING_FACTOR = 0.00313748
REFLECTANCE_SCALING_FACTOR = 0.000135815
MEX:REFLECTANCE_OFFSET = 0.0178411
/* IMAGE OBJECT DEFINITIONS */
OBJECT = IMAGE
  INTERCHANGE_FORMAT = BINARY
  LINES = 9572
  LINE_SAMPLES = 5143
  SAMPLE_TYPE = UNSIGNED_INTEGER
  SAMPLE_BITS = 8
  BANDS = 1
  BAND_STORAGE_TYPE = BAND_SEQUENTIAL
  MAXIMUM = 255
  MEAN = 114.663
  MINIMUM = 1
  STANDARD_DEVIATION = 45.3131
END_OBJECT = IMAGE
/* MAP OBJECT DEFINITIONS */
OBJECT = IMAGE_MAP_PROJECTION
  ^DATA_SET_MAP_PROJECTION_CATALOG= "DSMAP.CAT"
  A_AXIS_RADIUS = 3396.0
  B_AXIS_RADIUS = 3396.0
  C_AXIS_RADIUS = 3396.0
  CENTER_LATITUDE = 0.0
  CENTER_LONGITUDE = 159.0
  COORDINATE_SYSTEM_NAME = PLANETOGRAPHIC
  COORDINATE_SYSTEM_TYPE = "BODY-FIXED ROTATING"
  EASTERNMOST_LONGITUDE = 172.585
  FIRST_STANDARD_PARALLEL = "N/A"
  LINE_FIRST_PIXEL = 1
  LINE_LAST_PIXEL = 9572
  LINE_PROJECTION_OFFSET = -41052.75
  MAP_PROJECTION_ROTATION = 0.0
  MAP_PROJECTION_TYPE = SINUSOIDAL
  MAP_RESOLUTION = 592.713803866667
  MAP_SCALE = 0.1
  MAXIMUM_LATITUDE = -69.2602
  MINIMUM_LATITUDE = -85.4192
  POSITIVE_LONGITUDE_DIRECTION = EAST
  REFERENCE_LATITUDE = "N/A"
  REFERENCE_LONGITUDE = "N/A"
  SAMPLE_FIRST_PIXEL = 1
  SAMPLE_LAST_PIXEL = 5143
  SAMPLE_PROJECTION_OFFSET = 2300.75
  SECOND_STANDARD_PARALLEL = "N/A"
  WESTERNMOST_LONGITUDE = 125.849
END_OBJECT = IMAGE_MAP_PROJECTION
/* The JPEG2000 image data file associated with this label. */
OBJECT = COMPRESSED_FILE
  FILE_NAME = "H4894_0000_GR3.JP2"
  RECORD_TYPE = UNDEFINED
  FILE_RECORDS = UNK
  ENCODING_TYPE = "JP2"
  INTERCHANGE_FORMAT = BINARY
  UNCOMPRESSED_FILE_NAME = "H4894_0000_GR3.IMG"
  REQUIRED_STORAGE_BYTES = "49254511"
  ^DESCRIPTION = "JP2INFO.TXT"
END_OBJECT = COMPRESSED_FILE
END
