PDS_VERSION_ID = PDS3
/* FILE DATA ELEMENTS */
RECORD_TYPE = STREAM
/* POINTERS TO DATA OBJECTS */
^COMPRESSED_FILE = "H4898_0000_IR3.JP2"
/* IDENTIFICATION DATA ELEMENTS */
DATA_SET_ID = "MEX-M-HRSC-5-REFDR-MAPPROJECTED-V3.0"
DATA_SET_NAME = "MARS EXPRESS HRSC MAP PROJECTED REFDR V3.0"
DETECTOR_ID = MEX_HRSC_IR
EVENT_TYPE = "MARS-GLOBAL-VARIABLE-Gl-Ot-At"
INSTRUMENT_HOST_ID = MEX
INSTRUMENT_HOST_NAME = "MARS EXPRESS"
INSTRUMENT_ID = HRSC
INSTRUMENT_NAME = "HIGH RESOLUTION STEREO CAMERA"
MISSION_NAME = "MARS EXPRESS"
MISSION_PHASE_NAME = ME_Phase_10
PROCESSING_LEVEL_ID = 3
PRODUCT_CREATION_TIME = 2016-04-26T18:31:19.000Z
PRODUCT_ID = "H4898_0000_IR3.JP2"
RELEASE_ID = 0055
REVISION_ID = 0000
/* QUALITY DATA ELEMENTS */
DATA_QUALITY_ID = 1
DATA_QUALITY_DESC = "Data calculated based on original SPICE kernels"
/* TIME DATA ELEMENTS */
SPACECRAFT_CLOCK_START_COUNT = "1/0141452763.08363"
SPACECRAFT_CLOCK_STOP_COUNT = "1/0141453423.19382"
START_TIME = 2007-10-26T04:26:21.653Z
STOP_TIME = 2007-10-26T04:30:19.267Z
/* ORBITAL DATA ELEMENTS */
ASCENDING_NODE_LONGITUDE = 126.11
MAXIMUM_RESOLUTION = 69.4
FOOTPRINT_POINT_LATITUDE = (-85.1917,-85.4349,-85.838,-86.1586, -86.6619,-87.0019,-87.4135,-87.6408, -87.9598,-88.139,-88.2206,-88.2072, -88.0898,-87.8739,-87.583,-87.2388, -86.8565,-86.4459,-86.232,-86.0136, -85.7911,-85.5645,-85.3342,-85.1007, -84.8646,-84.6252,-84.3817,-84.1385, -83.8927,-83.6442,-83.3936,-83.141, -82.8862,-82.6286,-82.3687,-82.1069, -81.8436,-81.5787,-81.3111,-81.0422, -80.7733,-80.4975,-80.2239,-79.951, -79.6731,-79.2549,-78.9684,-78.684, -78.2594,-78.0125,-77.9667,-77.9128, -77.8347,-77.758,-77.6743,-77.5269, -77.4138,-77.3189,-77.2188,-77.1132, -77.0156,-77.284,-77.6845,-77.9489, -78.2113,-78.4718,-78.73,-78.9839, -79.2349,-79.4829,-79.7271,-79.9671, -80.2065,-80.4447,-80.6763,-80.9047, -81.1302,-81.3533,-81.5719,-81.7872, -81.9974,-82.2035,-82.4053,-82.5978, -82.7912,-82.9794,-83.1621,-83.4265, -83.5991,-83.7649,-84.0711,-84.3472, -84.5909,-84.7988,-84.9687,-85.07, -85.185,-85.2278,-85.2261,-85.1917)
FOOTPRINT_POINT_LONGITUDE = (41.0921,40.3923,39.058,37.7994,35.3386 ,33.2018,29.826,27.4212,25.5958,37.6984 ,51.7417,62.7222,76.5396,88.3195, 97.6588,104.892,110.502,114.904,116.753 ,118.408,119.897,121.242,122.465, 123.577,124.59,125.519,126.385,127.161, 127.881,128.549,129.169,129.745,130.284 ,130.791,131.266,131.711,132.128, 132.518,132.89,133.238,133.56,133.882, 134.174,134.442,134.707,135.074,135.319 ,135.541,135.842,133.745,132.268, 130.807,129.003,127.586,126.185,123.942 ,122.421,121.258,120.112,118.984, 117.972,117.521,116.81,116.312,115.793, 115.251,114.686,114.098,113.484,112.843 ,112.175,111.478,110.747,109.98,109.182 ,108.346,107.471,106.551,105.589, 104.578,103.521,102.412,101.249,100.043 ,98.7591,97.4126,96.0013,93.7471, 92.1335,90.4411,86.8428,82.9138,78.6506 ,74.0652,69.1765,65.3362,58.706,53.298, 47.9431,41.0921)
ORBIT_NUMBER = 4898
ORBITAL_ECCENTRICITY = 0.57
ORBITAL_INCLINATION = 86.7
ORBITAL_SEMIMAJOR_AXIS = 8588.51
PERIAPSIS_ALTITUDE = 302.96
PERIAPSIS_ARGUMENT_ANGLE = 216.66
PERIAPSIS_TIME = 2007-10-26T04:13:01.000Z
SPACECRAFT_ORIENTATION = (0.0,-1.0,0.0)
^MEX_ORIENTATION_DESC = "MEX_ORIENTATION_DESC.TXT"
SPACECRAFT_POINTING_MODE = NADIR
^MEX_POINTING_DESC = "MEX_POINTING_DESC.TXT"
RIGHT_ASCENSION = -1e+32
DECLINATION = -1e+32
OFFSET_ANGLE = -1e+32
SPACECRAFT_SOLAR_DISTANCE = 2.24444e+08
TARGET_NAME = MARS
/* CAMERA DATA ELEMENTS */
DETECTOR_TEMPERATURE = 17.5549
FOCAL_PLANE_TEMPERATURE = 7.9716
INST_CMPRS_NAME = "DISCRETE COSINE TRANSFORMATION (DCT)"
INST_CMPRS_RATIO = 11.277
INST_CMPRS_QUALITY = 0
INST_CMPRS_QUANTZ_TBL_ID = 0
INSTRUMENT_TEMPERATURE = 11.234
LENS_TEMPERATURE = 8.5833
MACROPIXEL_SIZE = 2
MISSING_FRAMES = 0
PIXEL_SUBSAMPLING_FLAG = N
SIGNAL_CHAIN_ID = 3
/* RADIOMETRIC DATA ELEMENTS */
BANDWIDTH = 81.0
CENTER_FILTER_WAVELENGTH = 955.5
RADIANCE_OFFSET = 0.237628
RADIANCE_SCALING_FACTOR = 0.00232969
REFLECTANCE_SCALING_FACTOR = 0.00025319
MEX:REFLECTANCE_OFFSET = 0.0258254
/* IMAGE OBJECT DEFINITIONS */
OBJECT = IMAGE
  INTERCHANGE_FORMAT = BINARY
  LINES = 13039
  LINE_SAMPLES = 13757
  SAMPLE_TYPE = UNSIGNED_INTEGER
  SAMPLE_BITS = 8
  BANDS = 1
  BAND_STORAGE_TYPE = BAND_SEQUENTIAL
  MAXIMUM = 255
  MEAN = 72.793
  MINIMUM = 1
  STANDARD_DEVIATION = 28.2141
END_OBJECT = IMAGE
/* MAP OBJECT DEFINITIONS */
OBJECT = IMAGE_MAP_PROJECTION
  ^DATA_SET_MAP_PROJECTION_CATALOG= "DSMAP.CAT"
  A_AXIS_RADIUS = 3396.0
  B_AXIS_RADIUS = 3396.0
  C_AXIS_RADIUS = 3396.0
  CENTER_LATITUDE = 0.0
  CENTER_LONGITUDE = 109.0
  COORDINATE_SYSTEM_NAME = PLANETOGRAPHIC
  COORDINATE_SYSTEM_TYPE = "BODY-FIXED ROTATING"
  EASTERNMOST_LONGITUDE = 135.842
  FIRST_STANDARD_PARALLEL = "N/A"
  LINE_FIRST_PIXEL = 1
  LINE_LAST_PIXEL = 13039
  LINE_PROJECTION_OFFSET = -91210.25
  MAP_PROJECTION_ROTATION = 0.0
  MAP_PROJECTION_TYPE = SINUSOIDAL
  MAP_RESOLUTION = 1185.42760773333
  MAP_SCALE = 0.05
  MAXIMUM_LATITUDE = -77.01560000000001
  MINIMUM_LATITUDE = -88.2206
  POSITIVE_LONGITUDE_DIRECTION = EAST
  REFERENCE_LATITUDE = "N/A"
  REFERENCE_LONGITUDE = "N/A"
  SAMPLE_FIRST_PIXEL = 1
  SAMPLE_LAST_PIXEL = 13757
  SAMPLE_PROJECTION_OFFSET = 6876.75
  SECOND_STANDARD_PARALLEL = "N/A"
  WESTERNMOST_LONGITUDE = 25.5958
END_OBJECT = IMAGE_MAP_PROJECTION
/* The JPEG2000 image data file associated with this label. */
OBJECT = COMPRESSED_FILE
  FILE_NAME = "H4898_0000_IR3.JP2"
  RECORD_TYPE = UNDEFINED
  FILE_RECORDS = UNK
  ENCODING_TYPE = "JP2"
  INTERCHANGE_FORMAT = BINARY
  UNCOMPRESSED_FILE_NAME = "H4898_0000_IR3.IMG"
  REQUIRED_STORAGE_BYTES = "179418794"
  ^DESCRIPTION = "JP2INFO.TXT"
END_OBJECT = COMPRESSED_FILE
END
