PDS_VERSION_ID = PDS3
/* FILE DATA ELEMENTS */
RECORD_TYPE = STREAM
/* POINTERS TO DATA OBJECTS */
^COMPRESSED_FILE = "H4926_0009_IR3.JP2"
/* IDENTIFICATION DATA ELEMENTS */
DATA_SET_ID = "MEX-M-HRSC-5-REFDR-MAPPROJECTED-V3.0"
DATA_SET_NAME = "MARS EXPRESS HRSC MAP PROJECTED REFDR V3.0"
DETECTOR_ID = MEX_HRSC_IR
EVENT_TYPE = "MARS-REGIONAL-VARIABLE-Gl-At"
INSTRUMENT_HOST_ID = MEX
INSTRUMENT_HOST_NAME = "MARS EXPRESS"
INSTRUMENT_ID = HRSC
INSTRUMENT_NAME = "HIGH RESOLUTION STEREO CAMERA"
MISSION_NAME = "MARS EXPRESS"
MISSION_PHASE_NAME = ME_Phase_10
PROCESSING_LEVEL_ID = 3
PRODUCT_CREATION_TIME = 2016-04-26T20:32:38.000Z
PRODUCT_ID = "H4926_0009_IR3.JP2"
RELEASE_ID = 0056
REVISION_ID = 0000
/* QUALITY DATA ELEMENTS */
DATA_QUALITY_ID = 1
DATA_QUALITY_DESC = "Data calculated based on original SPICE kernels"
/* TIME DATA ELEMENTS */
SPACECRAFT_CLOCK_START_COUNT = "1/0142130177.07289"
SPACECRAFT_CLOCK_STOP_COUNT = "1/0142130714.14503"
START_TIME = 2007-11-03T00:36:33.279Z
STOP_TIME = 2007-11-03T00:41:00.560Z
/* ORBITAL DATA ELEMENTS */
ASCENDING_NODE_LONGITUDE = 125.54
MAXIMUM_RESOLUTION = 69.9
FOOTPRINT_POINT_LATITUDE = (-82.8886,-82.9983,-83.0823,-83.1386, -83.165,-83.1597,-83.1335,-83.6984, -84.2681,-84.8406,-85.2708,-85.8418, -86.4063,-86.9554,-87.2188,-87.4706, -87.7065,-87.9188,-88.0982,-88.2338, -88.3127,-88.3254,-88.2154,-88.0644, -87.8635,-87.6249,-87.3565,-87.0662, -86.7576,-86.4349,-86.1006,-85.5752, -85.2189,-84.8531,-84.481,-84.1037, -83.7195,-83.3304,-82.9335,-82.5328, -82.1268,-81.7084,-81.0745,-80.6478, -79.9979,-79.5573,-79.1098,-78.6547, -78.4331,-78.5343,-78.6145,-78.7014, -78.7978,-78.841,-78.8524,-78.8418, -78.805,-78.7507,-79.2005,-79.6345, -80.0659,-80.4994,-80.9253,-81.3419, -81.754,-82.1603,-82.5608,-82.9546, -83.3439,-83.7245,-84.0999,-84.4709, -84.8327,-85.186,-85.5299,-85.8667, -86.3536,-86.8115,-87.0929,-87.3535, -87.5872,-87.7854,-87.9411,-88.0461, -88.093,-88.0475,-87.9487,-87.8036, -87.6223,-87.4129,-87.1835,-86.6833, -86.1502,-85.5993,-85.0411,-84.4798, -83.9178,-83.3594,-82.8886)
FOOTPRINT_POINT_LONGITUDE = (107.8,104.271,100.59,96.7751,92.8557, 88.8575,83.159,81.884,80.3322,78.3977, 76.6035,73.6385,69.6372,64.1027,60.4662 ,56.0768,50.68,44.0642,35.984,26.3996, 15.4577,3.80532,346.998,337.28,329.096, 322.383,316.915,312.451,308.778,305.731 ,303.172,300.07,298.348,296.864,295.564 ,294.414,293.399,292.488,291.68,290.947 ,290.282,289.702,288.909,288.43,287.777 ,287.385,287.026,286.697,285.336, 283.489,281.65,279.331,276.061,273.065, 271.004,268.063,265.397,262.916,262.508 ,262.092,261.637,261.126,260.577, 259.991,259.349,258.649,257.88,257.037, 256.097,255.066,253.908,252.591,251.118 ,249.452,247.557,245.347,241.298, 236.093,231.856,226.76,220.637,213.443, 205.098,195.725,180.46,170.391,161.206, 153.106,146.186,140.361,135.494,127.986 ,122.589,118.591,115.538,113.14,111.215 ,109.642,107.8)
ORBIT_NUMBER = 4926
ORBITAL_ECCENTRICITY = 0.571
ORBITAL_INCLINATION = 86.7
ORBITAL_SEMIMAJOR_AXIS = 8602.8
PERIAPSIS_ALTITUDE = 303.63
PERIAPSIS_ARGUMENT_ANGLE = 211.74
PERIAPSIS_TIME = 2007-11-03T00:22:45.000Z
SPACECRAFT_ORIENTATION = (0.0,-1.0,0.0)
^MEX_ORIENTATION_DESC = "MEX_ORIENTATION_DESC.TXT"
SPACECRAFT_POINTING_MODE = INERT
^MEX_POINTING_DESC = "MEX_POINTING_DESC.TXT"
RIGHT_ASCENSION = 204.584
DECLINATION = 55.63
OFFSET_ANGLE = -1e+32
SPACECRAFT_SOLAR_DISTANCE = 2.25974e+08
TARGET_NAME = MARS
/* CAMERA DATA ELEMENTS */
DETECTOR_TEMPERATURE = 19.5939
FOCAL_PLANE_TEMPERATURE = 8.3794
INST_CMPRS_NAME = "DISCRETE COSINE TRANSFORMATION (DCT)"
INST_CMPRS_RATIO = 7.54496
INST_CMPRS_QUALITY = 0
INST_CMPRS_QUANTZ_TBL_ID = 0
INSTRUMENT_TEMPERATURE = 14.0886
LENS_TEMPERATURE = 8.7872
MACROPIXEL_SIZE = 2
MISSING_FRAMES = 0
PIXEL_SUBSAMPLING_FLAG = N
SIGNAL_CHAIN_ID = 3
/* RADIOMETRIC DATA ELEMENTS */
BANDWIDTH = 81.0
CENTER_FILTER_WAVELENGTH = 955.5
RADIANCE_OFFSET = 0.235841
RADIANCE_SCALING_FACTOR = 0.00380517
REFLECTANCE_SCALING_FACTOR = 0.000419206
MEX:REFLECTANCE_OFFSET = 0.025982
/* IMAGE OBJECT DEFINITIONS */
OBJECT = IMAGE
  INTERCHANGE_FORMAT = BINARY
  LINES = 3323
  LINE_SAMPLES = 10792
  SAMPLE_TYPE = UNSIGNED_INTEGER
  SAMPLE_BITS = 8
  BANDS = 1
  BAND_STORAGE_TYPE = BAND_SEQUENTIAL
  MAXIMUM = 255
  MEAN = 79.3169
  MINIMUM = 1
  STANDARD_DEVIATION = 48.958
END_OBJECT = IMAGE
/* MAP OBJECT DEFINITIONS */
OBJECT = IMAGE_MAP_PROJECTION
  ^DATA_SET_MAP_PROJECTION_CATALOG= "DSMAP.CAT"
  A_AXIS_RADIUS = 3396.0
  B_AXIS_RADIUS = 3396.0
  C_AXIS_RADIUS = 3396.0
  CENTER_LATITUDE = -90.0
  CENTER_LONGITUDE = 0.0
  COORDINATE_SYSTEM_NAME = PLANETOGRAPHIC
  COORDINATE_SYSTEM_TYPE = "BODY-FIXED ROTATING"
  EASTERNMOST_LONGITUDE = 360.0
  FIRST_STANDARD_PARALLEL = "N/A"
  LINE_FIRST_PIXEL = 1
  LINE_LAST_PIXEL = 3323
  LINE_PROJECTION_OFFSET = 1914.75
  MAP_PROJECTION_ROTATION = 0.0
  MAP_PROJECTION_TYPE = STEREOGRAPHIC
  MAP_RESOLUTION = 592.713803866667
  MAP_SCALE = 0.1
  MAXIMUM_LATITUDE = -78.4331
  MINIMUM_LATITUDE = -90.0
  POSITIVE_LONGITUDE_DIRECTION = EAST
  REFERENCE_LATITUDE = "N/A"
  REFERENCE_LONGITUDE = "N/A"
  SAMPLE_FIRST_PIXEL = 1
  SAMPLE_LAST_PIXEL = 10792
  SAMPLE_PROJECTION_OFFSET = 6705.25
  SECOND_STANDARD_PARALLEL = "N/A"
  WESTERNMOST_LONGITUDE = 0.0
END_OBJECT = IMAGE_MAP_PROJECTION
/* The JPEG2000 image data file associated with this label. */
OBJECT = COMPRESSED_FILE
  FILE_NAME = "H4926_0009_IR3.JP2"
  RECORD_TYPE = UNDEFINED
  FILE_RECORDS = UNK
  ENCODING_TYPE = "JP2"
  INTERCHANGE_FORMAT = BINARY
  UNCOMPRESSED_FILE_NAME = "H4926_0009_IR3.IMG"
  REQUIRED_STORAGE_BYTES = "35894192"
  ^DESCRIPTION = "JP2INFO.TXT"
END_OBJECT = COMPRESSED_FILE
END
