PDS_VERSION_ID = PDS3
/* FILE DATA ELEMENTS */
RECORD_TYPE = STREAM
/* POINTERS TO DATA OBJECTS */
^COMPRESSED_FILE = "H4926_0009_RE3.JP2"
/* IDENTIFICATION DATA ELEMENTS */
DATA_SET_ID = "MEX-M-HRSC-5-REFDR-MAPPROJECTED-V3.0"
DATA_SET_NAME = "MARS EXPRESS HRSC MAP PROJECTED REFDR V3.0"
DETECTOR_ID = MEX_HRSC_RED
EVENT_TYPE = "MARS-REGIONAL-VARIABLE-Gl-At"
INSTRUMENT_HOST_ID = MEX
INSTRUMENT_HOST_NAME = "MARS EXPRESS"
INSTRUMENT_ID = HRSC
INSTRUMENT_NAME = "HIGH RESOLUTION STEREO CAMERA"
MISSION_NAME = "MARS EXPRESS"
MISSION_PHASE_NAME = ME_Phase_10
PROCESSING_LEVEL_ID = 3
PRODUCT_CREATION_TIME = 2016-04-26T20:32:38.000Z
PRODUCT_ID = "H4926_0009_RE3.JP2"
RELEASE_ID = 0056
REVISION_ID = 0000
/* QUALITY DATA ELEMENTS */
DATA_QUALITY_ID = 1
DATA_QUALITY_DESC = "Data calculated based on original SPICE kernels"
/* TIME DATA ELEMENTS */
SPACECRAFT_CLOCK_START_COUNT = "1/0142130177.07289"
SPACECRAFT_CLOCK_STOP_COUNT = "1/0142130714.14503"
START_TIME = 2007-11-03T00:39:13.947Z
STOP_TIME = 2007-11-03T00:44:48.918Z
/* ORBITAL DATA ELEMENTS */
ASCENDING_NODE_LONGITUDE = 125.54
MAXIMUM_RESOLUTION = 90.6
FOOTPRINT_POINT_LATITUDE = (-83.2747,-83.3383,-83.3473,-83.2985, -83.19,-83.0207,-82.7878,-83.2223, -83.8036,-84.3864,-84.9659,-85.5404, -86.1029,-86.3739,-86.639,-86.8903, -87.1268,-87.3424,-87.5299,-87.6831, -87.7914,-87.8474,-87.8223,-87.7332, -87.5896,-87.4008,-87.1743,-86.9174, -86.6353,-86.3329,-86.0137,-85.6824, -85.1705,-84.822,-84.4681,-84.1105, -83.75,-83.3866,-82.8376,-82.4694, -82.0998,-81.5438,-80.7985,-80.4248, -79.8629,-79.4875,-79.1118,-78.6906, -78.7669,-78.8032,-78.8226,-78.8151, -78.787,-78.7404,-78.6918,-78.6235, -78.5196,-78.4354,-78.4982,-79.0607, -79.622,-79.9952,-80.5549,-81.1126, -81.4829,-81.8521,-82.2206,-82.5871, -82.952,-83.3149,-83.8549,-84.2109, -84.7374,-85.082,-85.586,-85.9117, -86.2213,-86.5124,-86.7842,-87.0322, -87.2472,-87.4275,-87.6165,-87.6786, -87.6699,-87.6001,-87.4845,-87.3303, -87.1448,-86.9343,-86.7044,-86.4595, -85.9382,-85.3922,-84.8308,-84.2616, -83.6905,-83.119,-83.2747)
FOOTPRINT_POINT_LONGITUDE = (106.621,101.586,96.4041,91.1655, 85.9534,80.8409,78.0277,76.8836,75.0827 ,72.8777,70.1122,66.5843,61.9501, 59.0663,55.7004,51.7387,47.0682,41.5477 ,35.0748,27.5768,19.1224,5.32261, 355.717,346.662,338.46,331.253,325.034, 319.754,315.273,311.463,308.222,305.49, 302.081,300.252,298.558,297.098,295.823 ,294.669,293.172,292.288,291.493, 290.465,289.259,288.73,288.002,287.555, 287.143,285.848,282.768,280.563,277.757 ,274.481,272.062,269.677,267.853, 265.804,263.303,261.592,259.177,258.598 ,257.952,257.479,256.698,255.815, 255.159,254.442,253.656,252.789,251.83, 250.763,248.924,247.504,245.009,243.047 ,239.529,236.704,233.437,229.65,225.228 ,220.058,214.112,207.28,195.472,186.896 ,173.927,165.64,158.046,151.291,145.383 ,140.281,135.898,132.133,126.085, 121.538,118.016,115.233,112.996,111.159 ,106.621)
ORBIT_NUMBER = 4926
ORBITAL_ECCENTRICITY = 0.571
ORBITAL_INCLINATION = 86.7
ORBITAL_SEMIMAJOR_AXIS = 8602.8
PERIAPSIS_ALTITUDE = 303.63
PERIAPSIS_ARGUMENT_ANGLE = 211.74
PERIAPSIS_TIME = 2007-11-03T00:22:45.000Z
SPACECRAFT_ORIENTATION = (0.0,-1.0,0.0)
^MEX_ORIENTATION_DESC = "MEX_ORIENTATION_DESC.TXT"
SPACECRAFT_POINTING_MODE = INERT
^MEX_POINTING_DESC = "MEX_POINTING_DESC.TXT"
RIGHT_ASCENSION = 204.584
DECLINATION = 55.63
OFFSET_ANGLE = -1e+32
SPACECRAFT_SOLAR_DISTANCE = 2.25974e+08
TARGET_NAME = MARS
/* CAMERA DATA ELEMENTS */
DETECTOR_TEMPERATURE = 21.8368
FOCAL_PLANE_TEMPERATURE = 8.3794
INST_CMPRS_NAME = "DISCRETE COSINE TRANSFORMATION (DCT)"
INST_CMPRS_RATIO = 9.63464
INST_CMPRS_QUALITY = 0
INST_CMPRS_QUANTZ_TBL_ID = 0
INSTRUMENT_TEMPERATURE = 14.0886
LENS_TEMPERATURE = 8.7872
MACROPIXEL_SIZE = 2
MISSING_FRAMES = 0
PIXEL_SUBSAMPLING_FLAG = N
SIGNAL_CHAIN_ID = 3
/* RADIOMETRIC DATA ELEMENTS */
BANDWIDTH = 48.0
CENTER_FILTER_WAVELENGTH = 748.0
RADIANCE_OFFSET = 0.263023
RADIANCE_SCALING_FACTOR = 0.00372473
REFLECTANCE_SCALING_FACTOR = 0.000434056
MEX:REFLECTANCE_OFFSET = 0.030651
/* IMAGE OBJECT DEFINITIONS */
OBJECT = IMAGE
  INTERCHANGE_FORMAT = BINARY
  LINES = 3323
  LINE_SAMPLES = 10792
  SAMPLE_TYPE = UNSIGNED_INTEGER
  SAMPLE_BITS = 8
  BANDS = 1
  BAND_STORAGE_TYPE = BAND_SEQUENTIAL
  MAXIMUM = 255
  MEAN = 69.4494
  MINIMUM = 1
  STANDARD_DEVIATION = 49.7221
END_OBJECT = IMAGE
/* MAP OBJECT DEFINITIONS */
OBJECT = IMAGE_MAP_PROJECTION
  ^DATA_SET_MAP_PROJECTION_CATALOG= "DSMAP.CAT"
  A_AXIS_RADIUS = 3396.0
  B_AXIS_RADIUS = 3396.0
  C_AXIS_RADIUS = 3396.0
  CENTER_LATITUDE = -90.0
  CENTER_LONGITUDE = 0.0
  COORDINATE_SYSTEM_NAME = PLANETOGRAPHIC
  COORDINATE_SYSTEM_TYPE = "BODY-FIXED ROTATING"
  EASTERNMOST_LONGITUDE = 360.0
  FIRST_STANDARD_PARALLEL = "N/A"
  LINE_FIRST_PIXEL = 1
  LINE_LAST_PIXEL = 3323
  LINE_PROJECTION_OFFSET = 1914.75
  MAP_PROJECTION_ROTATION = 0.0
  MAP_PROJECTION_TYPE = STEREOGRAPHIC
  MAP_RESOLUTION = 592.713803866667
  MAP_SCALE = 0.1
  MAXIMUM_LATITUDE = -78.4354
  MINIMUM_LATITUDE = -90.0
  POSITIVE_LONGITUDE_DIRECTION = EAST
  REFERENCE_LATITUDE = "N/A"
  REFERENCE_LONGITUDE = "N/A"
  SAMPLE_FIRST_PIXEL = 1
  SAMPLE_LAST_PIXEL = 10792
  SAMPLE_PROJECTION_OFFSET = 6705.25
  SECOND_STANDARD_PARALLEL = "N/A"
  WESTERNMOST_LONGITUDE = 0.0
END_OBJECT = IMAGE_MAP_PROJECTION
/* The JPEG2000 image data file associated with this label. */
OBJECT = COMPRESSED_FILE
  FILE_NAME = "H4926_0009_RE3.JP2"
  RECORD_TYPE = UNDEFINED
  FILE_RECORDS = UNK
  ENCODING_TYPE = "JP2"
  INTERCHANGE_FORMAT = BINARY
  UNCOMPRESSED_FILE_NAME = "H4926_0009_RE3.IMG"
  REQUIRED_STORAGE_BYTES = "35894192"
  ^DESCRIPTION = "JP2INFO.TXT"
END_OBJECT = COMPRESSED_FILE
END
