PDS_VERSION_ID = PDS3
/* FILE DATA ELEMENTS */
RECORD_TYPE = STREAM
/* POINTERS TO DATA OBJECTS */
^COMPRESSED_FILE = "H4972_0001_P23.JP2"
/* IDENTIFICATION DATA ELEMENTS */
DATA_SET_ID = "MEX-M-HRSC-5-REFDR-MAPPROJECTED-V3.0"
DATA_SET_NAME = "MARS EXPRESS HRSC MAP PROJECTED REFDR V3.0"
DETECTOR_ID = MEX_HRSC_P2
EVENT_TYPE = "MARS-TERMINATOR-VARIABLE-Ot-At"
INSTRUMENT_HOST_ID = MEX
INSTRUMENT_HOST_NAME = "MARS EXPRESS"
INSTRUMENT_ID = HRSC
INSTRUMENT_NAME = "HIGH RESOLUTION STEREO CAMERA"
MISSION_NAME = "MARS EXPRESS"
MISSION_PHASE_NAME = ME_Phase_10
PROCESSING_LEVEL_ID = 3
PRODUCT_CREATION_TIME = 2016-04-26T20:32:38.000Z
PRODUCT_ID = "H4972_0001_P23.JP2"
RELEASE_ID = 0056
REVISION_ID = 0000
/* QUALITY DATA ELEMENTS */
DATA_QUALITY_ID = 2
DATA_QUALITY_DESC = "Data calculated based on photogrammetrically improved orbit and attitude data"
/* TIME DATA ELEMENTS */
SPACECRAFT_CLOCK_START_COUNT = "1/0143243062.09081"
SPACECRAFT_CLOCK_STOP_COUNT = "1/0143243707.38968"
START_TIME = 2007-11-15T21:47:59.824Z
STOP_TIME = 2007-11-15T21:52:54.915Z
/* ORBITAL DATA ELEMENTS */
ASCENDING_NODE_LONGITUDE = 124.59
MAXIMUM_RESOLUTION = 193.6
FOOTPRINT_POINT_LATITUDE = (-78.7616,-78.8972,-79.0255,-79.1317, -79.2458,-79.3777,-79.4742,-79.5623, -79.6324,-79.7046,-79.768,-79.8225, -79.8679,-80.1536,-80.3769,-80.5977, -80.8188,-81.0392,-81.2586,-81.4766, -81.6937,-81.9102,-82.1257,-82.34, -82.5536,-82.7657,-82.9772,-83.1891, -83.3983,-83.607,-83.9195,-84.126, -84.3316,-84.5359,-84.9417,-85.3432, -85.643,-86.041,-86.3352,-86.7253, -87.015,-87.4926,-87.8691,-88.2399, -88.6938,-89.0398,-89.3536,-89.567, -89.2234,-88.9073,-88.6443,-88.3817, -88.172,-87.9624,-87.7532,-87.4917, -87.2825,-87.0734,-86.7073,-86.498, -86.2886,-86.0268,-85.6603,-85.2404, -84.9773,-84.6615,-84.3978,-84.0258, -83.9662,-83.9656,-83.9442,-83.9153, -83.8533,-83.7511,-83.6714,-83.5452, -83.359,-83.1381,-82.995,-82.7854, -82.5563,-82.3765,-82.1226,-81.7861, -81.4974,-81.2776,-81.041,-80.8851, -80.6479,-80.4854,-80.3185,-80.1492, -79.9773,-79.7156,-79.5383,-79.3572, -79.1737,-78.9853,-78.7034,-78.7616)
FOOTPRINT_POINT_LONGITUDE = (277.051,275.652,274.222,272.944, 271.453,269.546,267.987,266.4,264.991, 263.356,261.698,260.016,258.316,257.01, 257.068,257.123,257.185,257.251,257.319 ,257.39,257.463,257.541,257.624,257.709 ,257.799,257.891,257.991,258.103, 258.212,258.33,258.528,258.666,258.814, 258.97,259.315,259.711,260.062,260.625, 261.102,261.882,262.589,264.116,265.807 ,268.197,273.098,280.139,294.365,326.98 ,342.28,341.339,340.858,340.519,340.306 ,340.131,339.974,339.799,339.677, 339.563,339.393,339.32,339.237,339.137, 339.009,338.841,338.739,338.638,338.562 ,338.423,335.884,333.364,329.959, 327.434,324.039,319.939,317.509,314.339 ,310.533,306.895,304.831,302.179, 299.654,297.861,295.584,292.924,290.926 ,289.517,288.155,287.291,286.047, 285.248,284.472,283.719,282.99,281.939, 281.265,280.61,279.976,279.36,278.472, 277.051)
ORBIT_NUMBER = 4972
ORBITAL_ECCENTRICITY = 0.571
ORBITAL_INCLINATION = 86.7
ORBITAL_SEMIMAJOR_AXIS = 8618.71
PERIAPSIS_ALTITUDE = 305.73
PERIAPSIS_ARGUMENT_ANGLE = 203.69
PERIAPSIS_TIME = 2007-11-15T21:30:14.000Z
SPACECRAFT_ORIENTATION = (0.0,-1.0,0.0)
^MEX_ORIENTATION_DESC = "MEX_ORIENTATION_DESC.TXT"
SPACECRAFT_POINTING_MODE = NADIR
^MEX_POINTING_DESC = "MEX_POINTING_DESC.TXT"
RIGHT_ASCENSION = -1e+32
DECLINATION = -1e+32
OFFSET_ANGLE = -1e+32
SPACECRAFT_SOLAR_DISTANCE = 2.28485e+08
TARGET_NAME = MARS
/* CAMERA DATA ELEMENTS */
DETECTOR_TEMPERATURE = 21.0212
FOCAL_PLANE_TEMPERATURE = 7.9716
INST_CMPRS_NAME = "DISCRETE COSINE TRANSFORMATION (DCT)"
INST_CMPRS_RATIO = 11.5856
INST_CMPRS_QUALITY = 0
INST_CMPRS_QUANTZ_TBL_ID = 0
INSTRUMENT_TEMPERATURE = 13.273
LENS_TEMPERATURE = 8.9911
MACROPIXEL_SIZE = 4
MISSING_FRAMES = 0
PIXEL_SUBSAMPLING_FLAG = N
SIGNAL_CHAIN_ID = 1
/* RADIOMETRIC DATA ELEMENTS */
BANDWIDTH = 177.0
CENTER_FILTER_WAVELENGTH = 676.5
RADIANCE_OFFSET = 0.167009
RADIANCE_SCALING_FACTOR = 0.0073353
REFLECTANCE_SCALING_FACTOR = 0.000203049
MEX:REFLECTANCE_OFFSET = 0.00462299
/* IMAGE OBJECT DEFINITIONS */
OBJECT = IMAGE
  INTERCHANGE_FORMAT = BINARY
  LINES = 2743
  LINE_SAMPLES = 2936
  SAMPLE_TYPE = UNSIGNED_INTEGER
  SAMPLE_BITS = 8
  BANDS = 1
  BAND_STORAGE_TYPE = BAND_SEQUENTIAL
  MAXIMUM = 245
  MEAN = 70.1794
  MINIMUM = 1
  STANDARD_DEVIATION = 44.6979
END_OBJECT = IMAGE
/* MAP OBJECT DEFINITIONS */
OBJECT = IMAGE_MAP_PROJECTION
  ^DATA_SET_MAP_PROJECTION_CATALOG= "DSMAP.CAT"
  A_AXIS_RADIUS = 3396.0
  B_AXIS_RADIUS = 3396.0
  C_AXIS_RADIUS = 3396.0
  CENTER_LATITUDE = 0.0
  CENTER_LONGITUDE = 284.0
  COORDINATE_SYSTEM_NAME = PLANETOGRAPHIC
  COORDINATE_SYSTEM_TYPE = "BODY-FIXED ROTATING"
  EASTERNMOST_LONGITUDE = 342.28
  FIRST_STANDARD_PARALLEL = "N/A"
  LINE_FIRST_PIXEL = 1
  LINE_LAST_PIXEL = 2743
  LINE_PROJECTION_OFFSET = -23320.25
  MAP_PROJECTION_ROTATION = 0.0
  MAP_PROJECTION_TYPE = SINUSOIDAL
  MAP_RESOLUTION = 296.356901933333
  MAP_SCALE = 0.2
  MAXIMUM_LATITUDE = -78.7034
  MINIMUM_LATITUDE = -89.56699999999999
  POSITIVE_LONGITUDE_DIRECTION = EAST
  REFERENCE_LATITUDE = "N/A"
  REFERENCE_LONGITUDE = "N/A"
  SAMPLE_FIRST_PIXEL = 1
  SAMPLE_LAST_PIXEL = 2936
  SAMPLE_PROJECTION_OFFSET = 1338.25
  SECOND_STANDARD_PARALLEL = "N/A"
  WESTERNMOST_LONGITUDE = 257.01
END_OBJECT = IMAGE_MAP_PROJECTION
/* The JPEG2000 image data file associated with this label. */
OBJECT = COMPRESSED_FILE
  FILE_NAME = "H4972_0001_P23.JP2"
  RECORD_TYPE = UNDEFINED
  FILE_RECORDS = UNK
  ENCODING_TYPE = "JP2"
  INTERCHANGE_FORMAT = BINARY
  UNCOMPRESSED_FILE_NAME = "H4972_0001_P23.IMG"
  REQUIRED_STORAGE_BYTES = "8076936"
  ^DESCRIPTION = "JP2INFO.TXT"
END_OBJECT = COMPRESSED_FILE
END
