PDS_VERSION_ID = PDS3
/* FILE DATA ELEMENTS */
RECORD_TYPE = STREAM
/* POINTERS TO DATA OBJECTS */
^COMPRESSED_FILE = "H4974_0000_ND3.JP2"
/* IDENTIFICATION DATA ELEMENTS */
DATA_SET_ID = "MEX-M-HRSC-5-REFDR-MAPPROJECTED-V3.0"
DATA_SET_NAME = "MARS EXPRESS HRSC MAP PROJECTED REFDR V3.0"
DETECTOR_ID = MEX_HRSC_NADIR
EVENT_TYPE = "MARS-TERMINATOR-VARIABLE-Ot-At"
INSTRUMENT_HOST_ID = MEX
INSTRUMENT_HOST_NAME = "MARS EXPRESS"
INSTRUMENT_ID = HRSC
INSTRUMENT_NAME = "HIGH RESOLUTION STEREO CAMERA"
MISSION_NAME = "MARS EXPRESS"
MISSION_PHASE_NAME = ME_Phase_10
PROCESSING_LEVEL_ID = 3
PRODUCT_CREATION_TIME = 2016-04-26T20:32:38.000Z
PRODUCT_ID = "H4974_0000_ND3.JP2"
RELEASE_ID = 0056
REVISION_ID = 0000
/* QUALITY DATA ELEMENTS */
DATA_QUALITY_ID = 1
DATA_QUALITY_DESC = "Data calculated based on original SPICE kernels"
/* TIME DATA ELEMENTS */
SPACECRAFT_CLOCK_START_COUNT = "1/0143290694.09375"
SPACECRAFT_CLOCK_STOP_COUNT = "1/0143291200.07205"
START_TIME = 2007-11-16T10:58:46.318Z
STOP_TIME = 2007-11-16T11:05:37.315Z
/* ORBITAL DATA ELEMENTS */
ASCENDING_NODE_LONGITUDE = 124.55
MAXIMUM_RESOLUTION = 26.3
FOOTPRINT_POINT_LATITUDE = (-31.8078,-31.8134,-32.6386,-33.2707, -33.696,-34.1208,-34.5453,-34.9692, -35.4057,-35.8427,-36.2793,-36.7153, -37.1506,-37.5854,-38.0195,-38.4531, -38.8859,-39.3181,-39.7497,-40.4813, -40.994,-41.5056,-42.0161,-42.5256, -43.0339,-43.5411,-44.0471,-44.5518, -45.3211,-46.1007,-46.6274,-47.1619, -47.9731,-48.5212,-49.0783,-49.6401, -50.2092,-50.7873,-51.3715,-51.9628, -52.5628,-53.1722,-53.7895,-54.4155, -55.0506,-55.6947,-56.3489,-57.0128, -57.361,-57.3368,-57.3074,-57.2662, -56.9051,-56.2474,-55.5989,-54.9601, -54.33,-53.7088,-53.0959,-52.4907, -51.895,-51.3074,-50.7266,-50.1518, -49.5859,-49.027,-48.4725,-47.9276, -47.1201,-46.5875,-46.0634,-45.5433, -45.0296,-44.5201,-44.0173,-43.5133, -43.008,-42.5015,-41.9937,-41.4849, -40.9749,-40.4638,-39.7313,-39.301, -38.8699,-38.4382,-38.0058,-37.5727, -37.139,-36.7046,-36.2696,-35.8341, -35.3978,-34.9618,-34.1151,-33.6909, -33.2664,-32.635,-31.8118,-31.8078)
FOOTPRINT_POINT_LONGITUDE = (59.316,58.8113,58.6055,58.6069,58.6077 ,58.6083,58.6094,58.6108,58.6121, 58.6135,58.6154,58.6185,58.6199,58.621, 58.6222,58.6244,58.6256,58.6279,58.6316 ,58.6353,58.6375,58.6404,58.6433, 58.6461,58.6497,58.6534,58.6569,58.6608 ,58.6681,58.6754,58.6806,58.686,58.6919 ,58.7013,58.7087,58.7177,58.7249, 58.7336,58.7431,58.7532,58.7652,58.7777 ,58.7914,58.8059,58.8229,58.8413, 58.8601,58.88,59.3845,60.1953,61.0036, 61.9517,62.4525,62.3141,62.1855,62.0648 ,61.9498,61.8419,61.7397,61.6429, 61.5512,61.4645,61.3825,61.3043,61.2322 ,61.1613,61.0961,61.0314,60.9401, 60.8869,60.8326,60.7825,60.7349,60.6888 ,60.6454,60.6029,60.5618,60.5222, 60.4843,60.4472,60.411,60.3768,60.3299, 60.3034,60.2774,60.2525,60.2281,60.2046 ,60.1821,60.1601,60.1393,60.1185, 60.1002,60.0813,60.0453,60.0295,60.013, 59.9895,59.9611,59.316)
ORBIT_NUMBER = 4974
ORBITAL_ECCENTRICITY = 0.571
ORBITAL_INCLINATION = 86.71
ORBITAL_SEMIMAJOR_AXIS = 8613.96
PERIAPSIS_ALTITUDE = 305.66
PERIAPSIS_ARGUMENT_ANGLE = 203.34
PERIAPSIS_TIME = 2007-11-16T10:56:36.000Z
SPACECRAFT_ORIENTATION = (0.0,-1.0,0.0)
^MEX_ORIENTATION_DESC = "MEX_ORIENTATION_DESC.TXT"
SPACECRAFT_POINTING_MODE = NADIR
^MEX_POINTING_DESC = "MEX_POINTING_DESC.TXT"
RIGHT_ASCENSION = -1e+32
DECLINATION = -1e+32
OFFSET_ANGLE = -1e+32
SPACECRAFT_SOLAR_DISTANCE = 2.28594e+08
TARGET_NAME = MARS
/* CAMERA DATA ELEMENTS */
DETECTOR_TEMPERATURE = 18.1666
FOCAL_PLANE_TEMPERATURE = 7.9716
INST_CMPRS_NAME = "DISCRETE COSINE TRANSFORMATION (DCT)"
INST_CMPRS_RATIO = 15.3364
INST_CMPRS_QUALITY = 0
INST_CMPRS_QUANTZ_TBL_ID = 0
INSTRUMENT_TEMPERATURE = 10.8262
LENS_TEMPERATURE = 8.5833
MACROPIXEL_SIZE = 2
MISSING_FRAMES = 0
PIXEL_SUBSAMPLING_FLAG = N
SIGNAL_CHAIN_ID = 0
/* RADIOMETRIC DATA ELEMENTS */
BANDWIDTH = 177.0
CENTER_FILTER_WAVELENGTH = 677.5
RADIANCE_OFFSET = 0.0664515
RADIANCE_SCALING_FACTOR = 0.00217162
REFLECTANCE_SCALING_FACTOR = 6.02834e-05
MEX:REFLECTANCE_OFFSET = 0.00184467
/* IMAGE OBJECT DEFINITIONS */
OBJECT = IMAGE
  INTERCHANGE_FORMAT = BINARY
  LINES = 60634
  LINE_SAMPLES = 6068
  SAMPLE_TYPE = UNSIGNED_INTEGER
  SAMPLE_BITS = 8
  BANDS = 1
  BAND_STORAGE_TYPE = BAND_SEQUENTIAL
  MAXIMUM = 255
  MEAN = 133.61
  MINIMUM = 1
  STANDARD_DEVIATION = 37.1054
END_OBJECT = IMAGE
/* MAP OBJECT DEFINITIONS */
OBJECT = IMAGE_MAP_PROJECTION
  ^DATA_SET_MAP_PROJECTION_CATALOG= "DSMAP.CAT"
  A_AXIS_RADIUS = 3396.0
  B_AXIS_RADIUS = 3396.0
  C_AXIS_RADIUS = 3396.0
  CENTER_LATITUDE = 0.0
  CENTER_LONGITUDE = 60.0
  COORDINATE_SYSTEM_NAME = PLANETOGRAPHIC
  COORDINATE_SYSTEM_TYPE = "BODY-FIXED ROTATING"
  EASTERNMOST_LONGITUDE = 62.4525
  FIRST_STANDARD_PARALLEL = "N/A"
  LINE_FIRST_PIXEL = 1
  LINE_LAST_PIXEL = 60634
  LINE_PROJECTION_OFFSET = -75390.0
  MAP_PROJECTION_ROTATION = 0.0
  MAP_PROJECTION_TYPE = SINUSOIDAL
  MAP_RESOLUTION = 2370.85521546667
  MAP_SCALE = 0.025
  MAXIMUM_LATITUDE = -31.8078
  MINIMUM_LATITUDE = -57.361
  POSITIVE_LONGITUDE_DIRECTION = EAST
  REFERENCE_LATITUDE = "N/A"
  REFERENCE_LONGITUDE = "N/A"
  SAMPLE_FIRST_PIXEL = 1
  SAMPLE_LAST_PIXEL = 6068
  SAMPLE_PROJECTION_OFFSET = 2842.0
  SECOND_STANDARD_PARALLEL = "N/A"
  WESTERNMOST_LONGITUDE = 58.6055
END_OBJECT = IMAGE_MAP_PROJECTION
/* The JPEG2000 image data file associated with this label. */
OBJECT = COMPRESSED_FILE
  FILE_NAME = "H4974_0000_ND3.JP2"
  RECORD_TYPE = UNDEFINED
  FILE_RECORDS = UNK
  ENCODING_TYPE = "JP2"
  INTERCHANGE_FORMAT = BINARY
  UNCOMPRESSED_FILE_NAME = "H4974_0000_ND3.IMG"
  REQUIRED_STORAGE_BYTES = "367957452"
  ^DESCRIPTION = "JP2INFO.TXT"
END_OBJECT = COMPRESSED_FILE
END
