PDS_VERSION_ID = PDS3
/* FILE DATA ELEMENTS */
RECORD_TYPE = STREAM
/* POINTERS TO DATA OBJECTS */
^COMPRESSED_FILE = "H4978_0000_BL3.JP2"
/* IDENTIFICATION DATA ELEMENTS */
DATA_SET_ID = "MEX-M-HRSC-5-REFDR-MAPPROJECTED-V3.0"
DATA_SET_NAME = "MARS EXPRESS HRSC MAP PROJECTED REFDR V3.0"
DETECTOR_ID = MEX_HRSC_BLUE
EVENT_TYPE = "MARS-TERMINATOR-VARIABLE-Ot-At"
INSTRUMENT_HOST_ID = MEX
INSTRUMENT_HOST_NAME = "MARS EXPRESS"
INSTRUMENT_ID = HRSC
INSTRUMENT_NAME = "HIGH RESOLUTION STEREO CAMERA"
MISSION_NAME = "MARS EXPRESS"
MISSION_PHASE_NAME = ME_Phase_10
PROCESSING_LEVEL_ID = 3
PRODUCT_CREATION_TIME = 2016-04-26T20:32:38.000Z
PRODUCT_ID = "H4978_0000_BL3.JP2"
RELEASE_ID = 0056
REVISION_ID = 0000
/* QUALITY DATA ELEMENTS */
DATA_QUALITY_ID = 1
DATA_QUALITY_DESC = "Data calculated based on original SPICE kernels"
/* TIME DATA ELEMENTS */
SPACECRAFT_CLOCK_START_COUNT = "1/0143387460.08245"
SPACECRAFT_CLOCK_STOP_COUNT = "1/0143387765.11613"
START_TIME = 2007-11-17T13:51:37.243Z
STOP_TIME = 2007-11-17T13:55:31.242Z
/* ORBITAL DATA ELEMENTS */
ASCENDING_NODE_LONGITUDE = 124.47
MAXIMUM_RESOLUTION = 103
FOOTPRINT_POINT_LATITUDE = (-30.788,-30.7921,-30.7954,-31.0594, -31.3235,-31.5876,-31.8587,-32.1313, -32.4038,-32.676,-32.9479,-33.2196, -33.491,-33.7622,-34.0395,-34.3197, -34.5993,-34.8786,-35.1576,-35.4363, -35.7148,-35.9932,-36.2711,-36.5476, -36.825,-37.2416,-37.5182,-37.7941, -38.2084,-38.4841,-38.7594,-39.2478, -39.5754,-39.9023,-40.2288,-40.5549, -40.8805,-41.2054,-41.53,-41.854, -42.1773,-42.5002,-42.8225,-43.1442, -43.4655,-43.9559,-44.2844,-44.7808, -45.1165,-45.4518,-45.6251,-45.6071, -45.5878,-45.4062,-45.0726,-44.7384, -44.2453,-43.9182,-43.4293,-43.1093, -42.7888,-42.3065,-41.9852,-41.6625, -41.3393,-41.0152,-40.6902,-40.3657, -40.0404,-39.7144,-39.388,-39.0612, -38.7361,-38.3239,-38.0492,-37.7737, -37.4978,-37.222,-36.9456,-36.6691, -36.3922,-36.1148,-35.6986,-35.4205, -35.1411,-34.864,-34.5856,-34.1668, -33.8871,-33.6148,-33.3447,-33.0734, -32.6659,-32.258,-31.986,-31.5783, -31.3152,-31.0516,-30.7878,-30.788)
FOOTPRINT_POINT_LONGITUDE = (26.3567,26.0324,25.6962,25.5045, 25.5051,25.5062,25.5066,25.5074,25.5082 ,25.509,25.5097,25.5104,25.5108,25.5114 ,25.5122,25.5138,25.5146,25.5155, 25.5161,25.5168,25.5177,25.5189,25.5196 ,25.5181,25.5193,25.5227,25.5237, 25.5239,25.5262,25.5274,25.5288,25.5312 ,25.5329,25.5343,25.536,25.538,25.5399, 25.5414,25.5434,25.5453,25.5469,25.5488 ,25.5507,25.5525,25.5546,25.5578, 25.5602,25.5641,25.567,25.5703,25.9641, 26.6949,27.3661,27.6611,27.6292,27.5978 ,27.5501,27.5208,27.479,27.4522,27.4257 ,27.3881,27.3619,27.3378,27.3142, 27.2917,27.2706,27.248,27.2265,27.2058, 27.1854,27.1652,27.1455,27.1218,27.1053 ,27.0902,27.0754,27.0602,27.0459, 27.0315,27.0176,27.0044,26.984,26.9714, 26.9609,26.9461,26.9332,26.9159,26.9049 ,26.8934,26.8813,26.8713,26.8569, 26.8428,26.8333,26.8207,26.8114,26.803, 26.7947,26.3567)
ORBIT_NUMBER = 4978
ORBITAL_ECCENTRICITY = 0.571
ORBITAL_INCLINATION = 86.69
ORBITAL_SEMIMAJOR_AXIS = 8614.37
PERIAPSIS_ALTITUDE = 306.35
PERIAPSIS_ARGUMENT_ANGLE = 202.62
PERIAPSIS_TIME = 2007-11-17T13:49:27.000Z
SPACECRAFT_ORIENTATION = (0.0,-1.0,0.0)
^MEX_ORIENTATION_DESC = "MEX_ORIENTATION_DESC.TXT"
SPACECRAFT_POINTING_MODE = NADIR
^MEX_POINTING_DESC = "MEX_POINTING_DESC.TXT"
RIGHT_ASCENSION = -1e+32
DECLINATION = -1e+32
OFFSET_ANGLE = -1e+32
SPACECRAFT_SOLAR_DISTANCE = 2.28811e+08
TARGET_NAME = MARS
/* CAMERA DATA ELEMENTS */
DETECTOR_TEMPERATURE = 18.5744
FOCAL_PLANE_TEMPERATURE = 7.9716
INST_CMPRS_NAME = "DISCRETE COSINE TRANSFORMATION (DCT)"
INST_CMPRS_RATIO = 8.96924
INST_CMPRS_QUALITY = 0
INST_CMPRS_QUANTZ_TBL_ID = 0
INSTRUMENT_TEMPERATURE = 11.0301
LENS_TEMPERATURE = 8.5833
MACROPIXEL_SIZE = 8
MISSING_FRAMES = 0
PIXEL_SUBSAMPLING_FLAG = N
SIGNAL_CHAIN_ID = 2
/* RADIOMETRIC DATA ELEMENTS */
BANDWIDTH = 76.0
CENTER_FILTER_WAVELENGTH = 444.0
RADIANCE_OFFSET = 0.0492183
RADIANCE_SCALING_FACTOR = 0.000404408
REFLECTANCE_SCALING_FACTOR = 2.17536e-05
MEX:REFLECTANCE_OFFSET = 0.00264751
/* IMAGE OBJECT DEFINITIONS */
OBJECT = IMAGE
  INTERCHANGE_FORMAT = BINARY
  LINES = 8803
  LINE_SAMPLES = 980
  SAMPLE_TYPE = UNSIGNED_INTEGER
  SAMPLE_BITS = 8
  BANDS = 1
  BAND_STORAGE_TYPE = BAND_SEQUENTIAL
  MAXIMUM = 255
  MEAN = 131.577
  MINIMUM = 3
  STANDARD_DEVIATION = 40.1768
END_OBJECT = IMAGE
/* MAP OBJECT DEFINITIONS */
OBJECT = IMAGE_MAP_PROJECTION
  ^DATA_SET_MAP_PROJECTION_CATALOG= "DSMAP.CAT"
  A_AXIS_RADIUS = 3396.0
  B_AXIS_RADIUS = 3396.0
  C_AXIS_RADIUS = 3396.0
  CENTER_LATITUDE = 0.0
  CENTER_LONGITUDE = 26.0
  COORDINATE_SYSTEM_NAME = PLANETOGRAPHIC
  COORDINATE_SYSTEM_TYPE = "BODY-FIXED ROTATING"
  EASTERNMOST_LONGITUDE = 27.6611
  FIRST_STANDARD_PARALLEL = "N/A"
  LINE_FIRST_PIXEL = 1
  LINE_LAST_PIXEL = 8803
  LINE_PROJECTION_OFFSET = -18235.75
  MAP_PROJECTION_ROTATION = 0.0
  MAP_PROJECTION_TYPE = SINUSOIDAL
  MAP_RESOLUTION = 592.713803866667
  MAP_SCALE = 0.1
  MAXIMUM_LATITUDE = -30.7878
  MINIMUM_LATITUDE = -45.6251
  POSITIVE_LONGITUDE_DIRECTION = EAST
  REFERENCE_LATITUDE = "N/A"
  REFERENCE_LONGITUDE = "N/A"
  SAMPLE_FIRST_PIXEL = 1
  SAMPLE_LAST_PIXEL = 980
  SAMPLE_PROJECTION_OFFSET = 275.25
  SECOND_STANDARD_PARALLEL = "N/A"
  WESTERNMOST_LONGITUDE = 25.5045
END_OBJECT = IMAGE_MAP_PROJECTION
/* The JPEG2000 image data file associated with this label. */
OBJECT = COMPRESSED_FILE
  FILE_NAME = "H4978_0000_BL3.JP2"
  RECORD_TYPE = UNDEFINED
  FILE_RECORDS = UNK
  ENCODING_TYPE = "JP2"
  INTERCHANGE_FORMAT = BINARY
  UNCOMPRESSED_FILE_NAME = "H4978_0000_BL3.IMG"
  REQUIRED_STORAGE_BYTES = "8645560"
  ^DESCRIPTION = "JP2INFO.TXT"
END_OBJECT = COMPRESSED_FILE
END
