PDS_VERSION_ID = PDS3
/* FILE DATA ELEMENTS */
RECORD_TYPE = STREAM
/* POINTERS TO DATA OBJECTS */
^COMPRESSED_FILE = "H5056_0000_P13.JP2"
/* IDENTIFICATION DATA ELEMENTS */
DATA_SET_ID = "MEX-M-HRSC-5-REFDR-MAPPROJECTED-V3.0"
DATA_SET_NAME = "MARS EXPRESS HRSC MAP PROJECTED REFDR V3.0"
DETECTOR_ID = MEX_HRSC_P1
EVENT_TYPE = "MARS-LOCAL-STEREO-Vo"
INSTRUMENT_HOST_ID = MEX
INSTRUMENT_HOST_NAME = "MARS EXPRESS"
INSTRUMENT_ID = HRSC
INSTRUMENT_NAME = "HIGH RESOLUTION STEREO CAMERA"
MISSION_NAME = "MARS EXPRESS"
MISSION_PHASE_NAME = ME_Phase_11
PROCESSING_LEVEL_ID = 3
PRODUCT_CREATION_TIME = 2016-04-26T21:06:31.000Z
PRODUCT_ID = "H5056_0000_P13.JP2"
RELEASE_ID = 0057
REVISION_ID = 0000
/* QUALITY DATA ELEMENTS */
DATA_QUALITY_ID = 1
DATA_QUALITY_DESC = "Data calculated based on original SPICE kernels"
/* TIME DATA ELEMENTS */
SPACECRAFT_CLOCK_START_COUNT = "1/0145284056.08251"
SPACECRAFT_CLOCK_STOP_COUNT = "1/0145284323.50370"
START_TIME = 2007-12-09T12:41:10.010Z
STOP_TIME = 2007-12-09T12:44:37.489Z
/* ORBITAL DATA ELEMENTS */
ASCENDING_NODE_LONGITUDE = 122.87
MAXIMUM_RESOLUTION = 24.1
FOOTPRINT_POINT_LATITUDE = (-1.84183,-1.84546,-1.84918,-1.85305, -1.85706,-1.83705,-2.10936,-2.38204, -2.6552,-2.92872,-3.2021,-3.61309, -3.88728,-4.16165,-4.43615,-4.7108, -4.98347,-5.25781,-5.52664,-5.79021, -6.05406,-6.31822,-6.71191,-6.97475, -7.36828,-7.6312,-7.8955,-8.16162, -8.42953,-8.69928,-8.97068,-9.37369, -9.64241,-9.91131,-10.177,-10.4475, -10.8604,-11.1357,-11.4092,-11.8163, -12.0869,-12.4933,-12.7641,-13.0349, -13.3059,-13.5772,-13.8494,-14.2716, -14.5533,-14.9758,-15.3979,-15.4229, -15.417,-15.4131,-15.4042,-15.123, -14.8419,-14.5602,-14.2792,-13.9984, -13.7206,-13.4495,-13.1785,-12.7725, -12.5021,-12.0963,-11.8261,-11.5548, -11.2785,-10.8632,-10.5889,-10.3166, -10.0519,-9.78326,-9.51438,-9.24577, -8.97713,-8.70859,-8.44037,-8.03808, -7.77264,-7.5086,-7.11341,-6.7187, -6.45639,-6.05817,-5.79245,-5.52771, -5.12296,-4.84953,-4.5754,-4.3011, -4.02726,-3.61651,-3.20589,-2.93214, -2.65874,-2.24934,-1.84016,-1.84183)
FOOTPRINT_POINT_LONGITUDE = (239.928,239.752,239.575,239.396, 239.216,238.965,238.966,238.967,238.967 ,238.968,238.968,238.969,238.969, 238.969,238.969,238.969,238.972,238.972 ,238.973,238.975,238.977,238.979, 238.985,238.989,238.995,238.999,239.001 ,239.002,239.001,238.998,238.994, 238.992,238.99,238.989,238.99,238.987, 238.975,238.967,238.961,238.955,238.952 ,238.947,238.944,238.941,238.937, 238.934,238.93,238.923,238.919,238.912, 238.905,239.23,239.474,239.649,240.042, 240.041,240.041,240.04,240.039,240.039, 240.038,240.038,240.038,240.038,240.038 ,240.038,240.038,240.038,240.039,240.04 ,240.041,240.041,240.042,240.042, 240.043,240.044,240.045,240.046,240.047 ,240.048,240.05,240.051,240.052,240.054 ,240.055,240.058,240.059,240.061, 240.064,240.066,240.068,240.07,240.072, 240.076,240.079,240.082,240.084,240.088 ,240.092,239.928)
ORBIT_NUMBER = 5056
ORBITAL_ECCENTRICITY = 0.574
ORBITAL_INCLINATION = 86.7
ORBITAL_SEMIMAJOR_AXIS = 8695.06
PERIAPSIS_ALTITUDE = 311.51
PERIAPSIS_ARGUMENT_ANGLE = 188.85
PERIAPSIS_TIME = 2007-12-09T12:43:15.000Z
SPACECRAFT_ORIENTATION = (0.0,-1.0,0.0)
^MEX_ORIENTATION_DESC = "MEX_ORIENTATION_DESC.TXT"
SPACECRAFT_POINTING_MODE = ACROSSTRACK
^MEX_POINTING_DESC = "MEX_POINTING_DESC.TXT"
RIGHT_ASCENSION = -1e+32
DECLINATION = -1e+32
OFFSET_ANGLE = -0.6
SPACECRAFT_SOLAR_DISTANCE = 2.3298e+08
TARGET_NAME = MARS
/* CAMERA DATA ELEMENTS */
DETECTOR_TEMPERATURE = 16.9432
FOCAL_PLANE_TEMPERATURE = 8.3794
INST_CMPRS_NAME = "DISCRETE COSINE TRANSFORMATION (DCT)"
INST_CMPRS_RATIO = 9.87886
INST_CMPRS_QUALITY = 0
INST_CMPRS_QUANTZ_TBL_ID = 0
INSTRUMENT_TEMPERATURE = 11.4379
LENS_TEMPERATURE = 8.5833
MACROPIXEL_SIZE = 2
MISSING_FRAMES = 0
PIXEL_SUBSAMPLING_FLAG = N
SIGNAL_CHAIN_ID = 3
/* RADIOMETRIC DATA ELEMENTS */
BANDWIDTH = 174.0
CENTER_FILTER_WAVELENGTH = 675.0
RADIANCE_OFFSET = 1.19551
RADIANCE_SCALING_FACTOR = 0.011901
REFLECTANCE_SCALING_FACTOR = 0.000347461
MEX:REFLECTANCE_OFFSET = 0.0349041
/* IMAGE OBJECT DEFINITIONS */
OBJECT = IMAGE
  INTERCHANGE_FORMAT = BINARY
  LINES = 32248
  LINE_SAMPLES = 2983
  SAMPLE_TYPE = UNSIGNED_INTEGER
  SAMPLE_BITS = 8
  BANDS = 1
  BAND_STORAGE_TYPE = BAND_SEQUENTIAL
  MAXIMUM = 255
  MEAN = 78.9887
  MINIMUM = 1
  STANDARD_DEVIATION = 21.3831
END_OBJECT = IMAGE
/* MAP OBJECT DEFINITIONS */
OBJECT = IMAGE_MAP_PROJECTION
  ^DATA_SET_MAP_PROJECTION_CATALOG= "DSMAP.CAT"
  A_AXIS_RADIUS = 3396.0
  B_AXIS_RADIUS = 3396.0
  C_AXIS_RADIUS = 3396.0
  CENTER_LATITUDE = 0.0
  CENTER_LONGITUDE = 240.0
  COORDINATE_SYSTEM_NAME = PLANETOGRAPHIC
  COORDINATE_SYSTEM_TYPE = "BODY-FIXED ROTATING"
  EASTERNMOST_LONGITUDE = 240.092
  FIRST_STANDARD_PARALLEL = "N/A"
  LINE_FIRST_PIXEL = 1
  LINE_LAST_PIXEL = 32248
  LINE_PROJECTION_OFFSET = -4378.25
  MAP_PROJECTION_ROTATION = 0.0
  MAP_PROJECTION_TYPE = SINUSOIDAL
  MAP_RESOLUTION = 2370.85521546667
  MAP_SCALE = 0.025
  MAXIMUM_LATITUDE = -1.83705
  MINIMUM_LATITUDE = -15.4229
  POSITIVE_LONGITUDE_DIRECTION = EAST
  REFERENCE_LATITUDE = "N/A"
  REFERENCE_LONGITUDE = "N/A"
  SAMPLE_FIRST_PIXEL = 1
  SAMPLE_LAST_PIXEL = 2983
  SAMPLE_PROJECTION_OFFSET = 2781.25
  SECOND_STANDARD_PARALLEL = "N/A"
  WESTERNMOST_LONGITUDE = 238.905
END_OBJECT = IMAGE_MAP_PROJECTION
/* The JPEG2000 image data file associated with this label. */
OBJECT = COMPRESSED_FILE
  FILE_NAME = "H5056_0000_P13.JP2"
  RECORD_TYPE = UNDEFINED
  FILE_RECORDS = UNK
  ENCODING_TYPE = "JP2"
  INTERCHANGE_FORMAT = BINARY
  UNCOMPRESSED_FILE_NAME = "H5056_0000_P13.IMG"
  REQUIRED_STORAGE_BYTES = "96219648"
  ^DESCRIPTION = "JP2INFO.TXT"
END_OBJECT = COMPRESSED_FILE
END
