PDS_VERSION_ID = PDS3
/* FILE DATA ELEMENTS */
RECORD_TYPE = STREAM
/* POINTERS TO DATA OBJECTS */
^COMPRESSED_FILE = "H5085_0000_P23.JP2"
/* IDENTIFICATION DATA ELEMENTS */
DATA_SET_ID = "MEX-M-HRSC-5-REFDR-MAPPROJECTED-V3.0"
DATA_SET_NAME = "MARS EXPRESS HRSC MAP PROJECTED REFDR V3.0"
DETECTOR_ID = MEX_HRSC_P2
EVENT_TYPE = "MARS-REGIONAL-MAPPING-Vo-Eo-La"
INSTRUMENT_HOST_ID = MEX
INSTRUMENT_HOST_NAME = "MARS EXPRESS"
INSTRUMENT_ID = HRSC
INSTRUMENT_NAME = "HIGH RESOLUTION STEREO CAMERA"
MISSION_NAME = "MARS EXPRESS"
MISSION_PHASE_NAME = ME_Phase_11
PROCESSING_LEVEL_ID = 3
PRODUCT_CREATION_TIME = 2016-04-26T21:06:31.000Z
PRODUCT_ID = "H5085_0000_P23.JP2"
RELEASE_ID = 0057
REVISION_ID = 0000
/* QUALITY DATA ELEMENTS */
DATA_QUALITY_ID = 2
DATA_QUALITY_DESC = "Data calculated based on photogrammetrically improved orbit and attitude data"
/* TIME DATA ELEMENTS */
SPACECRAFT_CLOCK_START_COUNT = "1/0145995910.09041"
SPACECRAFT_CLOCK_STOP_COUNT = "1/0145996164.08648"
START_TIME = 2007-12-17T18:26:06.268Z
STOP_TIME = 2007-12-17T18:29:16.542Z
/* ORBITAL DATA ELEMENTS */
ASCENDING_NODE_LONGITUDE = 122.28
MAXIMUM_RESOLUTION = 51.4
FOOTPRINT_POINT_LATITUDE = (8.30375,8.3049,8.30601,8.30691,8.17477 ,7.91285,7.64995,7.38694,7.12363, 6.72927,6.46661,6.20333,5.94048,5.55206 ,5.29707,5.04262,4.66114,4.40661, 4.15228,3.89846,3.64507,3.26577,3.01232 ,2.75876,2.50548,2.12617,1.87247, 1.62312,1.37824,1.13418,0.767934, 0.522968,0.278612,0.0346101,-0.331128, -0.575375,-0.941657,-1.18589,-1.42994, -1.67406,-1.91793,-2.28378,-2.52746, -2.77138,-3.01536,-3.25912,-3.50286, -3.74591,-3.9893,-4.23223,-4.2609, -4.2622,-4.26401,-4.26382,-4.02091, -3.77752,-3.53434,-3.291,-3.04732, -2.80317,-2.55903,-2.3154,-2.07156, -1.82819,-1.58381,-1.34003,-1.09609, -0.852042,-0.607869,-0.364077, 0.00206225,0.246302,0.490811,0.73482, 1.10077,1.34519,1.5895,1.83808,2.09124, 2.34449,2.72445,2.97815,3.23163,3.48544 ,3.73946,4.12082,4.50251,4.75692, 5.01154,5.39331,5.64791,6.03901,6.3019, 6.56448,6.82723,7.22123,7.48369,7.74657 ,8.01022,8.30375)
FOOTPRINT_POINT_LONGITUDE = (228.253,227.93,227.675,227.486,227.328 ,227.329,227.331,227.332,227.334, 227.336,227.337,227.338,227.339,227.34, 227.341,227.342,227.343,227.344,227.344 ,227.345,227.345,227.344,227.344, 227.344,227.344,227.343,227.343,227.342 ,227.342,227.342,227.341,227.34,227.34, 227.339,227.337,227.337,227.335,227.335 ,227.334,227.333,227.332,227.331, 227.329,227.328,227.327,227.326,227.325 ,227.324,227.323,227.321,227.586, 227.779,228.165,228.413,228.414,228.414 ,228.415,228.416,228.417,228.418, 228.419,228.42,228.421,228.422,228.424, 228.425,228.426,228.427,228.429,228.43, 228.432,228.434,228.435,228.437,228.439 ,228.441,228.443,228.444,228.446, 228.448,228.451,228.454,228.456,228.458 ,228.461,228.465,228.47,228.473,228.476 ,228.48,228.484,228.489,228.492,228.495 ,228.498,228.504,228.507,228.511, 228.515,228.253)
ORBIT_NUMBER = 5085
ORBITAL_ECCENTRICITY = 0.575
ORBITAL_INCLINATION = 86.71
ORBITAL_SEMIMAJOR_AXIS = 8737.09
PERIAPSIS_ALTITUDE = 313.85
PERIAPSIS_ARGUMENT_ANGLE = 183.75
PERIAPSIS_TIME = 2007-12-17T18:28:50.000Z
SPACECRAFT_ORIENTATION = (0.0,-1.0,0.0)
^MEX_ORIENTATION_DESC = "MEX_ORIENTATION_DESC.TXT"
SPACECRAFT_POINTING_MODE = NADIR
^MEX_POINTING_DESC = "MEX_POINTING_DESC.TXT"
RIGHT_ASCENSION = -1e+32
DECLINATION = -1e+32
OFFSET_ANGLE = -1e+32
SPACECRAFT_SOLAR_DISTANCE = 2.34484e+08
TARGET_NAME = MARS
/* CAMERA DATA ELEMENTS */
DETECTOR_TEMPERATURE = 18.3705
FOCAL_PLANE_TEMPERATURE = 7.7677
INST_CMPRS_NAME = "DISCRETE COSINE TRANSFORMATION (DCT)"
INST_CMPRS_RATIO = 7.5038
INST_CMPRS_QUALITY = 0
INST_CMPRS_QUANTZ_TBL_ID = 0
INSTRUMENT_TEMPERATURE = 11.234
LENS_TEMPERATURE = 8.3794
MACROPIXEL_SIZE = 4
MISSING_FRAMES = 0
PIXEL_SUBSAMPLING_FLAG = N
SIGNAL_CHAIN_ID = 3
/* RADIOMETRIC DATA ELEMENTS */
BANDWIDTH = 177.0
CENTER_FILTER_WAVELENGTH = 676.5
RADIANCE_OFFSET = 2.12887
RADIANCE_SCALING_FACTOR = 0.00949437
REFLECTANCE_SCALING_FACTOR = 0.00027679
MEX:REFLECTANCE_OFFSET = 0.0620629
/* IMAGE OBJECT DEFINITIONS */
OBJECT = IMAGE
  INTERCHANGE_FORMAT = BINARY
  LINES = 14899
  LINE_SAMPLES = 1523
  SAMPLE_TYPE = UNSIGNED_INTEGER
  SAMPLE_BITS = 8
  BANDS = 1
  BAND_STORAGE_TYPE = BAND_SEQUENTIAL
  MAXIMUM = 255
  MEAN = 100.587
  MINIMUM = 2
  STANDARD_DEVIATION = 18.1716
END_OBJECT = IMAGE
/* MAP OBJECT DEFINITIONS */
OBJECT = IMAGE_MAP_PROJECTION
  ^DATA_SET_MAP_PROJECTION_CATALOG= "DSMAP.CAT"
  A_AXIS_RADIUS = 3396.0
  B_AXIS_RADIUS = 3396.0
  C_AXIS_RADIUS = 3396.0
  CENTER_LATITUDE = 0.0
  CENTER_LONGITUDE = 228.0
  COORDINATE_SYSTEM_NAME = PLANETOGRAPHIC
  COORDINATE_SYSTEM_TYPE = "BODY-FIXED ROTATING"
  EASTERNMOST_LONGITUDE = 228.515
  FIRST_STANDARD_PARALLEL = "N/A"
  LINE_FIRST_PIXEL = 1
  LINE_LAST_PIXEL = 14899
  LINE_PROJECTION_OFFSET = 9867.375
  MAP_PROJECTION_ROTATION = 0.0
  MAP_PROJECTION_TYPE = SINUSOIDAL
  MAP_RESOLUTION = 1185.42760773333
  MAP_SCALE = 0.05
  MAXIMUM_LATITUDE = 8.30691
  MINIMUM_LATITUDE = -4.26401
  POSITIVE_LONGITUDE_DIRECTION = EAST
  REFERENCE_LATITUDE = "N/A"
  REFERENCE_LONGITUDE = "N/A"
  SAMPLE_FIRST_PIXEL = 1
  SAMPLE_LAST_PIXEL = 1523
  SAMPLE_PROJECTION_OFFSET = 856.125
  SECOND_STANDARD_PARALLEL = "N/A"
  WESTERNMOST_LONGITUDE = 227.321
END_OBJECT = IMAGE_MAP_PROJECTION
/* The JPEG2000 image data file associated with this label. */
OBJECT = COMPRESSED_FILE
  FILE_NAME = "H5085_0000_P23.JP2"
  RECORD_TYPE = UNDEFINED
  FILE_RECORDS = UNK
  ENCODING_TYPE = "JP2"
  INTERCHANGE_FORMAT = BINARY
  UNCOMPRESSED_FILE_NAME = "H5085_0000_P23.IMG"
  REQUIRED_STORAGE_BYTES = "22710976"
  ^DESCRIPTION = "JP2INFO.TXT"
END_OBJECT = COMPRESSED_FILE
END
