PDS_VERSION_ID = PDS3
/* FILE DATA ELEMENTS */
RECORD_TYPE = STREAM
/* POINTERS TO DATA OBJECTS */
^COMPRESSED_FILE = "H5085_0000_S13.JP2"
/* IDENTIFICATION DATA ELEMENTS */
DATA_SET_ID = "MEX-M-HRSC-5-REFDR-MAPPROJECTED-V3.0"
DATA_SET_NAME = "MARS EXPRESS HRSC MAP PROJECTED REFDR V3.0"
DETECTOR_ID = MEX_HRSC_S1
EVENT_TYPE = "MARS-REGIONAL-MAPPING-Vo-Eo-La"
INSTRUMENT_HOST_ID = MEX
INSTRUMENT_HOST_NAME = "MARS EXPRESS"
INSTRUMENT_ID = HRSC
INSTRUMENT_NAME = "HIGH RESOLUTION STEREO CAMERA"
MISSION_NAME = "MARS EXPRESS"
MISSION_PHASE_NAME = ME_Phase_11
PROCESSING_LEVEL_ID = 3
PRODUCT_CREATION_TIME = 2016-04-26T21:06:31.000Z
PRODUCT_ID = "H5085_0000_S13.JP2"
RELEASE_ID = 0057
REVISION_ID = 0000
/* QUALITY DATA ELEMENTS */
DATA_QUALITY_ID = 2
DATA_QUALITY_DESC = "Data calculated based on photogrammetrically improved orbit and attitude data"
/* TIME DATA ELEMENTS */
SPACECRAFT_CLOCK_START_COUNT = "1/0145995910.09041"
SPACECRAFT_CLOCK_STOP_COUNT = "1/0145996164.08648"
START_TIME = 2007-12-17T18:25:14.020Z
STOP_TIME = 2007-12-17T18:28:30.386Z
/* ORBITAL DATA ELEMENTS */
ASCENDING_NODE_LONGITUDE = 122.28
MAXIMUM_RESOLUTION = 26.5
FOOTPRINT_POINT_LATITUDE = (8.32116,8.32248,8.32427,8.32524, 7.94026,7.55578,7.29942,6.91325,6.52639 ,6.26881,6.00998,5.75112,5.49295, 5.10369,4.72624,4.47434,4.22168,3.968, 3.71333,3.4583,3.20218,2.9467,2.56504, 2.31669,2.06948,1.82131,1.44935,1.20021 ,0.951277,0.578007,0.32865,0.0786263, -0.171939,-0.422326,-0.671786,-0.922423 ,-1.17274,-1.41977,-1.78295,-2.02519, -2.26791,-2.63198,-2.8744,-3.11719, -3.3599,-3.60356,-3.96892,-4.21301, -4.23138,-4.23171,-4.23225,-4.11097, -3.86701,-3.62381,-3.38022,-3.13719, -2.89484,-2.65284,-2.41004,-2.04616, -1.80291,-1.56132,-1.31895,-1.0682, -0.817745,-0.567521,-0.316904, -0.0667123,0.182869,0.557038,0.931067, 1.30534,1.55397,1.80225,2.05041,2.29833 ,2.5457,2.7996,3.05461,3.3097,3.56404, 3.8178,4.07089,4.32358,4.5759,4.82792, 5.0793,5.33804,5.59694,5.85622,6.24473, 6.50345,6.76197,7.0198,7.27741,7.53482, 7.79079,8.0456,8.30118,8.32116)
FOOTPRINT_POINT_LONGITUDE = (228.309,228.114,227.664,227.294, 227.297,227.301,227.303,227.306,227.309 ,227.311,227.312,227.314,227.316, 227.318,227.321,227.322,227.323,227.324 ,227.325,227.325,227.326,227.326, 227.327,227.327,227.327,227.328,227.328 ,227.328,227.328,227.328,227.328, 227.328,227.327,227.327,227.327,227.327 ,227.326,227.326,227.326,227.325, 227.325,227.324,227.324,227.323,227.323 ,227.322,227.321,227.32,227.669,227.902 ,228.22,228.414,228.416,228.417,228.418 ,228.42,228.421,228.423,228.425,228.427 ,228.429,228.431,228.432,228.434, 228.436,228.438,228.44,228.442,228.444, 228.447,228.451,228.454,228.456,228.459 ,228.461,228.464,228.466,228.469, 228.472,228.475,228.478,228.481,228.485 ,228.488,228.492,228.496,228.5,228.504, 228.508,228.512,228.518,228.522,228.526 ,228.53,228.534,228.538,228.543,228.548 ,228.552,228.309)
ORBIT_NUMBER = 5085
ORBITAL_ECCENTRICITY = 0.575
ORBITAL_INCLINATION = 86.71
ORBITAL_SEMIMAJOR_AXIS = 8737.09
PERIAPSIS_ALTITUDE = 313.85
PERIAPSIS_ARGUMENT_ANGLE = 183.75
PERIAPSIS_TIME = 2007-12-17T18:28:50.000Z
SPACECRAFT_ORIENTATION = (0.0,-1.0,0.0)
^MEX_ORIENTATION_DESC = "MEX_ORIENTATION_DESC.TXT"
SPACECRAFT_POINTING_MODE = NADIR
^MEX_POINTING_DESC = "MEX_POINTING_DESC.TXT"
RIGHT_ASCENSION = -1e+32
DECLINATION = -1e+32
OFFSET_ANGLE = -1e+32
SPACECRAFT_SOLAR_DISTANCE = 2.34484e+08
TARGET_NAME = MARS
/* CAMERA DATA ELEMENTS */
DETECTOR_TEMPERATURE = 17.351
FOCAL_PLANE_TEMPERATURE = 7.7677
INST_CMPRS_NAME = "DISCRETE COSINE TRANSFORMATION (DCT)"
INST_CMPRS_RATIO = 6.72028
INST_CMPRS_QUALITY = 0
INST_CMPRS_QUANTZ_TBL_ID = 0
INSTRUMENT_TEMPERATURE = 11.234
LENS_TEMPERATURE = 8.3794
MACROPIXEL_SIZE = 2
MISSING_FRAMES = 0
PIXEL_SUBSAMPLING_FLAG = N
SIGNAL_CHAIN_ID = 1
/* RADIOMETRIC DATA ELEMENTS */
BANDWIDTH = 180.0
CENTER_FILTER_WAVELENGTH = 677.0
RADIANCE_OFFSET = 2.35618
RADIANCE_SCALING_FACTOR = 0.0105335
REFLECTANCE_SCALING_FACTOR = 0.000302163
MEX:REFLECTANCE_OFFSET = 0.067589
/* IMAGE OBJECT DEFINITIONS */
OBJECT = IMAGE
  INTERCHANGE_FORMAT = BINARY
  LINES = 29798
  LINE_SAMPLES = 3046
  SAMPLE_TYPE = UNSIGNED_INTEGER
  SAMPLE_BITS = 8
  BANDS = 1
  BAND_STORAGE_TYPE = BAND_SEQUENTIAL
  MAXIMUM = 255
  MEAN = 102.378
  MINIMUM = 1
  STANDARD_DEVIATION = 21.2325
END_OBJECT = IMAGE
/* MAP OBJECT DEFINITIONS */
OBJECT = IMAGE_MAP_PROJECTION
  ^DATA_SET_MAP_PROJECTION_CATALOG= "DSMAP.CAT"
  A_AXIS_RADIUS = 3396.0
  B_AXIS_RADIUS = 3396.0
  C_AXIS_RADIUS = 3396.0
  CENTER_LATITUDE = 0.0
  CENTER_LONGITUDE = 228.0
  COORDINATE_SYSTEM_NAME = PLANETOGRAPHIC
  COORDINATE_SYSTEM_TYPE = "BODY-FIXED ROTATING"
  EASTERNMOST_LONGITUDE = 228.552
  FIRST_STANDARD_PARALLEL = "N/A"
  LINE_FIRST_PIXEL = 1
  LINE_LAST_PIXEL = 29798
  LINE_PROJECTION_OFFSET = 19735.25
  MAP_PROJECTION_ROTATION = 0.0
  MAP_PROJECTION_TYPE = SINUSOIDAL
  MAP_RESOLUTION = 2370.85521546667
  MAP_SCALE = 0.025
  MAXIMUM_LATITUDE = 8.325240000000001
  MINIMUM_LATITUDE = -4.23225
  POSITIVE_LONGITUDE_DIRECTION = EAST
  REFERENCE_LATITUDE = "N/A"
  REFERENCE_LONGITUDE = "N/A"
  SAMPLE_FIRST_PIXEL = 1
  SAMPLE_LAST_PIXEL = 3046
  SAMPLE_PROJECTION_OFFSET = 1712.75
  SECOND_STANDARD_PARALLEL = "N/A"
  WESTERNMOST_LONGITUDE = 227.294
END_OBJECT = IMAGE_MAP_PROJECTION
/* The JPEG2000 image data file associated with this label. */
OBJECT = COMPRESSED_FILE
  FILE_NAME = "H5085_0000_S13.JP2"
  RECORD_TYPE = UNDEFINED
  FILE_RECORDS = UNK
  ENCODING_TYPE = "JP2"
  INTERCHANGE_FORMAT = BINARY
  UNCOMPRESSED_FILE_NAME = "H5085_0000_S13.IMG"
  REQUIRED_STORAGE_BYTES = "90789076"
  ^DESCRIPTION = "JP2INFO.TXT"
END_OBJECT = COMPRESSED_FILE
END
