PDS_VERSION_ID = PDS3
/* FILE DATA ELEMENTS */
RECORD_TYPE = STREAM
/* POINTERS TO DATA OBJECTS */
^COMPRESSED_FILE = "H5091_0000_P23.JP2"
/* IDENTIFICATION DATA ELEMENTS */
DATA_SET_ID = "MEX-M-HRSC-5-REFDR-MAPPROJECTED-V3.0"
DATA_SET_NAME = "MARS EXPRESS HRSC MAP PROJECTED REFDR V3.0"
DETECTOR_ID = MEX_HRSC_P2
EVENT_TYPE = "MARS-REGIONAL-MAPPING-Im-Fl"
INSTRUMENT_HOST_ID = MEX
INSTRUMENT_HOST_NAME = "MARS EXPRESS"
INSTRUMENT_ID = HRSC
INSTRUMENT_NAME = "HIGH RESOLUTION STEREO CAMERA"
MISSION_NAME = "MARS EXPRESS"
MISSION_PHASE_NAME = ME_Phase_11
PROCESSING_LEVEL_ID = 3
PRODUCT_CREATION_TIME = 2016-04-26T21:06:31.000Z
PRODUCT_ID = "H5091_0000_P23.JP2"
RELEASE_ID = 0057
REVISION_ID = 0000
/* QUALITY DATA ELEMENTS */
DATA_QUALITY_ID = 2
DATA_QUALITY_DESC = "Data calculated based on photogrammetrically improved orbit and attitude data"
/* TIME DATA ELEMENTS */
SPACECRAFT_CLOCK_START_COUNT = "1/0146143732.08240"
SPACECRAFT_CLOCK_STOP_COUNT = "1/0146143977.23263"
START_TIME = 2007-12-19T11:29:46.233Z
STOP_TIME = 2007-12-19T11:32:49.376Z
/* ORBITAL DATA ELEMENTS */
ASCENDING_NODE_LONGITUDE = 122.16
MAXIMUM_RESOLUTION = 52.3
FOOTPRINT_POINT_LATITUDE = (6.75957,6.75893,6.75816,6.75774, 6.75723,6.64087,6.38899,6.01548,5.76999 ,5.525,5.27931,5.03355,4.78863,4.54334, 4.29795,3.92992,3.68466,3.43942,3.07143 ,2.7034,2.33624,2.09127,1.84666,1.60935 ,1.25453,0.900083,0.6638,0.428383, 0.0751038,-0.161043,-0.397447,-0.751151 ,-0.987432,-1.22349,-1.45917,-1.6947, -1.9291,-2.165,-2.51734,-2.75225, -3.10446,-3.45726,-3.69126,-3.92562, -4.16036,-4.39447,-4.6285,-4.86206, -5.1013,-5.28525,-5.28498,-5.28454, -5.28374,-5.2826,-5.28096,-5.03865, -4.80115,-4.56746,-4.334,-4.10026, -3.86357,-3.51268,-3.27841,-3.0437, -2.69168,-2.45594,-2.10279,-1.75021, -1.51607,-1.16241,-0.925734,-0.690838, -0.455114,-0.218799,0.135529,0.490011, 0.842784,1.07919,1.31599,1.55204, 1.78865,2.03157,2.27671,2.52139,2.88847 ,3.13366,3.38037,3.62911,3.87445, 4.23733,4.48341,4.72873,4.974,5.21949, 5.46482,5.83258,6.07793,6.32453,6.57902 ,6.75957)
FOOTPRINT_POINT_LONGITUDE = (348.177,348.004,347.755,347.583, 347.314,347.125,347.125,347.126,347.127 ,347.127,347.127,347.128,347.128, 347.128,347.128,347.128,347.128,347.128 ,347.128,347.127,347.127,347.126, 347.126,347.125,347.125,347.124,347.123 ,347.122,347.121,347.12,347.119,347.118 ,347.117,347.116,347.115,347.114, 347.113,347.112,347.11,347.108,347.106, 347.104,347.103,347.101,347.1,347.098, 347.096,347.095,347.093,347.268,347.415 ,347.583,347.835,348.045,348.218, 348.218,348.218,348.218,348.218,348.218 ,348.22,348.22,348.22,348.221,348.222, 348.223,348.224,348.225,348.226,348.227 ,348.229,348.23,348.231,348.232,348.234 ,348.237,348.238,348.24,348.242,348.243 ,348.245,348.247,348.249,348.25,348.253 ,348.255,348.258,348.262,348.265, 348.265,348.268,348.27,348.273,348.276, 348.278,348.282,348.285,348.287,348.291 ,348.177)
ORBIT_NUMBER = 5091
ORBITAL_ECCENTRICITY = 0.575
ORBITAL_INCLINATION = 86.71
ORBITAL_SEMIMAJOR_AXIS = 8726.4
PERIAPSIS_ALTITUDE = 315.03
PERIAPSIS_ARGUMENT_ANGLE = 182.67
PERIAPSIS_TIME = 2007-12-19T11:31:50.000Z
SPACECRAFT_ORIENTATION = (0.0,-1.0,0.0)
^MEX_ORIENTATION_DESC = "MEX_ORIENTATION_DESC.TXT"
SPACECRAFT_POINTING_MODE = ACROSSTRACK
^MEX_POINTING_DESC = "MEX_POINTING_DESC.TXT"
RIGHT_ASCENSION = -1e+32
DECLINATION = -1e+32
OFFSET_ANGLE = 0.15
SPACECRAFT_SOLAR_DISTANCE = 2.34791e+08
TARGET_NAME = MARS
/* CAMERA DATA ELEMENTS */
DETECTOR_TEMPERATURE = 18.5744
FOCAL_PLANE_TEMPERATURE = 7.9716
INST_CMPRS_NAME = "DISCRETE COSINE TRANSFORMATION (DCT)"
INST_CMPRS_RATIO = 13.1933
INST_CMPRS_QUALITY = 0
INST_CMPRS_QUANTZ_TBL_ID = 0
INSTRUMENT_TEMPERATURE = 11.0301
LENS_TEMPERATURE = 8.1755
MACROPIXEL_SIZE = 4
MISSING_FRAMES = 0
PIXEL_SUBSAMPLING_FLAG = N
SIGNAL_CHAIN_ID = 3
/* RADIOMETRIC DATA ELEMENTS */
BANDWIDTH = 177.0
CENTER_FILTER_WAVELENGTH = 676.5
RADIANCE_OFFSET = 1.87841
RADIANCE_SCALING_FACTOR = 0.0101492
REFLECTANCE_SCALING_FACTOR = 0.000296652
MEX:REFLECTANCE_OFFSET = 0.0549045
/* IMAGE OBJECT DEFINITIONS */
OBJECT = IMAGE
  INTERCHANGE_FORMAT = BINARY
  LINES = 14301
  LINE_SAMPLES = 1502
  SAMPLE_TYPE = UNSIGNED_INTEGER
  SAMPLE_BITS = 8
  BANDS = 1
  BAND_STORAGE_TYPE = BAND_SEQUENTIAL
  MAXIMUM = 255
  MEAN = 97.7334
  MINIMUM = 1
  STANDARD_DEVIATION = 20.0677
END_OBJECT = IMAGE
/* MAP OBJECT DEFINITIONS */
OBJECT = IMAGE_MAP_PROJECTION
  ^DATA_SET_MAP_PROJECTION_CATALOG= "DSMAP.CAT"
  A_AXIS_RADIUS = 3396.0
  B_AXIS_RADIUS = 3396.0
  C_AXIS_RADIUS = 3396.0
  CENTER_LATITUDE = 0.0
  CENTER_LONGITUDE = 348.0
  COORDINATE_SYSTEM_NAME = PLANETOGRAPHIC
  COORDINATE_SYSTEM_TYPE = "BODY-FIXED ROTATING"
  EASTERNMOST_LONGITUDE = 348.291
  FIRST_STANDARD_PARALLEL = "N/A"
  LINE_FIRST_PIXEL = 1
  LINE_LAST_PIXEL = 14301
  LINE_PROJECTION_OFFSET = 8030.625
  MAP_PROJECTION_ROTATION = 0.0
  MAP_PROJECTION_TYPE = SINUSOIDAL
  MAP_RESOLUTION = 1185.42760773333
  MAP_SCALE = 0.05
  MAXIMUM_LATITUDE = 6.75957
  MINIMUM_LATITUDE = -5.28525
  POSITIVE_LONGITUDE_DIRECTION = EAST
  REFERENCE_LATITUDE = "N/A"
  REFERENCE_LONGITUDE = "N/A"
  SAMPLE_FIRST_PIXEL = 1
  SAMPLE_LAST_PIXEL = 1502
  SAMPLE_PROJECTION_OFFSET = 1099.875
  SECOND_STANDARD_PARALLEL = "N/A"
  WESTERNMOST_LONGITUDE = 347.093
END_OBJECT = IMAGE_MAP_PROJECTION
/* The JPEG2000 image data file associated with this label. */
OBJECT = COMPRESSED_FILE
  FILE_NAME = "H5091_0000_P23.JP2"
  RECORD_TYPE = UNDEFINED
  FILE_RECORDS = UNK
  ENCODING_TYPE = "JP2"
  INTERCHANGE_FORMAT = BINARY
  UNCOMPRESSED_FILE_NAME = "H5091_0000_P23.IMG"
  REQUIRED_STORAGE_BYTES = "21499628"
  ^DESCRIPTION = "JP2INFO.TXT"
END_OBJECT = COMPRESSED_FILE
END
