PDS_VERSION_ID = PDS3
/* FILE DATA ELEMENTS */
RECORD_TYPE = STREAM
/* POINTERS TO DATA OBJECTS */
^COMPRESSED_FILE = "H5093_0000_P13.JP2"
/* IDENTIFICATION DATA ELEMENTS */
DATA_SET_ID = "MEX-M-HRSC-5-REFDR-MAPPROJECTED-V3.0"
DATA_SET_NAME = "MARS EXPRESS HRSC MAP PROJECTED REFDR V3.0"
DETECTOR_ID = MEX_HRSC_P1
EVENT_TYPE = "MARS-REGIONAL-MAPPING-Vo-Gl-Pf"
INSTRUMENT_HOST_ID = MEX
INSTRUMENT_HOST_NAME = "MARS EXPRESS"
INSTRUMENT_ID = HRSC
INSTRUMENT_NAME = "HIGH RESOLUTION STEREO CAMERA"
MISSION_NAME = "MARS EXPRESS"
MISSION_PHASE_NAME = ME_Phase_11
PROCESSING_LEVEL_ID = 3
PRODUCT_CREATION_TIME = 2016-04-26T21:06:31.000Z
PRODUCT_ID = "H5093_0000_P13.JP2"
RELEASE_ID = 0057
REVISION_ID = 0000
/* QUALITY DATA ELEMENTS */
DATA_QUALITY_ID = 2
DATA_QUALITY_DESC = "Data calculated based on photogrammetrically improved orbit and attitude data"
/* TIME DATA ELEMENTS */
SPACECRAFT_CLOCK_START_COUNT = "1/0146192963.08402"
SPACECRAFT_CLOCK_STOP_COUNT = "1/0146193141.15310"
START_TIME = 2007-12-20T01:09:38.158Z
STOP_TIME = 2007-12-20T01:11:36.107Z
/* ORBITAL DATA ELEMENTS */
ASCENDING_NODE_LONGITUDE = 122.11
MAXIMUM_RESOLUTION = 53.2
FOOTPRINT_POINT_LATITUDE = (9.10984,9.10779,9.10451,9.10195, 9.09914,9.09608,9.0788,8.92494,8.6938, 8.53966,8.3854,8.23102,8.07652,7.92197, 7.76731,7.6126,7.45771,7.30267,7.14753, 6.99233,6.75979,6.52619,6.37457,6.22391 ,6.07321,5.92241,5.77156,5.62061, 5.46958,5.31847,5.16725,5.01598,4.86474 ,4.63738,4.48579,4.33412,4.18237, 4.03055,3.87867,3.72914,3.43511,3.14081 ,2.84619,2.55135,2.40381,2.25622, 2.10858,1.96085,1.81305,1.6652,1.5133, 1.51596,1.51844,1.52067,1.52292,1.52526 ,1.52736,1.75096,1.89881,2.04635, 2.19404,2.34167,2.48926,2.71054,3.00543 ,3.29983,3.5205,3.81452,3.96642,4.19423 ,4.34602,4.49771,4.64935,4.80088, 4.95232,5.10371,5.25499,5.40617,5.55729 ,5.70833,5.85928,6.01014,6.16091, 6.31163,6.46225,6.69382,6.84921,7.0045, 7.23745,7.39238,7.54718,7.77944,7.93432 ,8.08901,8.24344,8.39777,8.55196, 8.78322,8.93727,9.10984)
FOOTPRINT_POINT_LONGITUDE = (147.562,147.379,147.115,146.93,146.745 ,146.558,146.381,146.382,146.384, 146.385,146.386,146.387,146.388,146.389 ,146.39,146.391,146.392,146.393,146.394 ,146.395,146.397,146.398,146.398, 146.399,146.4,146.4,146.401,146.402, 146.402,146.403,146.404,146.404,146.405 ,146.405,146.406,146.406,146.407, 146.407,146.407,146.408,146.408,146.409 ,146.409,146.409,146.409,146.41,146.41, 146.41,146.41,146.41,146.463,146.635, 146.806,146.965,147.134,147.303,147.47, 147.548,147.55,147.551,147.552,147.554, 147.555,147.557,147.56,147.563,147.565, 147.568,147.569,147.572,147.573,147.575 ,147.577,147.578,147.58,147.582,147.583 ,147.585,147.587,147.589,147.59,147.592 ,147.594,147.596,147.598,147.601, 147.602,147.604,147.607,147.609,147.611 ,147.615,147.617,147.619,147.621, 147.623,147.625,147.628,147.63,147.562)
ORBIT_NUMBER = 5093
ORBITAL_ECCENTRICITY = 0.575
ORBITAL_INCLINATION = 86.71
ORBITAL_SEMIMAJOR_AXIS = 8728.17
PERIAPSIS_ALTITUDE = 314.99
PERIAPSIS_ARGUMENT_ANGLE = 182.37
PERIAPSIS_TIME = 2007-12-20T01:12:54.000Z
SPACECRAFT_ORIENTATION = (0.0,-1.0,0.0)
^MEX_ORIENTATION_DESC = "MEX_ORIENTATION_DESC.TXT"
SPACECRAFT_POINTING_MODE = ACROSSTRACK
^MEX_POINTING_DESC = "MEX_POINTING_DESC.TXT"
RIGHT_ASCENSION = -1e+32
DECLINATION = -1e+32
OFFSET_ANGLE = -0.4
SPACECRAFT_SOLAR_DISTANCE = 2.34893e+08
TARGET_NAME = MARS
/* CAMERA DATA ELEMENTS */
DETECTOR_TEMPERATURE = 17.351
FOCAL_PLANE_TEMPERATURE = 8.1755
INST_CMPRS_NAME = "DISCRETE COSINE TRANSFORMATION (DCT)"
INST_CMPRS_RATIO = 27.2566
INST_CMPRS_QUALITY = 0
INST_CMPRS_QUANTZ_TBL_ID = 0
INSTRUMENT_TEMPERATURE = 11.234
LENS_TEMPERATURE = 8.1755
MACROPIXEL_SIZE = 4
MISSING_FRAMES = 0
PIXEL_SUBSAMPLING_FLAG = N
SIGNAL_CHAIN_ID = 3
/* RADIOMETRIC DATA ELEMENTS */
BANDWIDTH = 174.0
CENTER_FILTER_WAVELENGTH = 675.0
RADIANCE_OFFSET = 2.5941
RADIANCE_SCALING_FACTOR = 0.00710491
REFLECTANCE_SCALING_FACTOR = 0.000210855
MEX:REFLECTANCE_OFFSET = 0.076986
/* IMAGE OBJECT DEFINITIONS */
OBJECT = IMAGE
  INTERCHANGE_FORMAT = BINARY
  LINES = 8978
  LINE_SAMPLES = 1522
  SAMPLE_TYPE = UNSIGNED_INTEGER
  SAMPLE_BITS = 8
  BANDS = 1
  BAND_STORAGE_TYPE = BAND_SEQUENTIAL
  MAXIMUM = 255
  MEAN = 119.176
  MINIMUM = 1
  STANDARD_DEVIATION = 22.4746
END_OBJECT = IMAGE
/* MAP OBJECT DEFINITIONS */
OBJECT = IMAGE_MAP_PROJECTION
  ^DATA_SET_MAP_PROJECTION_CATALOG= "DSMAP.CAT"
  A_AXIS_RADIUS = 3396.0
  B_AXIS_RADIUS = 3396.0
  C_AXIS_RADIUS = 3396.0
  CENTER_LATITUDE = 0.0
  CENTER_LONGITUDE = 147.0
  COORDINATE_SYSTEM_NAME = PLANETOGRAPHIC
  COORDINATE_SYSTEM_TYPE = "BODY-FIXED ROTATING"
  EASTERNMOST_LONGITUDE = 147.63
  FIRST_STANDARD_PARALLEL = "N/A"
  LINE_FIRST_PIXEL = 1
  LINE_LAST_PIXEL = 8978
  LINE_PROJECTION_OFFSET = 10788.625
  MAP_PROJECTION_ROTATION = 0.0
  MAP_PROJECTION_TYPE = SINUSOIDAL
  MAP_RESOLUTION = 1185.42760773333
  MAP_SCALE = 0.05
  MAXIMUM_LATITUDE = 9.10984
  MINIMUM_LATITUDE = 1.5133
  POSITIVE_LONGITUDE_DIRECTION = EAST
  REFERENCE_LATITUDE = "N/A"
  REFERENCE_LONGITUDE = "N/A"
  SAMPLE_FIRST_PIXEL = 1
  SAMPLE_LAST_PIXEL = 1522
  SAMPLE_PROJECTION_OFFSET = 782.875
  SECOND_STANDARD_PARALLEL = "N/A"
  WESTERNMOST_LONGITUDE = 146.381
END_OBJECT = IMAGE_MAP_PROJECTION
/* The JPEG2000 image data file associated with this label. */
OBJECT = COMPRESSED_FILE
  FILE_NAME = "H5093_0000_P13.JP2"
  RECORD_TYPE = UNDEFINED
  FILE_RECORDS = UNK
  ENCODING_TYPE = "JP2"
  INTERCHANGE_FORMAT = BINARY
  UNCOMPRESSED_FILE_NAME = "H5093_0000_P13.IMG"
  REQUIRED_STORAGE_BYTES = "13684302"
  ^DESCRIPTION = "JP2INFO.TXT"
END_OBJECT = COMPRESSED_FILE
END
