PDS_VERSION_ID = PDS3
/* FILE DATA ELEMENTS */
RECORD_TYPE = STREAM
/* POINTERS TO DATA OBJECTS */
^COMPRESSED_FILE = "H5093_0000_P23.JP2"
/* IDENTIFICATION DATA ELEMENTS */
DATA_SET_ID = "MEX-M-HRSC-5-REFDR-MAPPROJECTED-V3.0"
DATA_SET_NAME = "MARS EXPRESS HRSC MAP PROJECTED REFDR V3.0"
DETECTOR_ID = MEX_HRSC_P2
EVENT_TYPE = "MARS-REGIONAL-MAPPING-Vo-Gl-Pf"
INSTRUMENT_HOST_ID = MEX
INSTRUMENT_HOST_NAME = "MARS EXPRESS"
INSTRUMENT_ID = HRSC
INSTRUMENT_NAME = "HIGH RESOLUTION STEREO CAMERA"
MISSION_NAME = "MARS EXPRESS"
MISSION_PHASE_NAME = ME_Phase_11
PROCESSING_LEVEL_ID = 3
PRODUCT_CREATION_TIME = 2016-04-26T21:06:31.000Z
PRODUCT_ID = "H5093_0000_P23.JP2"
RELEASE_ID = 0057
REVISION_ID = 0000
/* QUALITY DATA ELEMENTS */
DATA_QUALITY_ID = 2
DATA_QUALITY_DESC = "Data calculated based on photogrammetrically improved orbit and attitude data"
/* TIME DATA ELEMENTS */
SPACECRAFT_CLOCK_START_COUNT = "1/0146192963.08402"
SPACECRAFT_CLOCK_STOP_COUNT = "1/0146193141.15310"
START_TIME = 2007-12-20T01:10:18.997Z
STOP_TIME = 2007-12-20T01:12:13.401Z
/* ORBITAL DATA ELEMENTS */
ASCENDING_NODE_LONGITUDE = 122.11
MAXIMUM_RESOLUTION = 52.7
FOOTPRINT_POINT_LATITUDE = (9.07847,9.08195,9.08549,9.0891,9.09284 ,9.09663,9.10048,8.88414,8.65354, 8.49972,8.34589,8.19208,8.03823,7.88432 ,7.73043,7.57648,7.42261,7.26877, 7.03795,6.88405,6.72967,6.49926,6.34577 ,6.19697,6.04813,5.8993,5.75042,5.52715 ,5.30389,5.15504,5.00616,4.78276, 4.55976,4.41095,4.26216,4.11338,3.9646, 3.81583,3.66709,3.51834,3.29524,3.07215 ,2.84915,2.70047,2.55182,2.32888, 2.18025,2.03166,1.8831,1.58687,1.55504, 1.55095,1.5472,1.54333,1.53957,1.53441, 1.90428,2.05296,2.20156,2.35017,2.49885 ,2.64749,2.79604,3.0192,3.168,3.3166, 3.46537,3.61423,3.83742,3.98623,4.13502 ,4.28383,4.43266,4.58148,4.73031, 4.95359,5.10245,5.25135,5.47464,5.69796 ,5.84684,6.07014,6.29344,6.52313, 6.67718,6.83115,6.98514,7.13896,7.29306 ,7.44718,7.60109,7.75508,7.90872, 8.06268,8.21667,8.37071,8.52465,8.67854 ,8.83237,9.07847)
FOOTPRINT_POINT_LONGITUDE = (147.541,147.365,147.188,147.01,146.831 ,146.651,146.47,146.401,146.403,146.403 ,146.404,146.405,146.406,146.406, 146.407,146.408,146.409,146.409,146.41, 146.41,146.411,146.412,146.412,146.412, 146.413,146.413,146.414,146.414,146.415 ,146.415,146.415,146.416,146.416, 146.416,146.416,146.416,146.416,146.416 ,146.416,146.416,146.416,146.416, 146.416,146.416,146.416,146.415,146.415 ,146.415,146.415,146.414,146.616, 146.785,146.943,147.11,147.277,147.539, 147.541,147.542,147.544,147.545,147.546 ,147.547,147.548,147.55,147.551,147.552 ,147.553,147.554,147.556,147.557, 147.559,147.56,147.561,147.563,147.564, 147.566,147.567,147.569,147.571,147.573 ,147.574,147.577,147.579,147.581, 147.583,147.584,147.586,147.587,147.589 ,147.591,147.592,147.594,147.596, 147.597,147.599,147.601,147.603,147.605 ,147.606,147.541)
ORBIT_NUMBER = 5093
ORBITAL_ECCENTRICITY = 0.575
ORBITAL_INCLINATION = 86.71
ORBITAL_SEMIMAJOR_AXIS = 8728.17
PERIAPSIS_ALTITUDE = 314.99
PERIAPSIS_ARGUMENT_ANGLE = 182.37
PERIAPSIS_TIME = 2007-12-20T01:12:54.000Z
SPACECRAFT_ORIENTATION = (0.0,-1.0,0.0)
^MEX_ORIENTATION_DESC = "MEX_ORIENTATION_DESC.TXT"
SPACECRAFT_POINTING_MODE = ACROSSTRACK
^MEX_POINTING_DESC = "MEX_POINTING_DESC.TXT"
RIGHT_ASCENSION = -1e+32
DECLINATION = -1e+32
OFFSET_ANGLE = -0.4
SPACECRAFT_SOLAR_DISTANCE = 2.34893e+08
TARGET_NAME = MARS
/* CAMERA DATA ELEMENTS */
DETECTOR_TEMPERATURE = 18.5744
FOCAL_PLANE_TEMPERATURE = 8.1755
INST_CMPRS_NAME = "DISCRETE COSINE TRANSFORMATION (DCT)"
INST_CMPRS_RATIO = 20.1274
INST_CMPRS_QUALITY = 0
INST_CMPRS_QUANTZ_TBL_ID = 0
INSTRUMENT_TEMPERATURE = 11.234
LENS_TEMPERATURE = 8.1755
MACROPIXEL_SIZE = 4
MISSING_FRAMES = 0
PIXEL_SUBSAMPLING_FLAG = N
SIGNAL_CHAIN_ID = 3
/* RADIOMETRIC DATA ELEMENTS */
BANDWIDTH = 177.0
CENTER_FILTER_WAVELENGTH = 676.5
RADIANCE_OFFSET = 2.58804
RADIANCE_SCALING_FACTOR = 0.00703893
REFLECTANCE_SCALING_FACTOR = 0.000205921
MEX:REFLECTANCE_OFFSET = 0.0757119
/* IMAGE OBJECT DEFINITIONS */
OBJECT = IMAGE
  INTERCHANGE_FORMAT = BINARY
  LINES = 8978
  LINE_SAMPLES = 1522
  SAMPLE_TYPE = UNSIGNED_INTEGER
  SAMPLE_BITS = 8
  BANDS = 1
  BAND_STORAGE_TYPE = BAND_SEQUENTIAL
  MAXIMUM = 255
  MEAN = 117.156
  MINIMUM = 1
  STANDARD_DEVIATION = 21.3966
END_OBJECT = IMAGE
/* MAP OBJECT DEFINITIONS */
OBJECT = IMAGE_MAP_PROJECTION
  ^DATA_SET_MAP_PROJECTION_CATALOG= "DSMAP.CAT"
  A_AXIS_RADIUS = 3396.0
  B_AXIS_RADIUS = 3396.0
  C_AXIS_RADIUS = 3396.0
  CENTER_LATITUDE = 0.0
  CENTER_LONGITUDE = 147.0
  COORDINATE_SYSTEM_NAME = PLANETOGRAPHIC
  COORDINATE_SYSTEM_TYPE = "BODY-FIXED ROTATING"
  EASTERNMOST_LONGITUDE = 147.606
  FIRST_STANDARD_PARALLEL = "N/A"
  LINE_FIRST_PIXEL = 1
  LINE_LAST_PIXEL = 8978
  LINE_PROJECTION_OFFSET = 10788.625
  MAP_PROJECTION_ROTATION = 0.0
  MAP_PROJECTION_TYPE = SINUSOIDAL
  MAP_RESOLUTION = 1185.42760773333
  MAP_SCALE = 0.05
  MAXIMUM_LATITUDE = 9.100479999999999
  MINIMUM_LATITUDE = 1.53441
  POSITIVE_LONGITUDE_DIRECTION = EAST
  REFERENCE_LATITUDE = "N/A"
  REFERENCE_LONGITUDE = "N/A"
  SAMPLE_FIRST_PIXEL = 1
  SAMPLE_LAST_PIXEL = 1522
  SAMPLE_PROJECTION_OFFSET = 782.875
  SECOND_STANDARD_PARALLEL = "N/A"
  WESTERNMOST_LONGITUDE = 146.401
END_OBJECT = IMAGE_MAP_PROJECTION
/* The JPEG2000 image data file associated with this label. */
OBJECT = COMPRESSED_FILE
  FILE_NAME = "H5093_0000_P23.JP2"
  RECORD_TYPE = UNDEFINED
  FILE_RECORDS = UNK
  ENCODING_TYPE = "JP2"
  INTERCHANGE_FORMAT = BINARY
  UNCOMPRESSED_FILE_NAME = "H5093_0000_P23.IMG"
  REQUIRED_STORAGE_BYTES = "13684302"
  ^DESCRIPTION = "JP2INFO.TXT"
END_OBJECT = COMPRESSED_FILE
END
