PDS_VERSION_ID = PDS3
/* FILE DATA ELEMENTS */
RECORD_TYPE = STREAM
/* POINTERS TO DATA OBJECTS */
^COMPRESSED_FILE = "H5096_0000_IR3.JP2"
/* IDENTIFICATION DATA ELEMENTS */
DATA_SET_ID = "MEX-M-HRSC-5-REFDR-MAPPROJECTED-V3.0"
DATA_SET_NAME = "MARS EXPRESS HRSC MAP PROJECTED REFDR V3.0"
DETECTOR_ID = MEX_HRSC_IR
EVENT_TYPE = "MARS-REGIONAL-MAPPING-Vo-Im-Eo"
INSTRUMENT_HOST_ID = MEX
INSTRUMENT_HOST_NAME = "MARS EXPRESS"
INSTRUMENT_ID = HRSC
INSTRUMENT_NAME = "HIGH RESOLUTION STEREO CAMERA"
MISSION_NAME = "MARS EXPRESS"
MISSION_PHASE_NAME = ME_Phase_11
PROCESSING_LEVEL_ID = 3
PRODUCT_CREATION_TIME = 2016-04-26T21:06:31.000Z
PRODUCT_ID = "H5096_0000_IR3.JP2"
RELEASE_ID = 0057
REVISION_ID = 0000
/* QUALITY DATA ELEMENTS */
DATA_QUALITY_ID = 2
DATA_QUALITY_DESC = "Data calculated based on photogrammetrically improved orbit and attitude data"
/* TIME DATA ELEMENTS */
SPACECRAFT_CLOCK_START_COUNT = "1/0146266752.08240"
SPACECRAFT_CLOCK_STOP_COUNT = "1/0146267091.50017"
START_TIME = 2007-12-20T21:39:22.596Z
STOP_TIME = 2007-12-20T21:44:02.525Z
/* ORBITAL DATA ELEMENTS */
ASCENDING_NODE_LONGITUDE = 122.06
MAXIMUM_RESOLUTION = 106.4
FOOTPRINT_POINT_LATITUDE = (15.3697,15.3712,15.3398,14.9338, 14.5268,14.1186,13.7094,13.299,12.8875, 12.475,12.0744,11.7271,11.3792,11.0305, 10.6812,10.3311,9.98043,9.62933,9.27717 ,8.92462,8.57138,8.2176,7.86316,7.50813 ,7.15264,6.79771,6.45235,6.10659, 5.76024,5.41343,5.06607,4.71826,4.19698 ,3.85959,3.52175,3.18351,2.67576,2.3361 ,1.99625,1.65616,1.31593,0.977069, 0.636389,0.296102,-0.048101,-0.708587, -1.0415,-1.53677,-1.86694,-2.19768, -2.41447,-2.41664,-1.92006,-1.58643, -1.25533,-0.76142,-0.101019,0.410856, 0.752335,1.09334,1.43405,1.77467, 2.11429,2.45383,2.79296,3.13173,3.4702, 3.80843,4.14577,4.66547,5.01335,5.36078 ,5.70772,6.05432,6.40013,6.74552, 7.09874,7.4544,7.80959,8.16425,8.5183, 8.87171,9.22448,9.57672,9.92916,10.2793 ,10.6294,10.9789,11.3278,11.6759, 12.0233,12.4151,12.8278,13.2395,13.65, 14.0597,14.468,14.8753,15.2816,15.3697)
FOOTPRINT_POINT_LONGITUDE = (207.682,207.22,206.594,206.601,206.607 ,206.613,206.619,206.624,206.63,206.635 ,206.639,206.643,206.647,206.651, 206.654,206.657,206.66,206.663,206.666, 206.669,206.671,206.673,206.676,206.678 ,206.68,206.681,206.683,206.684,206.685 ,206.687,206.688,206.689,206.69,206.69, 206.691,206.691,206.692,206.692,206.691 ,206.691,206.691,206.691,206.691, 206.691,206.69,206.688,206.687,206.686, 206.685,206.684,207.314,207.789,207.792 ,207.793,207.795,207.799,207.803, 207.807,207.81,207.812,207.815,207.818, 207.821,207.824,207.827,207.831,207.834 ,207.838,207.841,207.847,207.851, 207.855,207.86,207.864,207.869,207.873, 207.878,207.883,207.888,207.893,207.898 ,207.904,207.909,207.915,207.92,207.926 ,207.932,207.938,207.944,207.951, 207.957,207.964,207.972,207.98,207.988, 207.996,208.005,208.013,208.022, 207.682)
ORBIT_NUMBER = 5096
ORBITAL_ECCENTRICITY = 0.575
ORBITAL_INCLINATION = 86.71
ORBITAL_SEMIMAJOR_AXIS = 8728.93
PERIAPSIS_ALTITUDE = 315.09
PERIAPSIS_ARGUMENT_ANGLE = 181.8
PERIAPSIS_TIME = 2007-12-20T21:44:16.000Z
SPACECRAFT_ORIENTATION = (0.0,-1.0,0.0)
^MEX_ORIENTATION_DESC = "MEX_ORIENTATION_DESC.TXT"
SPACECRAFT_POINTING_MODE = NADIR
^MEX_POINTING_DESC = "MEX_POINTING_DESC.TXT"
RIGHT_ASCENSION = -1e+32
DECLINATION = -1e+32
OFFSET_ANGLE = -1e+32
SPACECRAFT_SOLAR_DISTANCE = 2.35045e+08
TARGET_NAME = MARS
/* CAMERA DATA ELEMENTS */
DETECTOR_TEMPERATURE = 18.3705
FOCAL_PLANE_TEMPERATURE = 8.1755
INST_CMPRS_NAME = "DISCRETE COSINE TRANSFORMATION (DCT)"
INST_CMPRS_RATIO = 15.713
INST_CMPRS_QUALITY = 0
INST_CMPRS_QUANTZ_TBL_ID = 0
INSTRUMENT_TEMPERATURE = 11.234
LENS_TEMPERATURE = 8.5833
MACROPIXEL_SIZE = 8
MISSING_FRAMES = 0
PIXEL_SUBSAMPLING_FLAG = N
SIGNAL_CHAIN_ID = 2
/* RADIOMETRIC DATA ELEMENTS */
BANDWIDTH = 81.0
CENTER_FILTER_WAVELENGTH = 955.5
RADIANCE_OFFSET = 0.647361
RADIANCE_SCALING_FACTOR = 0.00246912
REFLECTANCE_SCALING_FACTOR = 0.000294288
MEX:REFLECTANCE_OFFSET = 0.0771573
/* IMAGE OBJECT DEFINITIONS */
OBJECT = IMAGE
  INTERCHANGE_FORMAT = BINARY
  LINES = 10525
  LINE_SAMPLES = 824
  SAMPLE_TYPE = UNSIGNED_INTEGER
  SAMPLE_BITS = 8
  BANDS = 1
  BAND_STORAGE_TYPE = BAND_SEQUENTIAL
  MAXIMUM = 255
  MEAN = 128.173
  MINIMUM = 1
  STANDARD_DEVIATION = 33.2497
END_OBJECT = IMAGE
/* MAP OBJECT DEFINITIONS */
OBJECT = IMAGE_MAP_PROJECTION
  ^DATA_SET_MAP_PROJECTION_CATALOG= "DSMAP.CAT"
  A_AXIS_RADIUS = 3396.0
  B_AXIS_RADIUS = 3396.0
  C_AXIS_RADIUS = 3396.0
  CENTER_LATITUDE = 0.0
  CENTER_LONGITUDE = 207.0
  COORDINATE_SYSTEM_NAME = PLANETOGRAPHIC
  COORDINATE_SYSTEM_TYPE = "BODY-FIXED ROTATING"
  EASTERNMOST_LONGITUDE = 208.022
  FIRST_STANDARD_PARALLEL = "N/A"
  LINE_FIRST_PIXEL = 1
  LINE_LAST_PIXEL = 10525
  LINE_PROJECTION_OFFSET = 9105.5625
  MAP_PROJECTION_ROTATION = 0.0
  MAP_PROJECTION_TYPE = SINUSOIDAL
  MAP_RESOLUTION = 592.713803866667
  MAP_SCALE = 0.1
  MAXIMUM_LATITUDE = 15.3712
  MINIMUM_LATITUDE = -2.41664
  POSITIVE_LONGITUDE_DIRECTION = EAST
  REFERENCE_LATITUDE = "N/A"
  REFERENCE_LONGITUDE = "N/A"
  SAMPLE_FIRST_PIXEL = 1
  SAMPLE_LAST_PIXEL = 824
  SAMPLE_PROJECTION_OFFSET = 241.3125
  SECOND_STANDARD_PARALLEL = "N/A"
  WESTERNMOST_LONGITUDE = 206.594
END_OBJECT = IMAGE_MAP_PROJECTION
/* The JPEG2000 image data file associated with this label. */
OBJECT = COMPRESSED_FILE
  FILE_NAME = "H5096_0000_IR3.JP2"
  RECORD_TYPE = UNDEFINED
  FILE_RECORDS = UNK
  ENCODING_TYPE = "JP2"
  INTERCHANGE_FORMAT = BINARY
  UNCOMPRESSED_FILE_NAME = "H5096_0000_IR3.IMG"
  REQUIRED_STORAGE_BYTES = "8690728"
  ^DESCRIPTION = "JP2INFO.TXT"
END_OBJECT = COMPRESSED_FILE
END
