PDS_VERSION_ID = PDS3
/* FILE DATA ELEMENTS */
RECORD_TYPE = STREAM
/* POINTERS TO DATA OBJECTS */
^COMPRESSED_FILE = "H5097_0000_S23.JP2"
/* IDENTIFICATION DATA ELEMENTS */
DATA_SET_ID = "MEX-M-HRSC-5-REFDR-MAPPROJECTED-V3.0"
DATA_SET_NAME = "MARS EXPRESS HRSC MAP PROJECTED REFDR V3.0"
DETECTOR_ID = MEX_HRSC_S2
EVENT_TYPE = "MARS-REGIONAL-MAPPING-Vo-Pf-Mw"
INSTRUMENT_HOST_ID = MEX
INSTRUMENT_HOST_NAME = "MARS EXPRESS"
INSTRUMENT_ID = HRSC
INSTRUMENT_NAME = "HIGH RESOLUTION STEREO CAMERA"
MISSION_NAME = "MARS EXPRESS"
MISSION_PHASE_NAME = ME_Phase_11
PROCESSING_LEVEL_ID = 3
PRODUCT_CREATION_TIME = 2016-04-26T21:06:31.000Z
PRODUCT_ID = "H5097_0000_S23.JP2"
RELEASE_ID = 0057
REVISION_ID = 0000
/* QUALITY DATA ELEMENTS */
DATA_QUALITY_ID = 2
DATA_QUALITY_DESC = "Data calculated based on photogrammetrically improved orbit and attitude data"
/* TIME DATA ELEMENTS */
SPACECRAFT_CLOCK_START_COUNT = "1/0146291036.08231"
SPACECRAFT_CLOCK_STOP_COUNT = "1/0146291411.25054"
START_TIME = 2007-12-21T04:26:07.160Z
STOP_TIME = 2007-12-21T04:30:13.271Z
/* ORBITAL DATA ELEMENTS */
ASCENDING_NODE_LONGITUDE = 122.03
MAXIMUM_RESOLUTION = 33
FOOTPRINT_POINT_LATITUDE = (34.4898,34.4877,34.4856,34.4831, 34.4802,34.5448,34.1635,33.5977,33.223, 32.8546,32.4857,32.1236,31.5821,31.2263 ,30.8722,30.5228,30.0012,29.6586, 29.3169,28.9806,28.4763,28.1467,27.8163 ,27.3274,27.004,26.6824,26.3658,26.0488 ,25.7338,25.4238,25.1135,24.8043, 24.3494,24.0461,23.7454,23.4489,23.1525 ,22.7094,22.42,22.1306,21.8408,21.4122, 21.1294,20.5641,20.2812,19.998,19.5733, 19.1481,18.8644,18.5328,18.5323,18.5314 ,18.5315,18.8153,19.0993,19.3829, 19.6666,19.9501,20.375,20.7998,21.2239, 21.7927,22.0826,22.3725,22.6621,22.9558 ,23.2527,23.5493,23.8456,24.1494, 24.4527,24.7566,25.065,25.3755,25.6856, 26.0,26.3175,26.6345,26.9555,27.2794, 27.603,28.0977,28.4282,28.763,29.0999, 29.4377,29.7814,30.1247,30.6491,30.9992 ,31.3564,31.7128,32.0757,32.4383, 32.8067,33.1757,33.5502,33.9254,34.3074 ,34.4898)
FOOTPRINT_POINT_LONGITUDE = (107.987,107.535,107.173,106.812, 106.451,105.963,105.985,106.016,106.035 ,106.054,106.073,106.091,106.116, 106.133,106.149,106.164,106.186,106.201 ,106.214,106.228,106.247,106.259, 106.271,106.289,106.3,106.311,106.321, 106.332,106.342,106.351,106.36,106.37, 106.383,106.391,106.399,106.407,106.415 ,106.426,106.433,106.44,106.446,106.456 ,106.463,106.474,106.48,106.486,106.494 ,106.502,106.507,106.735,107.041, 107.555,107.949,107.955,107.96,107.966, 107.972,107.977,107.986,107.995,108.004 ,108.016,108.022,108.028,108.035, 108.041,108.048,108.055,108.061,108.068 ,108.075,108.083,108.09,108.098,108.105 ,108.113,108.121,108.129,108.137, 108.145,108.153,108.166,108.175,108.184 ,108.193,108.202,108.211,108.221, 108.236,108.246,108.256,108.266,108.277 ,108.288,108.299,108.31,108.321,108.332 ,108.344,107.987)
ORBIT_NUMBER = 5097
ORBITAL_ECCENTRICITY = 0.575
ORBITAL_INCLINATION = 86.71
ORBITAL_SEMIMAJOR_AXIS = 8733.52
PERIAPSIS_ALTITUDE = 314.81
PERIAPSIS_ARGUMENT_ANGLE = 181.62
PERIAPSIS_TIME = 2007-12-21T04:34:49.000Z
SPACECRAFT_ORIENTATION = (0.0,-1.0,0.0)
^MEX_ORIENTATION_DESC = "MEX_ORIENTATION_DESC.TXT"
SPACECRAFT_POINTING_MODE = NADIR
^MEX_POINTING_DESC = "MEX_POINTING_DESC.TXT"
RIGHT_ASCENSION = -1e+32
DECLINATION = -1e+32
OFFSET_ANGLE = -1e+32
SPACECRAFT_SOLAR_DISTANCE = 2.35096e+08
TARGET_NAME = MARS
/* CAMERA DATA ELEMENTS */
DETECTOR_TEMPERATURE = 18.5744
FOCAL_PLANE_TEMPERATURE = 8.1755
INST_CMPRS_NAME = "DISCRETE COSINE TRANSFORMATION (DCT)"
INST_CMPRS_RATIO = 11.6131
INST_CMPRS_QUALITY = 0
INST_CMPRS_QUANTZ_TBL_ID = 0
INSTRUMENT_TEMPERATURE = 11.234
LENS_TEMPERATURE = 8.5833
MACROPIXEL_SIZE = 2
MISSING_FRAMES = 0
PIXEL_SUBSAMPLING_FLAG = N
SIGNAL_CHAIN_ID = 1
/* RADIOMETRIC DATA ELEMENTS */
BANDWIDTH = 178.0
CENTER_FILTER_WAVELENGTH = 679.0
RADIANCE_OFFSET = 2.44974
RADIANCE_SCALING_FACTOR = 0.00787064
REFLECTANCE_SCALING_FACTOR = 0.00023037
MEX:REFLECTANCE_OFFSET = 0.0717025
/* IMAGE OBJECT DEFINITIONS */
OBJECT = IMAGE
  INTERCHANGE_FORMAT = BINARY
  LINES = 37992
  LINE_SAMPLES = 5132
  SAMPLE_TYPE = UNSIGNED_INTEGER
  SAMPLE_BITS = 8
  BANDS = 1
  BAND_STORAGE_TYPE = BAND_SEQUENTIAL
  MAXIMUM = 255
  MEAN = 115.563
  MINIMUM = 1
  STANDARD_DEVIATION = 21.1338
END_OBJECT = IMAGE
/* MAP OBJECT DEFINITIONS */
OBJECT = IMAGE_MAP_PROJECTION
  ^DATA_SET_MAP_PROJECTION_CATALOG= "DSMAP.CAT"
  A_AXIS_RADIUS = 3396.0
  B_AXIS_RADIUS = 3396.0
  C_AXIS_RADIUS = 3396.0
  CENTER_LATITUDE = 0.0
  CENTER_LONGITUDE = 107.0
  COORDINATE_SYSTEM_NAME = PLANETOGRAPHIC
  COORDINATE_SYSTEM_TYPE = "BODY-FIXED ROTATING"
  EASTERNMOST_LONGITUDE = 108.344
  FIRST_STANDARD_PARALLEL = "N/A"
  LINE_FIRST_PIXEL = 1
  LINE_LAST_PIXEL = 37992
  LINE_PROJECTION_OFFSET = 81935.75
  MAP_PROJECTION_ROTATION = 0.0
  MAP_PROJECTION_TYPE = SINUSOIDAL
  MAP_RESOLUTION = 2370.85521546667
  MAP_SCALE = 0.025
  MAXIMUM_LATITUDE = 34.5448
  MINIMUM_LATITUDE = 18.5314
  POSITIVE_LONGITUDE_DIRECTION = EAST
  REFERENCE_LATITUDE = "N/A"
  REFERENCE_LONGITUDE = "N/A"
  SAMPLE_FIRST_PIXEL = 1
  SAMPLE_LAST_PIXEL = 5132
  SAMPLE_PROJECTION_OFFSET = 2275.25
  SECOND_STANDARD_PARALLEL = "N/A"
  WESTERNMOST_LONGITUDE = 105.963
END_OBJECT = IMAGE_MAP_PROJECTION
/* The JPEG2000 image data file associated with this label. */
OBJECT = COMPRESSED_FILE
  FILE_NAME = "H5097_0000_S23.JP2"
  RECORD_TYPE = UNDEFINED
  FILE_RECORDS = UNK
  ENCODING_TYPE = "JP2"
  INTERCHANGE_FORMAT = BINARY
  UNCOMPRESSED_FILE_NAME = "H5097_0000_S23.IMG"
  REQUIRED_STORAGE_BYTES = "195000604"
  ^DESCRIPTION = "JP2INFO.TXT"
END_OBJECT = COMPRESSED_FILE
END
