PDS_VERSION_ID = PDS3
/* FILE DATA ELEMENTS */
RECORD_TYPE = STREAM
/* POINTERS TO DATA OBJECTS */
^COMPRESSED_FILE = "H5100_0000_ND3.JP2"
/* IDENTIFICATION DATA ELEMENTS */
DATA_SET_ID = "MEX-M-HRSC-5-REFDR-MAPPROJECTED-V3.0"
DATA_SET_NAME = "MARS EXPRESS HRSC MAP PROJECTED REFDR V3.0"
DETECTOR_ID = MEX_HRSC_NADIR
EVENT_TYPE = "MARS-REGIONAL-MAPPING-Vo-Eo-Mw"
INSTRUMENT_HOST_ID = MEX
INSTRUMENT_HOST_NAME = "MARS EXPRESS"
INSTRUMENT_ID = HRSC
INSTRUMENT_NAME = "HIGH RESOLUTION STEREO CAMERA"
MISSION_NAME = "MARS EXPRESS"
MISSION_PHASE_NAME = ME_Phase_11
PROCESSING_LEVEL_ID = 3
PRODUCT_CREATION_TIME = 2016-04-26T21:06:31.000Z
PRODUCT_ID = "H5100_0000_ND3.JP2"
RELEASE_ID = 0057
REVISION_ID = 0000
/* QUALITY DATA ELEMENTS */
DATA_QUALITY_ID = 2
DATA_QUALITY_DESC = "Data calculated based on photogrammetrically improved orbit and attitude data"
/* TIME DATA ELEMENTS */
SPACECRAFT_CLOCK_START_COUNT = "1/0146365292.08242"
SPACECRAFT_CLOCK_STOP_COUNT = "1/0146365567.00576"
START_TIME = 2007-12-22T01:02:11.846Z
STOP_TIME = 2007-12-22T01:05:40.859Z
/* ORBITAL DATA ELEMENTS */
ASCENDING_NODE_LONGITUDE = 121.97
MAXIMUM_RESOLUTION = 12.8
FOOTPRINT_POINT_LATITUDE = (14.9976,14.9988,14.9996,14.9997, 14.6737,14.3609,14.0872,13.8131,13.5389 ,13.2643,12.9896,12.7146,12.4393, 12.1639,11.8882,11.6123,11.3361,11.0598 ,10.7832,10.5065,10.2295,9.95236, 9.67501,9.39748,9.11976,8.84479,8.5757, 8.30646,8.03706,7.76751,7.49782,7.22798 ,6.95801,6.68791,6.41769,6.14991,5.6269 ,5.10348,4.57968,4.31765,4.05553, 3.79334,3.53106,3.26872,3.00632,2.74384 ,2.48131,2.21873,1.95609,1.43593, 1.42587,1.42423,1.54953,1.94257,2.20522 ,2.46781,2.73035,2.99283,3.25525,3.5176 ,3.77989,4.0421,4.30423,4.56629,4.82825 ,5.09013,5.6136,6.13667,6.40419,6.67445 ,6.94459,7.21459,7.48446,7.7542,8.02379 ,8.29323,8.56253,8.83167,9.10641, 9.38418,9.66177,9.93917,10.2164,10.4934 ,10.7702,11.0469,11.3233,11.5995, 11.8755,12.1513,12.4268,12.7022,12.9773 ,13.2521,13.5267,13.8011,14.0752, 14.3491,14.6603,14.9976)
FOOTPRINT_POINT_LONGITUDE = (167.578,167.275,166.932,166.363, 166.367,166.371,166.375,166.378,166.381 ,166.384,166.387,166.39,166.392,166.395 ,166.397,166.4,166.402,166.404,166.406, 166.408,166.41,166.412,166.414,166.415, 166.417,166.418,166.42,166.421,166.422, 166.423,166.424,166.425,166.426,166.427 ,166.428,166.428,166.429,166.43,166.43, 166.43,166.43,166.43,166.43,166.43, 166.43,166.429,166.429,166.428,166.428, 166.427,166.836,167.19,167.55,167.553, 167.555,167.557,167.559,167.561,167.563 ,167.565,167.568,167.57,167.572,167.575 ,167.577,167.58,167.585,167.591,167.594 ,167.597,167.6,167.603,167.606,167.61, 167.613,167.616,167.62,167.623,167.627, 167.631,167.634,167.638,167.642,167.646 ,167.65,167.654,167.658,167.662,167.667 ,167.671,167.675,167.68,167.684,167.689 ,167.693,167.698,167.703,167.708, 167.713,167.578)
ORBIT_NUMBER = 5100
ORBITAL_ECCENTRICITY = 0.575
ORBITAL_INCLINATION = 86.72
ORBITAL_SEMIMAJOR_AXIS = 8724.78
PERIAPSIS_ALTITUDE = 315.76
PERIAPSIS_ARGUMENT_ANGLE = 181.12
PERIAPSIS_TIME = 2007-12-22T01:06:19.000Z
SPACECRAFT_ORIENTATION = (0.0,-1.0,0.0)
^MEX_ORIENTATION_DESC = "MEX_ORIENTATION_DESC.TXT"
SPACECRAFT_POINTING_MODE = NADIR
^MEX_POINTING_DESC = "MEX_POINTING_DESC.TXT"
RIGHT_ASCENSION = -1e+32
DECLINATION = -1e+32
OFFSET_ANGLE = -1e+32
SPACECRAFT_SOLAR_DISTANCE = 2.35248e+08
TARGET_NAME = MARS
/* CAMERA DATA ELEMENTS */
DETECTOR_TEMPERATURE = 18.3705
FOCAL_PLANE_TEMPERATURE = 8.3794
INST_CMPRS_NAME = "DISCRETE COSINE TRANSFORMATION (DCT)"
INST_CMPRS_RATIO = 6.95074
INST_CMPRS_QUALITY = 0
INST_CMPRS_QUANTZ_TBL_ID = 0
INSTRUMENT_TEMPERATURE = 11.4379
LENS_TEMPERATURE = 8.5833
MACROPIXEL_SIZE = 1
MISSING_FRAMES = 0
PIXEL_SUBSAMPLING_FLAG = N
SIGNAL_CHAIN_ID = 0
/* RADIOMETRIC DATA ELEMENTS */
BANDWIDTH = 177.0
CENTER_FILTER_WAVELENGTH = 677.5
RADIANCE_OFFSET = 2.05815
RADIANCE_SCALING_FACTOR = 0.00924281
REFLECTANCE_SCALING_FACTOR = 0.000271729
MEX:REFLECTANCE_OFFSET = 0.0605075
/* IMAGE OBJECT DEFINITIONS */
OBJECT = IMAGE
  INTERCHANGE_FORMAT = BINARY
  LINES = 64386
  LINE_SAMPLES = 6526
  SAMPLE_TYPE = UNSIGNED_INTEGER
  SAMPLE_BITS = 8
  BANDS = 1
  BAND_STORAGE_TYPE = BAND_SEQUENTIAL
  MAXIMUM = 255
  MEAN = 129.797
  MINIMUM = 1
  STANDARD_DEVIATION = 18.9598
END_OBJECT = IMAGE
/* MAP OBJECT DEFINITIONS */
OBJECT = IMAGE_MAP_PROJECTION
  ^DATA_SET_MAP_PROJECTION_CATALOG= "DSMAP.CAT"
  A_AXIS_RADIUS = 3396.0
  B_AXIS_RADIUS = 3396.0
  C_AXIS_RADIUS = 3396.0
  CENTER_LATITUDE = 0.0
  CENTER_LONGITUDE = 167.0
  COORDINATE_SYSTEM_NAME = PLANETOGRAPHIC
  COORDINATE_SYSTEM_TYPE = "BODY-FIXED ROTATING"
  EASTERNMOST_LONGITUDE = 167.713
  FIRST_STANDARD_PARALLEL = "N/A"
  LINE_FIRST_PIXEL = 1
  LINE_LAST_PIXEL = 64386
  LINE_PROJECTION_OFFSET = 71154.0
  MAP_PROJECTION_ROTATION = 0.0
  MAP_PROJECTION_TYPE = SINUSOIDAL
  MAP_RESOLUTION = 4741.71043093333
  MAP_SCALE = 0.0125
  MAXIMUM_LATITUDE = 14.9997
  MINIMUM_LATITUDE = 1.42423
  POSITIVE_LONGITUDE_DIRECTION = EAST
  REFERENCE_LATITUDE = "N/A"
  REFERENCE_LONGITUDE = "N/A"
  SAMPLE_FIRST_PIXEL = 1
  SAMPLE_LAST_PIXEL = 6526
  SAMPLE_PROJECTION_OFFSET = 3074.0
  SECOND_STANDARD_PARALLEL = "N/A"
  WESTERNMOST_LONGITUDE = 166.363
END_OBJECT = IMAGE_MAP_PROJECTION
/* The JPEG2000 image data file associated with this label. */
OBJECT = COMPRESSED_FILE
  FILE_NAME = "H5100_0000_ND3.JP2"
  RECORD_TYPE = UNDEFINED
  FILE_RECORDS = UNK
  ENCODING_TYPE = "JP2"
  INTERCHANGE_FORMAT = BINARY
  UNCOMPRESSED_FILE_NAME = "H5100_0000_ND3.IMG"
  REQUIRED_STORAGE_BYTES = "420215666"
  ^DESCRIPTION = "JP2INFO.TXT"
END_OBJECT = COMPRESSED_FILE
END
