PDS_VERSION_ID = PDS3
/* FILE DATA ELEMENTS */
RECORD_TYPE = STREAM
/* POINTERS TO DATA OBJECTS */
^COMPRESSED_FILE = "H5105_0000_ND3.JP2"
/* IDENTIFICATION DATA ELEMENTS */
DATA_SET_ID = "MEX-M-HRSC-5-REFDR-MAPPROJECTED-V3.0"
DATA_SET_NAME = "MARS EXPRESS HRSC MAP PROJECTED REFDR V3.0"
DETECTOR_ID = MEX_HRSC_NADIR
EVENT_TYPE = "MARS-LOCAL-STEREO-Im-La"
INSTRUMENT_HOST_ID = MEX
INSTRUMENT_HOST_NAME = "MARS EXPRESS"
INSTRUMENT_ID = HRSC
INSTRUMENT_NAME = "HIGH RESOLUTION STEREO CAMERA"
MISSION_NAME = "MARS EXPRESS"
MISSION_PHASE_NAME = ME_Phase_11
PROCESSING_LEVEL_ID = 3
PRODUCT_CREATION_TIME = 2016-04-27T00:54:51.000Z
PRODUCT_ID = "H5105_0000_ND3.JP2"
RELEASE_ID = 0058
REVISION_ID = 0000
/* QUALITY DATA ELEMENTS */
DATA_QUALITY_ID = 2
DATA_QUALITY_DESC = "Data calculated based on photogrammetrically improved orbit and attitude data"
/* TIME DATA ELEMENTS */
SPACECRAFT_CLOCK_START_COUNT = "1/0146488625.07287"
SPACECRAFT_CLOCK_STOP_COUNT = "1/0146488767.65461"
START_TIME = 2007-12-23T11:17:37.711Z
STOP_TIME = 2007-12-23T11:19:01.737Z
/* ORBITAL DATA ELEMENTS */
ASCENDING_NODE_LONGITUDE = 121.87
MAXIMUM_RESOLUTION = 12.6
FOOTPRINT_POINT_LATITUDE = (3.80099,3.80175,3.80251,3.80322, 3.80374,3.80426,3.69156,3.57876,3.46595 ,3.35312,3.24029,3.12745,3.0146,2.90173 ,2.78886,2.67598,2.56309,2.4502,2.33729 ,2.22624,2.0082,1.73559,1.51748,1.29937 ,1.19031,1.08123,0.972152,0.808521, 0.699434,0.535807,0.426722,0.317633, 0.208542,0.0994513,-0.00964132, -0.118736,-0.227829,-0.39147,-0.500564, -0.609656,-0.718748,-0.827838,-0.936928 ,-1.04601,-1.1551,-1.26418,-1.37326, -1.48234,-1.59141,-1.70048,-1.71322, -1.7142,-1.71489,-1.71562,-1.71638, -1.71682,-1.4987,-1.28057,-1.1715, -1.06242,-0.953348,-0.84427,-0.73519, -0.626108,-0.517025,-0.407942,-0.298858 ,-0.189773,-0.0806877,0.0283977, 0.137482,0.246566,0.355649,0.464731, 0.573811,0.682889,0.791966,0.90104, 1.01011,1.11918,1.22824,1.44636,1.66446 ,1.82802,2.04608,2.26412,2.43314, 2.54603,2.65892,2.77179,2.88466,2.99752 ,3.11037,3.22321,3.33605,3.44887, 3.56168,3.67448,3.78727,3.80099)
FOOTPRINT_POINT_LONGITUDE = (27.2675,27.1013,26.9246,26.7485, 26.6167,26.474,26.392,26.3919,26.3918, 26.3918,26.3917,26.3916,26.3913,26.3913 ,26.3912,26.3911,26.3908,26.3906, 26.3908,26.3906,26.3882,26.3891,26.3891 ,26.387,26.3861,26.3858,26.3863,26.3871 ,26.3872,26.3865,26.3859,26.3854,26.385 ,26.3844,26.384,26.3836,26.3831,26.3824 ,26.382,26.3815,26.3811,26.3806,26.3802 ,26.3797,26.3791,26.3786,26.378,26.3775 ,26.3769,26.3762,26.5162,26.7538,26.927 ,27.1119,27.3085,27.4782,27.4788, 27.4794,27.48,27.4804,27.4807,27.4811, 27.4816,27.4822,27.4827,27.4833,27.4838 ,27.4844,27.4849,27.4853,27.4858, 27.4864,27.4868,27.4873,27.4878,27.4881 ,27.4884,27.4888,27.4893,27.4897, 27.4907,27.4925,27.4935,27.4953,27.4964 ,27.4986,27.5001,27.5008,27.5013, 27.5021,27.5035,27.5043,27.5056,27.5067 ,27.5077,27.5085,27.5096,27.5101,27.511 ,27.2675)
ORBIT_NUMBER = 5105
ORBITAL_ECCENTRICITY = 0.575
ORBITAL_INCLINATION = 86.71
ORBITAL_SEMIMAJOR_AXIS = 8732.78
PERIAPSIS_ALTITUDE = 315.72
PERIAPSIS_ARGUMENT_ANGLE = 180.24
PERIAPSIS_TIME = 2007-12-23T11:18:39.000Z
SPACECRAFT_ORIENTATION = (0.0,-1.0,0.0)
^MEX_ORIENTATION_DESC = "MEX_ORIENTATION_DESC.TXT"
SPACECRAFT_POINTING_MODE = ACROSSTRACK
^MEX_POINTING_DESC = "MEX_POINTING_DESC.TXT"
RIGHT_ASCENSION = -1e+32
DECLINATION = -1e+32
OFFSET_ANGLE = 0.2
SPACECRAFT_SOLAR_DISTANCE = 2.35499e+08
TARGET_NAME = MARS
/* CAMERA DATA ELEMENTS */
DETECTOR_TEMPERATURE = 18.3705
FOCAL_PLANE_TEMPERATURE = 7.9716
INST_CMPRS_NAME = "DISCRETE COSINE TRANSFORMATION (DCT)"
INST_CMPRS_RATIO = 7.25916
INST_CMPRS_QUALITY = 0
INST_CMPRS_QUANTZ_TBL_ID = 0
INSTRUMENT_TEMPERATURE = 11.0301
LENS_TEMPERATURE = 8.3794
MACROPIXEL_SIZE = 1
MISSING_FRAMES = 0
PIXEL_SUBSAMPLING_FLAG = N
SIGNAL_CHAIN_ID = 0
/* RADIOMETRIC DATA ELEMENTS */
BANDWIDTH = 177.0
CENTER_FILTER_WAVELENGTH = 677.5
RADIANCE_OFFSET = 1.86067
RADIANCE_SCALING_FACTOR = 0.0125666
REFLECTANCE_SCALING_FACTOR = 0.00037024
MEX:REFLECTANCE_OFFSET = 0.0548194
/* IMAGE OBJECT DEFINITIONS */
OBJECT = IMAGE
  INTERCHANGE_FORMAT = BINARY
  LINES = 26181
  LINE_SAMPLES = 5764
  SAMPLE_TYPE = UNSIGNED_INTEGER
  SAMPLE_BITS = 8
  BANDS = 1
  BAND_STORAGE_TYPE = BAND_SEQUENTIAL
  MAXIMUM = 255
  MEAN = 118.413
  MINIMUM = 1
  STANDARD_DEVIATION = 22.9051
END_OBJECT = IMAGE
/* MAP OBJECT DEFINITIONS */
OBJECT = IMAGE_MAP_PROJECTION
  ^DATA_SET_MAP_PROJECTION_CATALOG= "DSMAP.CAT"
  A_AXIS_RADIUS = 3396.0
  B_AXIS_RADIUS = 3396.0
  C_AXIS_RADIUS = 3396.0
  CENTER_LATITUDE = 0.0
  CENTER_LONGITUDE = 27.0
  COORDINATE_SYSTEM_NAME = PLANETOGRAPHIC
  COORDINATE_SYSTEM_TYPE = "BODY-FIXED ROTATING"
  EASTERNMOST_LONGITUDE = 27.511
  FIRST_STANDARD_PARALLEL = "N/A"
  LINE_FIRST_PIXEL = 1
  LINE_LAST_PIXEL = 26181
  LINE_PROJECTION_OFFSET = 18057.0
  MAP_PROJECTION_ROTATION = 0.0
  MAP_PROJECTION_TYPE = SINUSOIDAL
  MAP_RESOLUTION = 4741.71043093333
  MAP_SCALE = 0.0125
  MAXIMUM_LATITUDE = 3.80426
  MINIMUM_LATITUDE = -1.71682
  POSITIVE_LONGITUDE_DIRECTION = EAST
  REFERENCE_LATITUDE = "N/A"
  REFERENCE_LONGITUDE = "N/A"
  SAMPLE_FIRST_PIXEL = 1
  SAMPLE_LAST_PIXEL = 5764
  SAMPLE_PROJECTION_OFFSET = 3087.0
  SECOND_STANDARD_PARALLEL = "N/A"
  WESTERNMOST_LONGITUDE = 26.3762
END_OBJECT = IMAGE_MAP_PROJECTION
/* The JPEG2000 image data file associated with this label. */
OBJECT = COMPRESSED_FILE
  FILE_NAME = "H5105_0000_ND3.JP2"
  RECORD_TYPE = UNDEFINED
  FILE_RECORDS = UNK
  ENCODING_TYPE = "JP2"
  INTERCHANGE_FORMAT = BINARY
  UNCOMPRESSED_FILE_NAME = "H5105_0000_ND3.IMG"
  REQUIRED_STORAGE_BYTES = "150936104"
  ^DESCRIPTION = "JP2INFO.TXT"
END_OBJECT = COMPRESSED_FILE
END
