PDS_VERSION_ID = PDS3
/* FILE DATA ELEMENTS */
RECORD_TYPE = STREAM
/* POINTERS TO DATA OBJECTS */
^COMPRESSED_FILE = "H5109_0000_BL3.JP2"
/* IDENTIFICATION DATA ELEMENTS */
DATA_SET_ID = "MEX-M-HRSC-5-REFDR-MAPPROJECTED-V3.0"
DATA_SET_NAME = "MARS EXPRESS HRSC MAP PROJECTED REFDR V3.0"
DETECTOR_ID = MEX_HRSC_BLUE
EVENT_TYPE = "MARS-REGIONAL-MAPPING-Im-Fl"
INSTRUMENT_HOST_ID = MEX
INSTRUMENT_HOST_NAME = "MARS EXPRESS"
INSTRUMENT_ID = HRSC
INSTRUMENT_NAME = "HIGH RESOLUTION STEREO CAMERA"
MISSION_NAME = "MARS EXPRESS"
MISSION_PHASE_NAME = ME_Phase_11
PROCESSING_LEVEL_ID = 3
PRODUCT_CREATION_TIME = 2016-04-27T00:54:51.000Z
PRODUCT_ID = "H5109_0000_BL3.JP2"
RELEASE_ID = 0058
REVISION_ID = 0000
/* QUALITY DATA ELEMENTS */
DATA_QUALITY_ID = 2
DATA_QUALITY_DESC = "Data calculated based on photogrammetrically improved orbit and attitude data"
/* TIME DATA ELEMENTS */
SPACECRAFT_CLOCK_START_COUNT = "1/0146587075.08399"
SPACECRAFT_CLOCK_STOP_COUNT = "1/0146587344.40999"
START_TIME = 2007-12-24T14:38:34.182Z
STOP_TIME = 2007-12-24T14:42:02.208Z
/* ORBITAL DATA ELEMENTS */
ASCENDING_NODE_LONGITUDE = 121.79
MAXIMUM_RESOLUTION = 102.2
FOOTPRINT_POINT_LATITUDE = (8.59348,8.59377,8.59399,8.59417,8.5943 ,8.59436,8.59629,8.31467,8.03309,7.7607 ,7.4883,7.07939,6.80675,6.53381,6.1249, 5.85205,5.57905,5.16974,4.89684,4.48723 ,4.21413,3.94111,3.66817,3.39512, 3.12189,2.71221,2.31113,2.04749,1.78355 ,1.38791,1.1243,0.860945,0.597324, 0.333833,-0.0614135,-0.3245,-0.587884, -0.851285,-1.25687,-1.5294,-1.80204, -2.07421,-2.48261,-2.75522,-3.02734, -3.29929,-3.70627,-4.11469,-4.52193, -4.79329,-5.04202,-5.04264,-5.04263, -5.04267,-5.04271,-5.04261,-5.04092, -4.63396,-4.36266,-3.95526,-3.68349, -3.27575,-3.00343,-2.7316,-2.32331, -1.91486,-1.64252,-1.23359,-0.960982, -0.697334,-0.302133,-0.038692,0.356324, 0.751486,1.01496,1.27863,1.54239, 1.93796,2.20162,2.46524,2.87195,3.14492 ,3.41798,3.69124,3.96438,4.23747, 4.51049,4.91998,5.19294,5.46589,5.73881 ,6.14799,6.42082,6.82983,7.23882, 7.64754,7.92005,8.19785,8.47944, 8.59348)
FOOTPRINT_POINT_LONGITUDE = (347.349,347.174,347.001,346.827, 346.655,346.483,346.293,346.294,346.294 ,346.295,346.295,346.296,346.296, 346.296,346.296,346.296,346.296,346.296 ,346.296,346.295,346.295,346.294, 346.294,346.293,346.292,346.291,346.29, 346.289,346.288,346.287,346.286,346.284 ,346.283,346.282,346.28,346.278,346.277 ,346.275,346.273,346.271,346.269, 346.267,346.264,346.263,346.261,346.259 ,346.255,346.252,346.249,346.246, 346.244,346.475,346.644,346.846,347.007 ,347.157,347.379,347.379,347.378, 347.378,347.378,347.378,347.379,347.379 ,347.38,347.38,347.381,347.382,347.383, 347.384,347.386,347.387,347.388,347.389 ,347.391,347.392,347.394,347.396, 347.398,347.399,347.402,347.404,347.406 ,347.408,347.41,347.412,347.415,347.418 ,347.42,347.423,347.425,347.429,347.432 ,347.436,347.441,347.445,347.449, 347.452,347.455,347.349)
ORBIT_NUMBER = 5109
ORBITAL_ECCENTRICITY = 0.575
ORBITAL_INCLINATION = 86.72
ORBITAL_SEMIMAJOR_AXIS = 8726.21
PERIAPSIS_ALTITUDE = 316.57
PERIAPSIS_ARGUMENT_ANGLE = 179.5
PERIAPSIS_TIME = 2007-12-24T14:40:32.000Z
SPACECRAFT_ORIENTATION = (0.0,-1.0,0.0)
^MEX_ORIENTATION_DESC = "MEX_ORIENTATION_DESC.TXT"
SPACECRAFT_POINTING_MODE = ACROSSTRACK
^MEX_POINTING_DESC = "MEX_POINTING_DESC.TXT"
RIGHT_ASCENSION = -1e+32
DECLINATION = -1e+32
OFFSET_ANGLE = 0.3
SPACECRAFT_SOLAR_DISTANCE = 2.357e+08
TARGET_NAME = MARS
/* CAMERA DATA ELEMENTS */
DETECTOR_TEMPERATURE = 18.5744
FOCAL_PLANE_TEMPERATURE = 7.9716
INST_CMPRS_NAME = "DISCRETE COSINE TRANSFORMATION (DCT)"
INST_CMPRS_RATIO = 19.4562
INST_CMPRS_QUALITY = 0
INST_CMPRS_QUANTZ_TBL_ID = 0
INSTRUMENT_TEMPERATURE = 11.0301
LENS_TEMPERATURE = 8.1755
MACROPIXEL_SIZE = 8
MISSING_FRAMES = 0
PIXEL_SUBSAMPLING_FLAG = N
SIGNAL_CHAIN_ID = 2
/* RADIOMETRIC DATA ELEMENTS */
BANDWIDTH = 76.0
CENTER_FILTER_WAVELENGTH = 444.0
RADIANCE_OFFSET = 0.408207
RADIANCE_SCALING_FACTOR = 0.000868237
REFLECTANCE_SCALING_FACTOR = 4.95576e-05
MEX:REFLECTANCE_OFFSET = 0.0232998
/* IMAGE OBJECT DEFINITIONS */
OBJECT = IMAGE
  INTERCHANGE_FORMAT = BINARY
  LINES = 8082
  LINE_SAMPLES = 766
  SAMPLE_TYPE = UNSIGNED_INTEGER
  SAMPLE_BITS = 8
  BANDS = 1
  BAND_STORAGE_TYPE = BAND_SEQUENTIAL
  MAXIMUM = 255
  MEAN = 123.549
  MINIMUM = 1
  STANDARD_DEVIATION = 24.8577
END_OBJECT = IMAGE
/* MAP OBJECT DEFINITIONS */
OBJECT = IMAGE_MAP_PROJECTION
  ^DATA_SET_MAP_PROJECTION_CATALOG= "DSMAP.CAT"
  A_AXIS_RADIUS = 3396.0
  B_AXIS_RADIUS = 3396.0
  C_AXIS_RADIUS = 3396.0
  CENTER_LATITUDE = 0.0
  CENTER_LONGITUDE = 347.0
  COORDINATE_SYSTEM_NAME = PLANETOGRAPHIC
  COORDINATE_SYSTEM_TYPE = "BODY-FIXED ROTATING"
  EASTERNMOST_LONGITUDE = 347.455
  FIRST_STANDARD_PARALLEL = "N/A"
  LINE_FIRST_PIXEL = 1
  LINE_LAST_PIXEL = 8082
  LINE_PROJECTION_OFFSET = 5095.6875
  MAP_PROJECTION_ROTATION = 0.0
  MAP_PROJECTION_TYPE = SINUSOIDAL
  MAP_RESOLUTION = 592.713803866667
  MAP_SCALE = 0.1
  MAXIMUM_LATITUDE = 8.59629
  MINIMUM_LATITUDE = -5.04271
  POSITIVE_LONGITUDE_DIRECTION = EAST
  REFERENCE_LATITUDE = "N/A"
  REFERENCE_LONGITUDE = "N/A"
  SAMPLE_FIRST_PIXEL = 1
  SAMPLE_LAST_PIXEL = 766
  SAMPLE_PROJECTION_OFFSET = 463.5625
  SECOND_STANDARD_PARALLEL = "N/A"
  WESTERNMOST_LONGITUDE = 346.244
END_OBJECT = IMAGE_MAP_PROJECTION
/* The JPEG2000 image data file associated with this label. */
OBJECT = COMPRESSED_FILE
  FILE_NAME = "H5109_0000_BL3.JP2"
  RECORD_TYPE = UNDEFINED
  FILE_RECORDS = UNK
  ENCODING_TYPE = "JP2"
  INTERCHANGE_FORMAT = BINARY
  UNCOMPRESSED_FILE_NAME = "H5109_0000_BL3.IMG"
  REQUIRED_STORAGE_BYTES = "6209196"
  ^DESCRIPTION = "JP2INFO.TXT"
END_OBJECT = COMPRESSED_FILE
END
