PDS_VERSION_ID = PDS3
/* FILE DATA ELEMENTS */
RECORD_TYPE = STREAM
/* POINTERS TO DATA OBJECTS */
^COMPRESSED_FILE = "H5109_0000_ND3.JP2"
/* IDENTIFICATION DATA ELEMENTS */
DATA_SET_ID = "MEX-M-HRSC-5-REFDR-MAPPROJECTED-V3.0"
DATA_SET_NAME = "MARS EXPRESS HRSC MAP PROJECTED REFDR V3.0"
DETECTOR_ID = MEX_HRSC_NADIR
EVENT_TYPE = "MARS-REGIONAL-MAPPING-Im-Fl"
INSTRUMENT_HOST_ID = MEX
INSTRUMENT_HOST_NAME = "MARS EXPRESS"
INSTRUMENT_ID = HRSC
INSTRUMENT_NAME = "HIGH RESOLUTION STEREO CAMERA"
MISSION_NAME = "MARS EXPRESS"
MISSION_PHASE_NAME = ME_Phase_11
PROCESSING_LEVEL_ID = 3
PRODUCT_CREATION_TIME = 2016-04-27T00:54:51.000Z
PRODUCT_ID = "H5109_0000_ND3.JP2"
RELEASE_ID = 0058
REVISION_ID = 0000
/* QUALITY DATA ELEMENTS */
DATA_QUALITY_ID = 2
DATA_QUALITY_DESC = "Data calculated based on photogrammetrically improved orbit and attitude data"
/* TIME DATA ELEMENTS */
SPACECRAFT_CLOCK_START_COUNT = "1/0146587075.08399"
SPACECRAFT_CLOCK_STOP_COUNT = "1/0146587344.40999"
START_TIME = 2007-12-24T14:38:29.227Z
STOP_TIME = 2007-12-24T14:41:57.216Z
/* ORBITAL DATA ELEMENTS */
ASCENDING_NODE_LONGITUDE = 121.79
MAXIMUM_RESOLUTION = 12.8
FOOTPRINT_POINT_LATITUDE = (8.59191,8.59329,8.59457,8.31198, 8.02925,7.6084,7.33479,7.06105,6.78722, 6.51327,6.23926,5.96513,5.55376,5.27945 ,5.00502,4.73053,4.45596,4.18134, 3.90666,3.63194,3.35716,3.08231,2.80745 ,2.53254,2.12413,1.85863,1.59307, 1.32755,1.06202,0.663714,0.398179, -0.000133455,-0.398394,-0.663899, -0.929388,-1.19486,-1.60469,-1.87953, -2.15432,-2.42908,-2.70378,-2.97847, -3.25304,-3.52759,-3.80194,-4.21354, -4.48778,-4.76194,-5.0372,-5.03828, -5.03949,-5.04021,-4.76618,-4.49208, -4.21789,-3.9436,-3.66923,-3.39479, -3.12026,-2.84571,-2.57108,-2.29638, -2.02164,-1.74686,-1.47202,-1.19964, -0.66876,-0.403282,-0.00501615,0.393236 ,0.658756,0.924271,1.1898,1.45531, 1.85358,2.11906,2.38998,2.6649,2.93977, 3.2146,3.4894,3.76417,4.03888,4.31352, 4.58811,4.86263,5.13708,5.41146,5.68576 ,5.95998,6.23411,6.50815,6.78209, 7.05593,7.32967,7.60329,8.02417,8.30691 ,8.58952,8.59191)
FOOTPRINT_POINT_LONGITUDE = (347.008,346.662,346.276,346.277, 346.277,346.278,346.279,346.279,346.28, 346.28,346.28,346.28,346.281,346.28, 346.28,346.28,346.28,346.279,346.279, 346.278,346.278,346.277,346.277,346.276 ,346.275,346.274,346.273,346.272, 346.271,346.269,346.268,346.266,346.264 ,346.262,346.261,346.259,346.257, 346.255,346.253,346.251,346.249,346.248 ,346.245,346.244,346.241,346.238, 346.236,346.233,346.41,346.691,347.053, 347.378,347.378,347.377,347.377,347.377 ,347.378,347.378,347.379,347.378, 347.379,347.379,347.38,347.38,347.381, 347.382,347.384,347.385,347.387,347.388 ,347.389,347.39,347.392,347.393,347.396 ,347.398,347.399,347.401,347.403, 347.405,347.407,347.41,347.412,347.414, 347.416,347.419,347.421,347.424,347.426 ,347.429,347.432,347.434,347.437,347.44 ,347.443,347.446,347.452,347.455, 347.458,347.008)
ORBIT_NUMBER = 5109
ORBITAL_ECCENTRICITY = 0.575
ORBITAL_INCLINATION = 86.72
ORBITAL_SEMIMAJOR_AXIS = 8726.21
PERIAPSIS_ALTITUDE = 316.57
PERIAPSIS_ARGUMENT_ANGLE = 179.5
PERIAPSIS_TIME = 2007-12-24T14:40:32.000Z
SPACECRAFT_ORIENTATION = (0.0,-1.0,0.0)
^MEX_ORIENTATION_DESC = "MEX_ORIENTATION_DESC.TXT"
SPACECRAFT_POINTING_MODE = ACROSSTRACK
^MEX_POINTING_DESC = "MEX_POINTING_DESC.TXT"
RIGHT_ASCENSION = -1e+32
DECLINATION = -1e+32
OFFSET_ANGLE = 0.3
SPACECRAFT_SOLAR_DISTANCE = 2.357e+08
TARGET_NAME = MARS
/* CAMERA DATA ELEMENTS */
DETECTOR_TEMPERATURE = 18.5744
FOCAL_PLANE_TEMPERATURE = 7.9716
INST_CMPRS_NAME = "DISCRETE COSINE TRANSFORMATION (DCT)"
INST_CMPRS_RATIO = 7.92754
INST_CMPRS_QUALITY = 0
INST_CMPRS_QUANTZ_TBL_ID = 0
INSTRUMENT_TEMPERATURE = 11.0301
LENS_TEMPERATURE = 8.1755
MACROPIXEL_SIZE = 1
MISSING_FRAMES = 0
PIXEL_SUBSAMPLING_FLAG = N
SIGNAL_CHAIN_ID = 0
/* RADIOMETRIC DATA ELEMENTS */
BANDWIDTH = 177.0
CENTER_FILTER_WAVELENGTH = 677.5
RADIANCE_OFFSET = 1.89859
RADIANCE_SCALING_FACTOR = 0.00979663
REFLECTANCE_SCALING_FACTOR = 0.00028912
MEX:REFLECTANCE_OFFSET = 0.0560314
/* IMAGE OBJECT DEFINITIONS */
OBJECT = IMAGE
  INTERCHANGE_FORMAT = BINARY
  LINES = 64649
  LINE_SAMPLES = 6121
  SAMPLE_TYPE = UNSIGNED_INTEGER
  SAMPLE_BITS = 8
  BANDS = 1
  BAND_STORAGE_TYPE = BAND_SEQUENTIAL
  MAXIMUM = 255
  MEAN = 111.654
  MINIMUM = 1
  STANDARD_DEVIATION = 20.6382
END_OBJECT = IMAGE
/* MAP OBJECT DEFINITIONS */
OBJECT = IMAGE_MAP_PROJECTION
  ^DATA_SET_MAP_PROJECTION_CATALOG= "DSMAP.CAT"
  A_AXIS_RADIUS = 3396.0
  B_AXIS_RADIUS = 3396.0
  C_AXIS_RADIUS = 3396.0
  CENTER_LATITUDE = 0.0
  CENTER_LONGITUDE = 347.0
  COORDINATE_SYSTEM_NAME = PLANETOGRAPHIC
  COORDINATE_SYSTEM_TYPE = "BODY-FIXED ROTATING"
  EASTERNMOST_LONGITUDE = 347.458
  FIRST_STANDARD_PARALLEL = "N/A"
  LINE_FIRST_PIXEL = 1
  LINE_LAST_PIXEL = 64649
  LINE_PROJECTION_OFFSET = 40769.0
  MAP_PROJECTION_ROTATION = 0.0
  MAP_PROJECTION_TYPE = SINUSOIDAL
  MAP_RESOLUTION = 4741.71043093333
  MAP_SCALE = 0.0125
  MAXIMUM_LATITUDE = 8.594569999999999
  MINIMUM_LATITUDE = -5.04021
  POSITIVE_LONGITUDE_DIRECTION = EAST
  REFERENCE_LATITUDE = "N/A"
  REFERENCE_LONGITUDE = "N/A"
  SAMPLE_FIRST_PIXEL = 1
  SAMPLE_LAST_PIXEL = 6121
  SAMPLE_PROJECTION_OFFSET = 3712.0
  SECOND_STANDARD_PARALLEL = "N/A"
  WESTERNMOST_LONGITUDE = 346.233
END_OBJECT = IMAGE_MAP_PROJECTION
/* The JPEG2000 image data file associated with this label. */
OBJECT = COMPRESSED_FILE
  FILE_NAME = "H5109_0000_ND3.JP2"
  RECORD_TYPE = UNDEFINED
  FILE_RECORDS = UNK
  ENCODING_TYPE = "JP2"
  INTERCHANGE_FORMAT = BINARY
  UNCOMPRESSED_FILE_NAME = "H5109_0000_ND3.IMG"
  REQUIRED_STORAGE_BYTES = "395747134"
  ^DESCRIPTION = "JP2INFO.TXT"
END_OBJECT = COMPRESSED_FILE
END
