PDS_VERSION_ID = PDS3
/* FILE DATA ELEMENTS */
RECORD_TYPE = STREAM
/* POINTERS TO DATA OBJECTS */
^COMPRESSED_FILE = "H5109_0000_S13.JP2"
/* IDENTIFICATION DATA ELEMENTS */
DATA_SET_ID = "MEX-M-HRSC-5-REFDR-MAPPROJECTED-V3.0"
DATA_SET_NAME = "MARS EXPRESS HRSC MAP PROJECTED REFDR V3.0"
DETECTOR_ID = MEX_HRSC_S1
EVENT_TYPE = "MARS-REGIONAL-MAPPING-Im-Fl"
INSTRUMENT_HOST_ID = MEX
INSTRUMENT_HOST_NAME = "MARS EXPRESS"
INSTRUMENT_ID = HRSC
INSTRUMENT_NAME = "HIGH RESOLUTION STEREO CAMERA"
MISSION_NAME = "MARS EXPRESS"
MISSION_PHASE_NAME = ME_Phase_11
PROCESSING_LEVEL_ID = 3
PRODUCT_CREATION_TIME = 2016-04-27T00:54:51.000Z
PRODUCT_ID = "H5109_0000_S13.JP2"
RELEASE_ID = 0058
REVISION_ID = 0000
/* QUALITY DATA ELEMENTS */
DATA_QUALITY_ID = 2
DATA_QUALITY_DESC = "Data calculated based on photogrammetrically improved orbit and attitude data"
/* TIME DATA ELEMENTS */
SPACECRAFT_CLOCK_START_COUNT = "1/0146587075.08399"
SPACECRAFT_CLOCK_STOP_COUNT = "1/0146587344.40999"
START_TIME = 2007-12-24T14:37:58.990Z
STOP_TIME = 2007-12-24T14:41:28.875Z
/* ORBITAL DATA ELEMENTS */
ASCENDING_NODE_LONGITUDE = 121.79
MAXIMUM_RESOLUTION = 27.1
FOOTPRINT_POINT_LATITUDE = (8.58158,8.58673,8.59161,8.59616, 8.60042,8.60436,8.44897,8.17398,7.89782 ,7.62245,7.3461,7.06987,6.79301,6.37794 ,6.10054,5.68611,5.41754,5.14731, 4.74226,4.33675,3.9301,3.65864,3.25106, 2.97904,2.70727,2.43468,2.16188,1.75294 ,1.4815,1.20689,0.929494,0.656155, 0.381406,0.116373,-0.148693,-0.415411, -0.680847,-0.945834,-1.21111,-1.47724, -1.74281,-2.01008,-2.40986,-2.80866, -3.07532,-3.35101,-3.63419,-4.04622, -4.32431,-4.73995,-5.01713,-5.05076, -5.0578,-5.06164,-5.06877,-5.07384, -4.7966,-4.5189,-4.24189,-3.82648, -3.55021,-3.13277,-2.86562,-2.5985, -2.33241,-2.06518,-1.79873,-1.53246, -1.13414,-0.868199,-0.603436,-0.206563, 0.058165,0.324446,0.597769,1.01265, 1.42232,1.83122,2.10391,2.37685,2.64891 ,2.9215,3.32981,3.60079,4.00703,4.27787 ,4.54845,4.954,5.22395,5.49332,5.76245, 6.04053,6.31816,6.73456,7.14952,7.42645 ,7.70239,7.97737,8.39026,8.58158)
FOOTPRINT_POINT_LONGITUDE = (347.362,347.174,346.987,346.801, 346.616,346.431,346.264,346.266,346.267 ,346.268,346.269,346.27,346.27,346.272, 346.272,346.273,346.273,346.273,346.274 ,346.274,346.274,346.274,346.273, 346.273,346.273,346.272,346.272,346.271 ,346.271,346.27,346.269,346.268,346.267 ,346.266,346.266,346.264,346.263, 346.262,346.261,346.26,346.258,346.257, 346.255,346.253,346.251,346.249,346.247 ,346.245,346.243,346.24,346.238,346.466 ,346.718,346.895,347.16,347.376,347.376 ,347.376,347.376,347.377,347.378, 347.379,347.379,347.38,347.381,347.381, 347.382,347.383,347.385,347.386,347.388 ,347.391,347.392,347.393,347.395, 347.397,347.4,347.403,347.405,347.407, 347.41,347.412,347.415,347.418,347.422, 347.425,347.427,347.431,347.434,347.437 ,347.44,347.443,347.447,347.452,347.457 ,347.46,347.464,347.468,347.474, 347.362)
ORBIT_NUMBER = 5109
ORBITAL_ECCENTRICITY = 0.575
ORBITAL_INCLINATION = 86.72
ORBITAL_SEMIMAJOR_AXIS = 8726.21
PERIAPSIS_ALTITUDE = 316.57
PERIAPSIS_ARGUMENT_ANGLE = 179.5
PERIAPSIS_TIME = 2007-12-24T14:40:32.000Z
SPACECRAFT_ORIENTATION = (0.0,-1.0,0.0)
^MEX_ORIENTATION_DESC = "MEX_ORIENTATION_DESC.TXT"
SPACECRAFT_POINTING_MODE = ACROSSTRACK
^MEX_POINTING_DESC = "MEX_POINTING_DESC.TXT"
RIGHT_ASCENSION = -1e+32
DECLINATION = -1e+32
OFFSET_ANGLE = 0.3
SPACECRAFT_SOLAR_DISTANCE = 2.357e+08
TARGET_NAME = MARS
/* CAMERA DATA ELEMENTS */
DETECTOR_TEMPERATURE = 17.5549
FOCAL_PLANE_TEMPERATURE = 7.9716
INST_CMPRS_NAME = "DISCRETE COSINE TRANSFORMATION (DCT)"
INST_CMPRS_RATIO = 9.95097
INST_CMPRS_QUALITY = 0
INST_CMPRS_QUANTZ_TBL_ID = 0
INSTRUMENT_TEMPERATURE = 11.0301
LENS_TEMPERATURE = 8.1755
MACROPIXEL_SIZE = 2
MISSING_FRAMES = 2
PIXEL_SUBSAMPLING_FLAG = N
SIGNAL_CHAIN_ID = 1
/* RADIOMETRIC DATA ELEMENTS */
BANDWIDTH = 180.0
CENTER_FILTER_WAVELENGTH = 677.0
RADIANCE_OFFSET = 2.54468
RADIANCE_SCALING_FACTOR = 0.0107183
REFLECTANCE_SCALING_FACTOR = 0.000310659
MEX:REFLECTANCE_OFFSET = 0.0737548
/* IMAGE OBJECT DEFINITIONS */
OBJECT = IMAGE
  INTERCHANGE_FORMAT = BINARY
  LINES = 32325
  LINE_SAMPLES = 3061
  SAMPLE_TYPE = UNSIGNED_INTEGER
  SAMPLE_BITS = 8
  BANDS = 1
  BAND_STORAGE_TYPE = BAND_SEQUENTIAL
  MAXIMUM = 255
  MEAN = 107.775
  MINIMUM = 1
  STANDARD_DEVIATION = 21.1688
END_OBJECT = IMAGE
/* MAP OBJECT DEFINITIONS */
OBJECT = IMAGE_MAP_PROJECTION
  ^DATA_SET_MAP_PROJECTION_CATALOG= "DSMAP.CAT"
  A_AXIS_RADIUS = 3396.0
  B_AXIS_RADIUS = 3396.0
  C_AXIS_RADIUS = 3396.0
  CENTER_LATITUDE = 0.0
  CENTER_LONGITUDE = 347.0
  COORDINATE_SYSTEM_NAME = PLANETOGRAPHIC
  COORDINATE_SYSTEM_TYPE = "BODY-FIXED ROTATING"
  EASTERNMOST_LONGITUDE = 347.474
  FIRST_STANDARD_PARALLEL = "N/A"
  LINE_FIRST_PIXEL = 1
  LINE_LAST_PIXEL = 32325
  LINE_PROJECTION_OFFSET = 20384.25
  MAP_PROJECTION_ROTATION = 0.0
  MAP_PROJECTION_TYPE = SINUSOIDAL
  MAP_RESOLUTION = 2370.85521546667
  MAP_SCALE = 0.025
  MAXIMUM_LATITUDE = 8.60436
  MINIMUM_LATITUDE = -5.07384
  POSITIVE_LONGITUDE_DIRECTION = EAST
  REFERENCE_LATITUDE = "N/A"
  REFERENCE_LONGITUDE = "N/A"
  SAMPLE_FIRST_PIXEL = 1
  SAMPLE_LAST_PIXEL = 3061
  SAMPLE_PROJECTION_OFFSET = 1855.75
  SECOND_STANDARD_PARALLEL = "N/A"
  WESTERNMOST_LONGITUDE = 346.238
END_OBJECT = IMAGE_MAP_PROJECTION
/* The JPEG2000 image data file associated with this label. */
OBJECT = COMPRESSED_FILE
  FILE_NAME = "H5109_0000_S13.JP2"
  RECORD_TYPE = UNDEFINED
  FILE_RECORDS = UNK
  ENCODING_TYPE = "JP2"
  INTERCHANGE_FORMAT = BINARY
  UNCOMPRESSED_FILE_NAME = "H5109_0000_S13.IMG"
  REQUIRED_STORAGE_BYTES = "98971313"
  ^DESCRIPTION = "JP2INFO.TXT"
END_OBJECT = COMPRESSED_FILE
END
