PDS_VERSION_ID = PDS3
/* FILE DATA ELEMENTS */
RECORD_TYPE = STREAM
/* POINTERS TO DATA OBJECTS */
^COMPRESSED_FILE = "H5114_0000_IR3.JP2"
/* IDENTIFICATION DATA ELEMENTS */
DATA_SET_ID = "MEX-M-HRSC-5-REFDR-MAPPROJECTED-V3.0"
DATA_SET_NAME = "MARS EXPRESS HRSC MAP PROJECTED REFDR V3.0"
DETECTOR_ID = MEX_HRSC_IR
EVENT_TYPE = "MARS-REGIONAL-MAPPING-Vo-Fl-Eo"
INSTRUMENT_HOST_ID = MEX
INSTRUMENT_HOST_NAME = "MARS EXPRESS"
INSTRUMENT_ID = HRSC
INSTRUMENT_NAME = "HIGH RESOLUTION STEREO CAMERA"
MISSION_NAME = "MARS EXPRESS"
MISSION_PHASE_NAME = ME_Phase_11
PROCESSING_LEVEL_ID = 3
PRODUCT_CREATION_TIME = 2016-04-27T00:54:51.000Z
PRODUCT_ID = "H5114_0000_IR3.JP2"
RELEASE_ID = 0058
REVISION_ID = 0000
/* QUALITY DATA ELEMENTS */
DATA_QUALITY_ID = 2
DATA_QUALITY_DESC = "Data calculated based on photogrammetrically improved orbit and attitude data"
/* TIME DATA ELEMENTS */
SPACECRAFT_CLOCK_START_COUNT = "1/0146710120.08263"
SPACECRAFT_CLOCK_STOP_COUNT = "1/0146710507.48091"
START_TIME = 2007-12-26T00:48:49.855Z
STOP_TIME = 2007-12-26T00:54:16.230Z
/* ORBITAL DATA ELEMENTS */
ASCENDING_NODE_LONGITUDE = 121.69
MAXIMUM_RESOLUTION = 106.9
FOOTPRINT_POINT_LATITUDE = (15.6008,15.6019,15.6016,15.57,15.088, 14.6654,14.2417,13.817,13.3913,12.9646, 12.5368,12.1082,11.6787,11.2483,10.8168 ,10.3845,9.73645,9.31611,8.89497, 8.47303,8.05054,7.62733,6.99308,6.58224 ,6.17076,5.75859,5.34598,4.93277, 4.51911,4.10492,3.69036,3.2749,2.85936, 2.44259,1.82619,1.4236,1.0194,0.61389, 0.00589245,-0.600147,-1.20705,-1.61195, -2.01793,-2.42501,-2.84534,-3.26636, -3.89386,-4.31539,-4.73684,-5.15704, -5.45044,-5.45252,-5.45375,-5.24227, -4.82035,-4.18933,-3.7689,-3.13486, -2.71738,-2.0985,-1.69506,-1.28942, -0.885201,-0.27766,0.129727,0.532083, 0.935761,1.53934,1.94239,2.56608, 2.98281,3.39789,4.02064,4.4353,4.84912, 5.26254,5.67541,6.08775,6.49939,6.91042 ,7.54206,7.96572,8.38859,8.81069, 9.23212,9.65278,10.2986,10.7314,11.1631 ,11.5939,12.0238,12.4528,12.8807,13.308 ,13.7341,14.1592,14.5833,15.0063, 15.4733,15.6008)
FOOTPRINT_POINT_LONGITUDE = (206.665,206.227,205.889,205.634, 205.641,205.647,205.652,205.657,205.662 ,205.666,205.671,205.675,205.678, 205.682,205.685,205.688,205.692,205.695 ,205.697,205.699,205.701,205.702, 205.704,205.705,205.706,205.707,205.707 ,205.707,205.708,205.707,205.707, 205.707,205.706,205.705,205.705,205.704 ,205.702,205.7,205.697,205.694,205.692, 205.689,205.687,205.684,205.681,205.678 ,205.675,205.671,205.668,205.665, 205.863,206.202,206.637,206.793,206.793 ,206.794,206.795,206.795,206.797, 206.799,206.801,206.802,206.804,206.807 ,206.808,206.811,206.813,206.817,206.82 ,206.824,206.827,206.83,206.835,206.839 ,206.842,206.846,206.85,206.854,206.859 ,206.863,206.87,206.875,206.88,206.885, 206.89,206.896,206.905,206.911,206.917, 206.923,206.929,206.936,206.943,206.949 ,206.956,206.964,206.971,206.978, 206.987,206.665)
ORBIT_NUMBER = 5114
ORBITAL_ECCENTRICITY = 0.575
ORBITAL_INCLINATION = 86.72
ORBITAL_SEMIMAJOR_AXIS = 8728.61
PERIAPSIS_ALTITUDE = 316.71
PERIAPSIS_ARGUMENT_ANGLE = 178.64
PERIAPSIS_TIME = 2007-12-26T00:52:56.000Z
SPACECRAFT_ORIENTATION = (0.0,-1.0,0.0)
^MEX_ORIENTATION_DESC = "MEX_ORIENTATION_DESC.TXT"
SPACECRAFT_POINTING_MODE = NADIR
^MEX_POINTING_DESC = "MEX_POINTING_DESC.TXT"
RIGHT_ASCENSION = -1e+32
DECLINATION = -1e+32
OFFSET_ANGLE = -1e+32
SPACECRAFT_SOLAR_DISTANCE = 2.35949e+08
TARGET_NAME = MARS
/* CAMERA DATA ELEMENTS */
DETECTOR_TEMPERATURE = 17.5549
FOCAL_PLANE_TEMPERATURE = 7.5638
INST_CMPRS_NAME = "DISCRETE COSINE TRANSFORMATION (DCT)"
INST_CMPRS_RATIO = 10.6192
INST_CMPRS_QUALITY = 0
INST_CMPRS_QUANTZ_TBL_ID = 0
INSTRUMENT_TEMPERATURE = 11.0301
LENS_TEMPERATURE = 8.3794
MACROPIXEL_SIZE = 8
MISSING_FRAMES = 0
PIXEL_SUBSAMPLING_FLAG = N
SIGNAL_CHAIN_ID = 2
/* RADIOMETRIC DATA ELEMENTS */
BANDWIDTH = 81.0
CENTER_FILTER_WAVELENGTH = 955.5
RADIANCE_OFFSET = 0.673965
RADIANCE_SCALING_FACTOR = 0.0033733
REFLECTANCE_SCALING_FACTOR = 0.000405152
MEX:REFLECTANCE_OFFSET = 0.0809468
/* IMAGE OBJECT DEFINITIONS */
OBJECT = IMAGE
  INTERCHANGE_FORMAT = BINARY
  LINES = 12463
  LINE_SAMPLES = 798
  SAMPLE_TYPE = UNSIGNED_INTEGER
  SAMPLE_BITS = 8
  BANDS = 1
  BAND_STORAGE_TYPE = BAND_SEQUENTIAL
  MAXIMUM = 255
  MEAN = 121.735
  MINIMUM = 1
  STANDARD_DEVIATION = 30.4233
END_OBJECT = IMAGE
/* MAP OBJECT DEFINITIONS */
OBJECT = IMAGE_MAP_PROJECTION
  ^DATA_SET_MAP_PROJECTION_CATALOG= "DSMAP.CAT"
  A_AXIS_RADIUS = 3396.0
  B_AXIS_RADIUS = 3396.0
  C_AXIS_RADIUS = 3396.0
  CENTER_LATITUDE = 0.0
  CENTER_LONGITUDE = 206.0
  COORDINATE_SYSTEM_NAME = PLANETOGRAPHIC
  COORDINATE_SYSTEM_TYPE = "BODY-FIXED ROTATING"
  EASTERNMOST_LONGITUDE = 206.987
  FIRST_STANDARD_PARALLEL = "N/A"
  LINE_FIRST_PIXEL = 1
  LINE_LAST_PIXEL = 12463
  LINE_PROJECTION_OFFSET = 9244.3125
  MAP_PROJECTION_ROTATION = 0.0
  MAP_PROJECTION_TYPE = SINUSOIDAL
  MAP_RESOLUTION = 592.713803866667
  MAP_SCALE = 0.1
  MAXIMUM_LATITUDE = 15.6019
  MINIMUM_LATITUDE = -5.45375
  POSITIVE_LONGITUDE_DIRECTION = EAST
  REFERENCE_LATITUDE = "N/A"
  REFERENCE_LONGITUDE = "N/A"
  SAMPLE_FIRST_PIXEL = 1
  SAMPLE_LAST_PIXEL = 798
  SAMPLE_PROJECTION_OFFSET = 227.4375
  SECOND_STANDARD_PARALLEL = "N/A"
  WESTERNMOST_LONGITUDE = 205.634
END_OBJECT = IMAGE_MAP_PROJECTION
/* The JPEG2000 image data file associated with this label. */
OBJECT = COMPRESSED_FILE
  FILE_NAME = "H5114_0000_IR3.JP2"
  RECORD_TYPE = UNDEFINED
  FILE_RECORDS = UNK
  ENCODING_TYPE = "JP2"
  INTERCHANGE_FORMAT = BINARY
  UNCOMPRESSED_FILE_NAME = "H5114_0000_IR3.IMG"
  REQUIRED_STORAGE_BYTES = "9963030"
  ^DESCRIPTION = "JP2INFO.TXT"
END_OBJECT = COMPRESSED_FILE
END
