PDS_VERSION_ID = PDS3
/* FILE DATA ELEMENTS */
RECORD_TYPE = STREAM
/* POINTERS TO DATA OBJECTS */
^COMPRESSED_FILE = "H5114_0000_RE3.JP2"
/* IDENTIFICATION DATA ELEMENTS */
DATA_SET_ID = "MEX-M-HRSC-5-REFDR-MAPPROJECTED-V3.0"
DATA_SET_NAME = "MARS EXPRESS HRSC MAP PROJECTED REFDR V3.0"
DETECTOR_ID = MEX_HRSC_RED
EVENT_TYPE = "MARS-REGIONAL-MAPPING-Vo-Fl-Eo"
INSTRUMENT_HOST_ID = MEX
INSTRUMENT_HOST_NAME = "MARS EXPRESS"
INSTRUMENT_ID = HRSC
INSTRUMENT_NAME = "HIGH RESOLUTION STEREO CAMERA"
MISSION_NAME = "MARS EXPRESS"
MISSION_PHASE_NAME = ME_Phase_11
PROCESSING_LEVEL_ID = 3
PRODUCT_CREATION_TIME = 2016-04-27T00:54:51.000Z
PRODUCT_ID = "H5114_0000_RE3.JP2"
RELEASE_ID = 0058
REVISION_ID = 0000
/* QUALITY DATA ELEMENTS */
DATA_QUALITY_ID = 2
DATA_QUALITY_DESC = "Data calculated based on photogrammetrically improved orbit and attitude data"
/* TIME DATA ELEMENTS */
SPACECRAFT_CLOCK_START_COUNT = "1/0146710120.08263"
SPACECRAFT_CLOCK_STOP_COUNT = "1/0146710507.48091"
START_TIME = 2007-12-26T00:49:44.385Z
STOP_TIME = 2007-12-26T00:55:04.456Z
/* ORBITAL DATA ELEMENTS */
ASCENDING_NODE_LONGITUDE = 121.69
MAXIMUM_RESOLUTION = 107.3
FOOTPRINT_POINT_LATITUDE = (15.5731,15.574,15.5748,15.3788,14.7056 ,14.2567,13.8075,13.3585,12.9159, 12.4813,12.0466,11.3946,10.9601,10.5257 ,9.88703,9.46723,9.04745,8.62789, 8.20834,7.78876,7.36978,6.95088,6.53206 ,6.11353,5.69523,5.2771,4.86789,4.4646, 4.06156,3.65877,3.25668,2.65357,2.25314 ,1.84889,1.44776,1.0483,0.64972, 0.0323984,-0.380535,-1.00093,-1.41347, -1.82492,-2.23556,-2.64354,-3.05303, -3.4623,-3.87517,-4.28292,-4.91088, -5.33186,-5.42255,-5.42502,-5.21409, -4.79369,-4.37336,-3.96576,-3.55418, -2.93972,-2.53316,-2.12263,-1.70922, -1.29785,-0.884135,-0.266045,0.144187, 0.761775,1.16267,1.76419,2.16506, 2.76614,3.16885,3.57107,3.97356,4.37636 ,4.77946,5.1856,5.60362,6.02191,6.44049 ,6.85929,7.2783,7.6974,8.11678,8.53634, 9.1659,9.58562,10.0055,10.4312,10.8656, 11.3003,11.735,12.1697,12.6044,13.0392, 13.4862,13.9353,14.3844,14.8336,15.2825 ,15.5731)
FOOTPRINT_POINT_LONGITUDE = (206.619,206.181,205.874,205.67,205.677 ,205.681,205.685,205.689,205.692, 205.695,205.698,205.702,205.704,205.706 ,205.708,205.71,205.711,205.712,205.713 ,205.713,205.714,205.714,205.714, 205.714,205.713,205.713,205.712,205.711 ,205.71,205.709,205.708,205.705,205.703 ,205.703,205.701,205.698,205.695, 205.691,205.688,205.684,205.681,205.678 ,205.674,205.67,205.666,205.662,205.66, 205.655,205.649,205.645,206.123,206.418 ,206.807,206.806,206.806,206.806, 206.806,206.806,206.805,206.806,206.807 ,206.807,206.809,206.81,206.81,206.812, 206.814,206.817,206.819,206.821,206.824 ,206.826,206.828,206.831,206.833, 206.836,206.839,206.842,206.846,206.849 ,206.853,206.856,206.86,206.864,206.87, 206.874,206.879,206.883,206.888,206.893 ,206.898,206.904,206.909,206.914,206.92 ,206.926,206.932,206.939,206.945, 206.619)
ORBIT_NUMBER = 5114
ORBITAL_ECCENTRICITY = 0.575
ORBITAL_INCLINATION = 86.72
ORBITAL_SEMIMAJOR_AXIS = 8728.61
PERIAPSIS_ALTITUDE = 316.71
PERIAPSIS_ARGUMENT_ANGLE = 178.64
PERIAPSIS_TIME = 2007-12-26T00:52:56.000Z
SPACECRAFT_ORIENTATION = (0.0,-1.0,0.0)
^MEX_ORIENTATION_DESC = "MEX_ORIENTATION_DESC.TXT"
SPACECRAFT_POINTING_MODE = NADIR
^MEX_POINTING_DESC = "MEX_POINTING_DESC.TXT"
RIGHT_ASCENSION = -1e+32
DECLINATION = -1e+32
OFFSET_ANGLE = -1e+32
SPACECRAFT_SOLAR_DISTANCE = 2.35949e+08
TARGET_NAME = MARS
/* CAMERA DATA ELEMENTS */
DETECTOR_TEMPERATURE = 18.5744
FOCAL_PLANE_TEMPERATURE = 7.5638
INST_CMPRS_NAME = "DISCRETE COSINE TRANSFORMATION (DCT)"
INST_CMPRS_RATIO = 11.3467
INST_CMPRS_QUALITY = 0
INST_CMPRS_QUANTZ_TBL_ID = 0
INSTRUMENT_TEMPERATURE = 11.0301
LENS_TEMPERATURE = 8.3794
MACROPIXEL_SIZE = 8
MISSING_FRAMES = 0
PIXEL_SUBSAMPLING_FLAG = N
SIGNAL_CHAIN_ID = 2
/* RADIOMETRIC DATA ELEMENTS */
BANDWIDTH = 48.0
CENTER_FILTER_WAVELENGTH = 748.0
RADIANCE_OFFSET = 0.744953
RADIANCE_SCALING_FACTOR = 0.0034146
REFLECTANCE_SCALING_FACTOR = 0.000433811
MEX:REFLECTANCE_OFFSET = 0.094643
/* IMAGE OBJECT DEFINITIONS */
OBJECT = IMAGE
  INTERCHANGE_FORMAT = BINARY
  LINES = 12463
  LINE_SAMPLES = 798
  SAMPLE_TYPE = UNSIGNED_INTEGER
  SAMPLE_BITS = 8
  BANDS = 1
  BAND_STORAGE_TYPE = BAND_SEQUENTIAL
  MAXIMUM = 255
  MEAN = 122.661
  MINIMUM = 1
  STANDARD_DEVIATION = 30.0355
END_OBJECT = IMAGE
/* MAP OBJECT DEFINITIONS */
OBJECT = IMAGE_MAP_PROJECTION
  ^DATA_SET_MAP_PROJECTION_CATALOG= "DSMAP.CAT"
  A_AXIS_RADIUS = 3396.0
  B_AXIS_RADIUS = 3396.0
  C_AXIS_RADIUS = 3396.0
  CENTER_LATITUDE = 0.0
  CENTER_LONGITUDE = 206.0
  COORDINATE_SYSTEM_NAME = PLANETOGRAPHIC
  COORDINATE_SYSTEM_TYPE = "BODY-FIXED ROTATING"
  EASTERNMOST_LONGITUDE = 206.945
  FIRST_STANDARD_PARALLEL = "N/A"
  LINE_FIRST_PIXEL = 1
  LINE_LAST_PIXEL = 12463
  LINE_PROJECTION_OFFSET = 9244.3125
  MAP_PROJECTION_ROTATION = 0.0
  MAP_PROJECTION_TYPE = SINUSOIDAL
  MAP_RESOLUTION = 592.713803866667
  MAP_SCALE = 0.1
  MAXIMUM_LATITUDE = 15.5748
  MINIMUM_LATITUDE = -5.42502
  POSITIVE_LONGITUDE_DIRECTION = EAST
  REFERENCE_LATITUDE = "N/A"
  REFERENCE_LONGITUDE = "N/A"
  SAMPLE_FIRST_PIXEL = 1
  SAMPLE_LAST_PIXEL = 798
  SAMPLE_PROJECTION_OFFSET = 227.4375
  SECOND_STANDARD_PARALLEL = "N/A"
  WESTERNMOST_LONGITUDE = 205.645
END_OBJECT = IMAGE_MAP_PROJECTION
/* The JPEG2000 image data file associated with this label. */
OBJECT = COMPRESSED_FILE
  FILE_NAME = "H5114_0000_RE3.JP2"
  RECORD_TYPE = UNDEFINED
  FILE_RECORDS = UNK
  ENCODING_TYPE = "JP2"
  INTERCHANGE_FORMAT = BINARY
  UNCOMPRESSED_FILE_NAME = "H5114_0000_RE3.IMG"
  REQUIRED_STORAGE_BYTES = "9963030"
  ^DESCRIPTION = "JP2INFO.TXT"
END_OBJECT = COMPRESSED_FILE
END
