PDS_VERSION_ID = PDS3
/* FILE DATA ELEMENTS */
RECORD_TYPE = STREAM
/* POINTERS TO DATA OBJECTS */
^COMPRESSED_FILE = "H5115_0000_BL3.JP2"
/* IDENTIFICATION DATA ELEMENTS */
DATA_SET_ID = "MEX-M-HRSC-5-REFDR-MAPPROJECTED-V3.0"
DATA_SET_NAME = "MARS EXPRESS HRSC MAP PROJECTED REFDR V3.0"
DETECTOR_ID = MEX_HRSC_BLUE
EVENT_TYPE = "MARS-REGIONAL-MAPPING-Vo-Pf-Mw"
INSTRUMENT_HOST_ID = MEX
INSTRUMENT_HOST_NAME = "MARS EXPRESS"
INSTRUMENT_ID = HRSC
INSTRUMENT_NAME = "HIGH RESOLUTION STEREO CAMERA"
MISSION_NAME = "MARS EXPRESS"
MISSION_PHASE_NAME = ME_Phase_11
PROCESSING_LEVEL_ID = 3
PRODUCT_CREATION_TIME = 2016-04-27T00:54:51.000Z
PRODUCT_ID = "H5115_0000_BL3.JP2"
RELEASE_ID = 0058
REVISION_ID = 0000
/* QUALITY DATA ELEMENTS */
DATA_QUALITY_ID = 2
DATA_QUALITY_DESC = "Data calculated based on photogrammetrically improved orbit and attitude data"
/* TIME DATA ELEMENTS */
SPACECRAFT_CLOCK_START_COUNT = "1/0146734414.09071"
SPACECRAFT_CLOCK_STOP_COUNT = "1/0146734773.07421"
START_TIME = 2007-12-26T07:34:50.120Z
STOP_TIME = 2007-12-26T07:39:07.444Z
/* ORBITAL DATA ELEMENTS */
ASCENDING_NODE_LONGITUDE = 121.67
MAXIMUM_RESOLUTION = 122.2
FOOTPRINT_POINT_LATITUDE = (34.7484,34.7447,34.7375,34.7346, 34.3636,33.9973,33.633,33.272,32.7364, 32.3808,32.0315,31.5097,31.1667,30.8234 ,30.4854,30.1472,29.6491,29.3171, 28.8277,28.5014,28.1812,27.8605,27.5425 ,27.2281,26.7567,26.4486,26.1401, 25.8317,25.5297,25.2273,24.7757,24.4799 ,24.1836,23.7414,23.4517,23.1617, 22.7272,22.1605,21.8766,21.5924,21.3079 ,21.023,20.7378,20.4525,20.1667,19.8806 ,19.5942,19.3076,19.0206,18.8388, 18.8385,18.8376,18.9817,19.269,19.5559, 19.8426,20.1289,20.4149,20.7007,20.9862 ,21.2714,21.5562,21.8408,22.125,22.4089 ,22.6925,22.9812,23.2718,23.562,24.0004 ,24.2972,24.5937,24.8899,25.1931,25.496 ,25.7985,26.1064,26.4155,26.7241, 27.0379,27.353,27.6677,27.9888,28.4702, 28.9599,29.2867,29.785,30.1177,30.4559, 30.7947,31.3094,31.6538,32.0039,32.3542 ,32.7099,33.0659,33.4275,33.9728, 34.3403,34.7484)
FOOTPRINT_POINT_LONGITUDE = (106.765,106.103,105.417,104.619, 104.642,104.665,104.687,104.708,104.738 ,104.758,104.777,104.804,104.819, 104.839,104.855,104.871,104.894,104.909 ,104.93,104.944,104.957,104.97,104.983, 104.995,105.013,105.024,105.035,105.046 ,105.056,105.066,105.081,105.09,105.099 ,105.112,105.121,105.129,105.141, 105.156,105.163,105.171,105.177,105.184 ,105.191,105.197,105.203,105.21,105.216 ,105.222,105.227,105.533,105.835,106.24 ,106.627,106.632,106.636,106.641, 106.646,106.65,106.655,106.66,106.665, 106.67,106.675,106.68,106.685,106.69, 106.695,106.7,106.706,106.714,106.719, 106.725,106.731,106.737,106.743,106.749 ,106.755,106.761,106.767,106.774,106.78 ,106.787,106.794,106.804,106.815, 106.822,106.833,106.84,106.848,106.856, 106.868,106.876,106.884,106.893,106.901 ,106.91,106.919,106.933,106.942, 106.765)
ORBIT_NUMBER = 5115
ORBITAL_ECCENTRICITY = 0.575
ORBITAL_INCLINATION = 86.72
ORBITAL_SEMIMAJOR_AXIS = 8733.43
PERIAPSIS_ALTITUDE = 316.38
PERIAPSIS_ARGUMENT_ANGLE = 178.46
PERIAPSIS_TIME = 2007-12-26T07:43:27.000Z
SPACECRAFT_ORIENTATION = (0.0,-1.0,0.0)
^MEX_ORIENTATION_DESC = "MEX_ORIENTATION_DESC.TXT"
SPACECRAFT_POINTING_MODE = ACROSSTRACK
^MEX_POINTING_DESC = "MEX_POINTING_DESC.TXT"
RIGHT_ASCENSION = -1e+32
DECLINATION = -1e+32
OFFSET_ANGLE = -0.29
SPACECRAFT_SOLAR_DISTANCE = 2.35998e+08
TARGET_NAME = MARS
/* CAMERA DATA ELEMENTS */
DETECTOR_TEMPERATURE = 18.3705
FOCAL_PLANE_TEMPERATURE = 7.7677
INST_CMPRS_NAME = "DISCRETE COSINE TRANSFORMATION (DCT)"
INST_CMPRS_RATIO = 19.1657
INST_CMPRS_QUALITY = 0
INST_CMPRS_QUANTZ_TBL_ID = 0
INSTRUMENT_TEMPERATURE = 11.234
LENS_TEMPERATURE = 8.1755
MACROPIXEL_SIZE = 8
MISSING_FRAMES = 0
PIXEL_SUBSAMPLING_FLAG = N
SIGNAL_CHAIN_ID = 2
/* RADIOMETRIC DATA ELEMENTS */
BANDWIDTH = 76.0
CENTER_FILTER_WAVELENGTH = 444.0
RADIANCE_OFFSET = 0.372785
RADIANCE_SCALING_FACTOR = 0.0011961
REFLECTANCE_SCALING_FACTOR = 6.8444e-05
MEX:REFLECTANCE_OFFSET = 0.0213317
/* IMAGE OBJECT DEFINITIONS */
OBJECT = IMAGE
  INTERCHANGE_FORMAT = BINARY
  LINES = 9448
  LINE_SAMPLES = 1188
  SAMPLE_TYPE = UNSIGNED_INTEGER
  SAMPLE_BITS = 8
  BANDS = 1
  BAND_STORAGE_TYPE = BAND_SEQUENTIAL
  MAXIMUM = 255
  MEAN = 102.344
  MINIMUM = 1
  STANDARD_DEVIATION = 17.1197
END_OBJECT = IMAGE
/* MAP OBJECT DEFINITIONS */
OBJECT = IMAGE_MAP_PROJECTION
  ^DATA_SET_MAP_PROJECTION_CATALOG= "DSMAP.CAT"
  A_AXIS_RADIUS = 3396.0
  B_AXIS_RADIUS = 3396.0
  C_AXIS_RADIUS = 3396.0
  CENTER_LATITUDE = 0.0
  CENTER_LONGITUDE = 106.0
  COORDINATE_SYSTEM_NAME = PLANETOGRAPHIC
  COORDINATE_SYSTEM_TYPE = "BODY-FIXED ROTATING"
  EASTERNMOST_LONGITUDE = 106.942
  FIRST_STANDARD_PARALLEL = "N/A"
  LINE_FIRST_PIXEL = 1
  LINE_LAST_PIXEL = 9448
  LINE_PROJECTION_OFFSET = 20609.4375
  MAP_PROJECTION_ROTATION = 0.0
  MAP_PROJECTION_TYPE = SINUSOIDAL
  MAP_RESOLUTION = 592.713803866667
  MAP_SCALE = 0.1
  MAXIMUM_LATITUDE = 34.7484
  MINIMUM_LATITUDE = 18.8376
  POSITIVE_LONGITUDE_DIRECTION = EAST
  REFERENCE_LATITUDE = "N/A"
  REFERENCE_LONGITUDE = "N/A"
  SAMPLE_FIRST_PIXEL = 1
  SAMPLE_LAST_PIXEL = 1188
  SAMPLE_PROJECTION_OFFSET = 709.4375
  SECOND_STANDARD_PARALLEL = "N/A"
  WESTERNMOST_LONGITUDE = 104.619
END_OBJECT = IMAGE_MAP_PROJECTION
/* The JPEG2000 image data file associated with this label. */
OBJECT = COMPRESSED_FILE
  FILE_NAME = "H5115_0000_BL3.JP2"
  RECORD_TYPE = UNDEFINED
  FILE_RECORDS = UNK
  ENCODING_TYPE = "JP2"
  INTERCHANGE_FORMAT = BINARY
  UNCOMPRESSED_FILE_NAME = "H5115_0000_BL3.IMG"
  REQUIRED_STORAGE_BYTES = "11242044"
  ^DESCRIPTION = "JP2INFO.TXT"
END_OBJECT = COMPRESSED_FILE
END
