PDS_VERSION_ID = PDS3
/* FILE DATA ELEMENTS */
RECORD_TYPE = STREAM
/* POINTERS TO DATA OBJECTS */
^COMPRESSED_FILE = "H5115_0000_S23.JP2"
/* IDENTIFICATION DATA ELEMENTS */
DATA_SET_ID = "MEX-M-HRSC-5-REFDR-MAPPROJECTED-V3.0"
DATA_SET_NAME = "MARS EXPRESS HRSC MAP PROJECTED REFDR V3.0"
DETECTOR_ID = MEX_HRSC_S2
EVENT_TYPE = "MARS-REGIONAL-MAPPING-Vo-Pf-Mw"
INSTRUMENT_HOST_ID = MEX
INSTRUMENT_HOST_NAME = "MARS EXPRESS"
INSTRUMENT_ID = HRSC
INSTRUMENT_NAME = "HIGH RESOLUTION STEREO CAMERA"
MISSION_NAME = "MARS EXPRESS"
MISSION_PHASE_NAME = ME_Phase_11
PROCESSING_LEVEL_ID = 3
PRODUCT_CREATION_TIME = 2016-04-27T00:54:51.000Z
PRODUCT_ID = "H5115_0000_S23.JP2"
RELEASE_ID = 0058
REVISION_ID = 0000
/* QUALITY DATA ELEMENTS */
DATA_QUALITY_ID = 2
DATA_QUALITY_DESC = "Data calculated based on photogrammetrically improved orbit and attitude data"
/* TIME DATA ELEMENTS */
SPACECRAFT_CLOCK_START_COUNT = "1/0146734414.09071"
SPACECRAFT_CLOCK_STOP_COUNT = "1/0146734773.07421"
START_TIME = 2007-12-26T07:35:32.100Z
STOP_TIME = 2007-12-26T07:39:34.985Z
/* ORBITAL DATA ELEMENTS */
ASCENDING_NODE_LONGITUDE = 121.67
MAXIMUM_RESOLUTION = 31.5
FOOTPRINT_POINT_LATITUDE = (34.72,34.7207,34.721,34.7211,34.7202, 34.2284,33.8608,33.4941,33.1312,32.7706 ,32.4134,32.0599,31.5331,31.1904, 30.8392,30.4995,30.16,29.823,29.4904, 28.991,28.6654,28.3394,28.0138,27.695, 27.376,26.9003,26.5889,26.2774,25.8123, 25.5083,25.2037,24.748,24.3028,24.0059, 23.7085,23.4109,23.1133,22.8157,22.5177 ,22.22,21.9219,21.6238,21.3254,21.0279, 20.7281,20.4298,19.9816,19.6825,19.3911 ,19.1405,18.8764,18.8682,18.8637, 18.8574,19.231,19.4965,19.7958,20.0947, 20.3937,20.6926,21.1411,21.4397,21.7383 ,22.0369,22.3351,22.6334,22.9314, 23.2293,23.676,23.9734,24.4194,24.7166, 25.02,25.3248,25.6295,26.0908,26.403, 26.8708,27.1872,27.5067,27.9855,28.3112 ,28.6377,28.9639,29.463,29.796,30.1335, 30.4743,30.8143,31.3352,31.6824,32.2137 ,32.5679,32.9292,33.2907,33.6571, 34.0249,34.3967,34.7714,34.72)
FOOTPRINT_POINT_LONGITUDE = (106.284,105.946,105.607,105.267,104.69 ,104.68,104.701,104.721,104.742,104.761 ,104.779,104.797,104.823,104.838, 104.857,104.872,104.887,104.902,104.916 ,104.937,104.95,104.963,104.976,104.988 ,105.0,105.017,105.028,105.038,105.054, 105.063,105.073,105.087,105.1,105.109, 105.117,105.125,105.133,105.141,105.148 ,105.156,105.163,105.17,105.177,105.183 ,105.19,105.196,105.205,105.211,105.217 ,105.222,105.321,105.764,106.031, 106.417,106.612,106.615,106.62,106.624, 106.628,106.633,106.64,106.644,106.649, 106.654,106.658,106.663,106.668,106.672 ,106.68,106.685,106.692,106.697,106.702 ,106.707,106.713,106.721,106.726, 106.735,106.74,106.746,106.755,106.761, 106.767,106.773,106.783,106.789,106.796 ,106.802,106.809,106.819,106.826, 106.837,106.844,106.852,106.86,106.867, 106.875,106.883,106.891,106.284)
ORBIT_NUMBER = 5115
ORBITAL_ECCENTRICITY = 0.575
ORBITAL_INCLINATION = 86.72
ORBITAL_SEMIMAJOR_AXIS = 8733.43
PERIAPSIS_ALTITUDE = 316.38
PERIAPSIS_ARGUMENT_ANGLE = 178.46
PERIAPSIS_TIME = 2007-12-26T07:43:27.000Z
SPACECRAFT_ORIENTATION = (0.0,-1.0,0.0)
^MEX_ORIENTATION_DESC = "MEX_ORIENTATION_DESC.TXT"
SPACECRAFT_POINTING_MODE = ACROSSTRACK
^MEX_POINTING_DESC = "MEX_POINTING_DESC.TXT"
RIGHT_ASCENSION = -1e+32
DECLINATION = -1e+32
OFFSET_ANGLE = -0.29
SPACECRAFT_SOLAR_DISTANCE = 2.35998e+08
TARGET_NAME = MARS
/* CAMERA DATA ELEMENTS */
DETECTOR_TEMPERATURE = 18.5744
FOCAL_PLANE_TEMPERATURE = 7.7677
INST_CMPRS_NAME = "DISCRETE COSINE TRANSFORMATION (DCT)"
INST_CMPRS_RATIO = 8.86122
INST_CMPRS_QUALITY = 0
INST_CMPRS_QUANTZ_TBL_ID = 0
INSTRUMENT_TEMPERATURE = 11.234
LENS_TEMPERATURE = 8.1755
MACROPIXEL_SIZE = 2
MISSING_FRAMES = 0
PIXEL_SUBSAMPLING_FLAG = N
SIGNAL_CHAIN_ID = 1
/* RADIOMETRIC DATA ELEMENTS */
BANDWIDTH = 178.0
CENTER_FILTER_WAVELENGTH = 679.0
RADIANCE_OFFSET = 2.54716
RADIANCE_SCALING_FACTOR = 0.0130192
REFLECTANCE_SCALING_FACTOR = 0.000383996
MEX:REFLECTANCE_OFFSET = 0.0751276
/* IMAGE OBJECT DEFINITIONS */
OBJECT = IMAGE
  INTERCHANGE_FORMAT = BINARY
  LINES = 37789
  LINE_SAMPLES = 4750
  SAMPLE_TYPE = UNSIGNED_INTEGER
  SAMPLE_BITS = 8
  BANDS = 1
  BAND_STORAGE_TYPE = BAND_SEQUENTIAL
  MAXIMUM = 255
  MEAN = 93.2872
  MINIMUM = 1
  STANDARD_DEVIATION = 13.5057
END_OBJECT = IMAGE
/* MAP OBJECT DEFINITIONS */
OBJECT = IMAGE_MAP_PROJECTION
  ^DATA_SET_MAP_PROJECTION_CATALOG= "DSMAP.CAT"
  A_AXIS_RADIUS = 3396.0
  B_AXIS_RADIUS = 3396.0
  C_AXIS_RADIUS = 3396.0
  CENTER_LATITUDE = 0.0
  CENTER_LONGITUDE = 106.0
  COORDINATE_SYSTEM_NAME = PLANETOGRAPHIC
  COORDINATE_SYSTEM_TYPE = "BODY-FIXED ROTATING"
  EASTERNMOST_LONGITUDE = 106.891
  FIRST_STANDARD_PARALLEL = "N/A"
  LINE_FIRST_PIXEL = 1
  LINE_LAST_PIXEL = 37789
  LINE_PROJECTION_OFFSET = 82439.25
  MAP_PROJECTION_ROTATION = 0.0
  MAP_PROJECTION_TYPE = SINUSOIDAL
  MAP_RESOLUTION = 2370.85521546667
  MAP_SCALE = 0.025
  MAXIMUM_LATITUDE = 34.7714
  MINIMUM_LATITUDE = 18.8574
  POSITIVE_LONGITUDE_DIRECTION = EAST
  REFERENCE_LATITUDE = "N/A"
  REFERENCE_LONGITUDE = "N/A"
  SAMPLE_FIRST_PIXEL = 1
  SAMPLE_LAST_PIXEL = 4750
  SAMPLE_PROJECTION_OFFSET = 2839.25
  SECOND_STANDARD_PARALLEL = "N/A"
  WESTERNMOST_LONGITUDE = 104.68
END_OBJECT = IMAGE_MAP_PROJECTION
/* The JPEG2000 image data file associated with this label. */
OBJECT = COMPRESSED_FILE
  FILE_NAME = "H5115_0000_S23.JP2"
  RECORD_TYPE = UNDEFINED
  FILE_RECORDS = UNK
  ENCODING_TYPE = "JP2"
  INTERCHANGE_FORMAT = BINARY
  UNCOMPRESSED_FILE_NAME = "H5115_0000_S23.IMG"
  REQUIRED_STORAGE_BYTES = "179521500"
  ^DESCRIPTION = "JP2INFO.TXT"
END_OBJECT = COMPRESSED_FILE
END
