PDS_VERSION_ID = PDS3
/* FILE DATA ELEMENTS */
RECORD_TYPE = STREAM
/* POINTERS TO DATA OBJECTS */
^COMPRESSED_FILE = "H5117_0000_ND3.JP2"
/* IDENTIFICATION DATA ELEMENTS */
DATA_SET_ID = "MEX-M-HRSC-5-REFDR-MAPPROJECTED-V3.0"
DATA_SET_NAME = "MARS EXPRESS HRSC MAP PROJECTED REFDR V3.0"
DETECTOR_ID = MEX_HRSC_NADIR
EVENT_TYPE = "MARS-REGIONAL-MAPPING-Vo-Te"
INSTRUMENT_HOST_ID = MEX
INSTRUMENT_HOST_NAME = "MARS EXPRESS"
INSTRUMENT_ID = HRSC
INSTRUMENT_NAME = "HIGH RESOLUTION STEREO CAMERA"
MISSION_NAME = "MARS EXPRESS"
MISSION_PHASE_NAME = ME_Phase_11
PROCESSING_LEVEL_ID = 3
PRODUCT_CREATION_TIME = 2016-04-27T00:54:51.000Z
PRODUCT_ID = "H5117_0000_ND3.JP2"
RELEASE_ID = 0058
REVISION_ID = 0000
/* QUALITY DATA ELEMENTS */
DATA_QUALITY_ID = 2
DATA_QUALITY_DESC = "Data calculated based on photogrammetrically improved orbit and attitude data"
/* TIME DATA ELEMENTS */
SPACECRAFT_CLOCK_START_COUNT = "1/0146784065.07292"
SPACECRAFT_CLOCK_STOP_COUNT = "1/0146784337.32816"
START_TIME = 2007-12-26T21:21:40.722Z
STOP_TIME = 2007-12-26T21:25:10.717Z
/* ORBITAL DATA ELEMENTS */
ASCENDING_NODE_LONGITUDE = 121.62
MAXIMUM_RESOLUTION = 12.5
FOOTPRINT_POINT_LATITUDE = (12.9156,12.9166,12.7709,12.4797, 12.1883,11.8979,11.6156,11.333,11.0504, 10.7675,10.4845,10.2013,9.91804,9.63458 ,9.351,9.07027,8.79588,8.52137,8.24675, 7.97203,7.69721,7.42229,7.14727,6.87217 ,6.59699,6.32172,6.04638,5.77098, 5.49552,5.21999,4.94441,4.66878,4.3931, 3.98187,3.71561,3.44931,3.183,2.91667, 2.65032,2.38396,2.1176,1.71806,1.45169, 1.18534,0.919007,0.652683,0.386383, 0.12011,-0.412344,-0.685505,-0.82603, -0.827597,-0.691002,-0.417806,0.114708, 0.381012,0.647341,0.913693,1.18006, 1.44645,1.71284,1.97924,2.24564,2.51203 ,2.77841,3.17797,3.44433,3.71066, 3.97697,4.38828,4.66401,4.9397,5.21535, 5.49094,5.76647,6.04194,6.31734,6.59266 ,6.86792,7.14308,7.41817,7.69316, 7.96806,8.24286,8.51756,8.79214,9.06662 ,9.34742,9.6311,9.91464,10.198,10.4813, 10.7644,11.0474,11.3301,11.6128,11.8952 ,12.3315,12.6229,12.9156)
FOOTPRINT_POINT_LONGITUDE = (266.284,265.898,265.305,265.308, 265.311,265.313,265.316,265.318,265.32, 265.322,265.324,265.325,265.327,265.328 ,265.33,265.331,265.332,265.334,265.335 ,265.336,265.336,265.337,265.338, 265.338,265.339,265.339,265.34,265.34, 265.34,265.34,265.34,265.339,265.339, 265.338,265.338,265.337,265.337,265.336 ,265.335,265.334,265.333,265.332, 265.331,265.329,265.328,265.327,265.325 ,265.324,265.32,265.319,265.784,266.107 ,266.413,266.414,266.416,266.417, 266.418,266.419,266.42,266.421,266.422, 266.423,266.425,266.426,266.427,266.429 ,266.431,266.432,266.434,266.437, 266.439,266.441,266.443,266.445,266.447 ,266.45,266.452,266.454,266.457,266.459 ,266.461,266.464,266.466,266.469, 266.472,266.475,266.477,266.48,266.483, 266.486,266.489,266.492,266.495,266.499 ,266.502,266.505,266.509,266.514, 266.517,266.284)
ORBIT_NUMBER = 5117
ORBITAL_ECCENTRICITY = 0.575
ORBITAL_INCLINATION = 86.72
ORBITAL_SEMIMAJOR_AXIS = 8741.05
PERIAPSIS_ALTITUDE = 316.56
PERIAPSIS_ARGUMENT_ANGLE = 178.13
PERIAPSIS_TIME = 2007-12-26T21:24:29.000Z
SPACECRAFT_ORIENTATION = (0.0,-1.0,0.0)
^MEX_ORIENTATION_DESC = "MEX_ORIENTATION_DESC.TXT"
SPACECRAFT_POINTING_MODE = ACROSSTRACK
^MEX_POINTING_DESC = "MEX_POINTING_DESC.TXT"
RIGHT_ASCENSION = -1e+32
DECLINATION = -1e+32
OFFSET_ANGLE = -0.18
SPACECRAFT_SOLAR_DISTANCE = 2.36097e+08
TARGET_NAME = MARS
/* CAMERA DATA ELEMENTS */
DETECTOR_TEMPERATURE = 18.1666
FOCAL_PLANE_TEMPERATURE = 7.7677
INST_CMPRS_NAME = "DISCRETE COSINE TRANSFORMATION (DCT)"
INST_CMPRS_RATIO = 6.05028
INST_CMPRS_QUALITY = 0
INST_CMPRS_QUANTZ_TBL_ID = 0
INSTRUMENT_TEMPERATURE = 11.234
LENS_TEMPERATURE = 8.3794
MACROPIXEL_SIZE = 1
MISSING_FRAMES = 0
PIXEL_SUBSAMPLING_FLAG = N
SIGNAL_CHAIN_ID = 0
/* RADIOMETRIC DATA ELEMENTS */
BANDWIDTH = 177.0
CENTER_FILTER_WAVELENGTH = 677.5
RADIANCE_OFFSET = 2.22416
RADIANCE_SCALING_FACTOR = 0.0132729
REFLECTANCE_SCALING_FACTOR = 0.000393035
MEX:REFLECTANCE_OFFSET = 0.0658614
/* IMAGE OBJECT DEFINITIONS */
OBJECT = IMAGE
  INTERCHANGE_FORMAT = BINARY
  LINES = 65177
  LINE_SAMPLES = 6086
  SAMPLE_TYPE = UNSIGNED_INTEGER
  SAMPLE_BITS = 8
  BANDS = 1
  BAND_STORAGE_TYPE = BAND_SEQUENTIAL
  MAXIMUM = 255
  MEAN = 120.464
  MINIMUM = 1
  STANDARD_DEVIATION = 14.3956
END_OBJECT = IMAGE
/* MAP OBJECT DEFINITIONS */
OBJECT = IMAGE_MAP_PROJECTION
  ^DATA_SET_MAP_PROJECTION_CATALOG= "DSMAP.CAT"
  A_AXIS_RADIUS = 3396.0
  B_AXIS_RADIUS = 3396.0
  C_AXIS_RADIUS = 3396.0
  CENTER_LATITUDE = 0.0
  CENTER_LONGITUDE = 266.0
  COORDINATE_SYSTEM_NAME = PLANETOGRAPHIC
  COORDINATE_SYSTEM_TYPE = "BODY-FIXED ROTATING"
  EASTERNMOST_LONGITUDE = 266.517
  FIRST_STANDARD_PARALLEL = "N/A"
  LINE_FIRST_PIXEL = 1
  LINE_LAST_PIXEL = 65177
  LINE_PROJECTION_OFFSET = 61269.0
  MAP_PROJECTION_ROTATION = 0.0
  MAP_PROJECTION_TYPE = SINUSOIDAL
  MAP_RESOLUTION = 4741.71043093333
  MAP_SCALE = 0.0125
  MAXIMUM_LATITUDE = 12.9166
  MINIMUM_LATITUDE = -0.827597
  POSITIVE_LONGITUDE_DIRECTION = EAST
  REFERENCE_LATITUDE = "N/A"
  REFERENCE_LONGITUDE = "N/A"
  SAMPLE_FIRST_PIXEL = 1
  SAMPLE_LAST_PIXEL = 6086
  SAMPLE_PROJECTION_OFFSET = 3544.0
  SECOND_STANDARD_PARALLEL = "N/A"
  WESTERNMOST_LONGITUDE = 265.305
END_OBJECT = IMAGE_MAP_PROJECTION
/* The JPEG2000 image data file associated with this label. */
OBJECT = COMPRESSED_FILE
  FILE_NAME = "H5117_0000_ND3.JP2"
  RECORD_TYPE = UNDEFINED
  FILE_RECORDS = UNK
  ENCODING_TYPE = "JP2"
  INTERCHANGE_FORMAT = BINARY
  UNCOMPRESSED_FILE_NAME = "H5117_0000_ND3.IMG"
  REQUIRED_STORAGE_BYTES = "396697652"
  ^DESCRIPTION = "JP2INFO.TXT"
END_OBJECT = COMPRESSED_FILE
END
