PDS_VERSION_ID = PDS3
/* FILE DATA ELEMENTS */
RECORD_TYPE = STREAM
/* POINTERS TO DATA OBJECTS */
^COMPRESSED_FILE = "H5117_0000_S13.JP2"
/* IDENTIFICATION DATA ELEMENTS */
DATA_SET_ID = "MEX-M-HRSC-5-REFDR-MAPPROJECTED-V3.0"
DATA_SET_NAME = "MARS EXPRESS HRSC MAP PROJECTED REFDR V3.0"
DETECTOR_ID = MEX_HRSC_S1
EVENT_TYPE = "MARS-REGIONAL-MAPPING-Vo-Te"
INSTRUMENT_HOST_ID = MEX
INSTRUMENT_HOST_NAME = "MARS EXPRESS"
INSTRUMENT_ID = HRSC
INSTRUMENT_NAME = "HIGH RESOLUTION STEREO CAMERA"
MISSION_NAME = "MARS EXPRESS"
MISSION_PHASE_NAME = ME_Phase_11
PROCESSING_LEVEL_ID = 3
PRODUCT_CREATION_TIME = 2016-04-27T00:54:51.000Z
PRODUCT_ID = "H5117_0000_S13.JP2"
RELEASE_ID = 0058
REVISION_ID = 0000
/* QUALITY DATA ELEMENTS */
DATA_QUALITY_ID = 2
DATA_QUALITY_DESC = "Data calculated based on photogrammetrically improved orbit and attitude data"
/* TIME DATA ELEMENTS */
SPACECRAFT_CLOCK_START_COUNT = "1/0146784065.07292"
SPACECRAFT_CLOCK_STOP_COUNT = "1/0146784337.32816"
START_TIME = 2007-12-26T21:21:08.974Z
STOP_TIME = 2007-12-26T21:24:42.624Z
/* ORBITAL DATA ELEMENTS */
ASCENDING_NODE_LONGITUDE = 121.62
MAXIMUM_RESOLUTION = 26.5
FOOTPRINT_POINT_LATITUDE = (12.9221,12.9191,12.9168,12.9273, 12.6471,12.3664,12.0853,11.8036,11.5215 ,11.2392,10.9563,10.6729,10.3892, 9.96344,9.68793,9.41182,9.13584,8.85913 ,8.58228,8.30511,7.8884,7.61009,7.19519 ,6.92557,6.65558,6.38536,6.11494, 5.70813,5.43664,5.16492,4.8928,4.62048, 4.34784,4.0751,3.66544,3.39207,3.11832, 2.84437,2.57021,2.16056,1.89517,1.62949 ,1.36392,1.09783,0.831799,0.565569, 0.299067,0.0323691,-0.234541,-0.501424, -0.768575,-0.795625,-0.794328,-0.792379 ,-0.657833,-0.390931,-0.12393,0.142684, 0.409241,0.675821,0.942049,1.20833, 1.47408,1.87272,2.13887,2.54822,2.82326 ,3.09754,3.50862,3.78214,4.05521, 4.32746,4.60023,4.87211,5.27964,5.68639 ,5.95725,6.36355,6.63376,6.90374, 7.17376,7.58812,7.86618,8.14384,8.42129 ,8.69834,8.97514,9.25149,9.66593, 9.94149,10.3666,10.6506,10.9341,11.3589 ,11.6414,11.9234,12.205,12.6264,12.9069 ,12.9221)
FOOTPRINT_POINT_LONGITUDE = (266.179,265.848,265.652,265.284, 265.287,265.29,265.293,265.296,265.299, 265.301,265.304,265.306,265.309,265.312 ,265.314,265.316,265.318,265.319, 265.321,265.322,265.324,265.326,265.327 ,265.328,265.329,265.33,265.331,265.332 ,265.332,265.332,265.333,265.333, 265.333,265.333,265.333,265.332,265.332 ,265.332,265.331,265.33,265.329,265.329 ,265.328,265.327,265.326,265.325, 265.324,265.323,265.321,265.32,265.318, 265.722,265.913,266.261,266.413,266.414 ,266.415,266.416,266.417,266.419,266.42 ,266.422,266.423,266.426,266.427,266.43 ,266.431,266.433,266.436,266.438,266.44 ,266.443,266.445,266.447,266.451, 266.455,266.457,266.461,266.464,266.467 ,266.469,266.474,266.477,266.48,266.483 ,266.486,266.49,266.493,266.498,266.501 ,266.507,266.51,266.514,266.52,266.524, 266.528,266.531,266.538,266.542, 266.179)
ORBIT_NUMBER = 5117
ORBITAL_ECCENTRICITY = 0.575
ORBITAL_INCLINATION = 86.72
ORBITAL_SEMIMAJOR_AXIS = 8741.05
PERIAPSIS_ALTITUDE = 316.56
PERIAPSIS_ARGUMENT_ANGLE = 178.13
PERIAPSIS_TIME = 2007-12-26T21:24:29.000Z
SPACECRAFT_ORIENTATION = (0.0,-1.0,0.0)
^MEX_ORIENTATION_DESC = "MEX_ORIENTATION_DESC.TXT"
SPACECRAFT_POINTING_MODE = ACROSSTRACK
^MEX_POINTING_DESC = "MEX_POINTING_DESC.TXT"
RIGHT_ASCENSION = -1e+32
DECLINATION = -1e+32
OFFSET_ANGLE = -0.18
SPACECRAFT_SOLAR_DISTANCE = 2.36097e+08
TARGET_NAME = MARS
/* CAMERA DATA ELEMENTS */
DETECTOR_TEMPERATURE = 17.5549
FOCAL_PLANE_TEMPERATURE = 7.7677
INST_CMPRS_NAME = "DISCRETE COSINE TRANSFORMATION (DCT)"
INST_CMPRS_RATIO = 9.20232
INST_CMPRS_QUALITY = 0
INST_CMPRS_QUANTZ_TBL_ID = 0
INSTRUMENT_TEMPERATURE = 11.234
LENS_TEMPERATURE = 8.3794
MACROPIXEL_SIZE = 2
MISSING_FRAMES = 0
PIXEL_SUBSAMPLING_FLAG = N
SIGNAL_CHAIN_ID = 1
/* RADIOMETRIC DATA ELEMENTS */
BANDWIDTH = 180.0
CENTER_FILTER_WAVELENGTH = 677.0
RADIANCE_OFFSET = 2.82742
RADIANCE_SCALING_FACTOR = 0.0142295
REFLECTANCE_SCALING_FACTOR = 0.000413822
MEX:REFLECTANCE_OFFSET = 0.082227
/* IMAGE OBJECT DEFINITIONS */
OBJECT = IMAGE
  INTERCHANGE_FORMAT = BINARY
  LINES = 32589
  LINE_SAMPLES = 3043
  SAMPLE_TYPE = UNSIGNED_INTEGER
  SAMPLE_BITS = 8
  BANDS = 1
  BAND_STORAGE_TYPE = BAND_SEQUENTIAL
  MAXIMUM = 255
  MEAN = 128.927
  MINIMUM = 1
  STANDARD_DEVIATION = 14.8791
END_OBJECT = IMAGE
/* MAP OBJECT DEFINITIONS */
OBJECT = IMAGE_MAP_PROJECTION
  ^DATA_SET_MAP_PROJECTION_CATALOG= "DSMAP.CAT"
  A_AXIS_RADIUS = 3396.0
  B_AXIS_RADIUS = 3396.0
  C_AXIS_RADIUS = 3396.0
  CENTER_LATITUDE = 0.0
  CENTER_LONGITUDE = 266.0
  COORDINATE_SYSTEM_NAME = PLANETOGRAPHIC
  COORDINATE_SYSTEM_TYPE = "BODY-FIXED ROTATING"
  EASTERNMOST_LONGITUDE = 266.542
  FIRST_STANDARD_PARALLEL = "N/A"
  LINE_FIRST_PIXEL = 1
  LINE_LAST_PIXEL = 32589
  LINE_PROJECTION_OFFSET = 30634.25
  MAP_PROJECTION_ROTATION = 0.0
  MAP_PROJECTION_TYPE = SINUSOIDAL
  MAP_RESOLUTION = 2370.85521546667
  MAP_SCALE = 0.025
  MAXIMUM_LATITUDE = 12.9273
  MINIMUM_LATITUDE = -0.795625
  POSITIVE_LONGITUDE_DIRECTION = EAST
  REFERENCE_LATITUDE = "N/A"
  REFERENCE_LONGITUDE = "N/A"
  SAMPLE_FIRST_PIXEL = 1
  SAMPLE_LAST_PIXEL = 3043
  SAMPLE_PROJECTION_OFFSET = 1771.75
  SECOND_STANDARD_PARALLEL = "N/A"
  WESTERNMOST_LONGITUDE = 265.284
END_OBJECT = IMAGE_MAP_PROJECTION
/* The JPEG2000 image data file associated with this label. */
OBJECT = COMPRESSED_FILE
  FILE_NAME = "H5117_0000_S13.JP2"
  RECORD_TYPE = UNDEFINED
  FILE_RECORDS = UNK
  ENCODING_TYPE = "JP2"
  INTERCHANGE_FORMAT = BINARY
  UNCOMPRESSED_FILE_NAME = "H5117_0000_S13.IMG"
  REQUIRED_STORAGE_BYTES = "99192671"
  ^DESCRIPTION = "JP2INFO.TXT"
END_OBJECT = COMPRESSED_FILE
END
