PDS_VERSION_ID = PDS3
/* FILE DATA ELEMENTS */
RECORD_TYPE = STREAM
/* POINTERS TO DATA OBJECTS */
^COMPRESSED_FILE = "H5118_0000_IR3.JP2"
/* IDENTIFICATION DATA ELEMENTS */
DATA_SET_ID = "MEX-M-HRSC-5-REFDR-MAPPROJECTED-V3.0"
DATA_SET_NAME = "MARS EXPRESS HRSC MAP PROJECTED REFDR V3.0"
DETECTOR_ID = MEX_HRSC_IR
EVENT_TYPE = "MARS-REGIONAL-MAPPING-Vo-Te-Mw"
INSTRUMENT_HOST_ID = MEX
INSTRUMENT_HOST_NAME = "MARS EXPRESS"
INSTRUMENT_ID = HRSC
INSTRUMENT_NAME = "HIGH RESOLUTION STEREO CAMERA"
MISSION_NAME = "MARS EXPRESS"
MISSION_PHASE_NAME = ME_Phase_11
PROCESSING_LEVEL_ID = 3
PRODUCT_CREATION_TIME = 2016-04-27T00:54:51.000Z
PRODUCT_ID = "H5118_0000_IR3.JP2"
RELEASE_ID = 0058
REVISION_ID = 0000
/* QUALITY DATA ELEMENTS */
DATA_QUALITY_ID = 2
DATA_QUALITY_DESC = "Data calculated based on photogrammetrically improved orbit and attitude data"
/* TIME DATA ELEMENTS */
SPACECRAFT_CLOCK_START_COUNT = "1/0146808658.09068"
SPACECRAFT_CLOCK_STOP_COUNT = "1/0146808930.56752"
START_TIME = 2007-12-27T04:11:08.141Z
STOP_TIME = 2007-12-27T04:14:41.056Z
/* ORBITAL DATA ELEMENTS */
ASCENDING_NODE_LONGITUDE = 121.6
MAXIMUM_RESOLUTION = 53.7
FOOTPRINT_POINT_LATITUDE = (15.1919,15.1932,15.1936,15.1684, 14.8965,14.6239,14.349,13.9386,13.6637, 13.389,12.9753,12.5607,12.2841,11.8685, 11.5913,11.3132,11.0343,10.7565,10.4774 ,10.1991,9.92819,9.65699,9.25018, 8.97826,8.5701,8.29781,8.02492,7.61581, 7.3451,7.08046,6.81558,6.55051,6.28517, 6.01954,5.75372,5.48769,5.22143,4.95496 ,4.68823,4.42119,4.15407,3.88676,3.6192 ,3.35144,3.08348,2.81535,2.54707,2.2786 ,2.00996,1.54347,1.54253,1.54075, 1.66838,1.93547,2.2042,2.47274,2.74115, 3.00934,3.27736,3.5452,3.8128,4.0802, 4.34743,4.61447,4.88137,5.14796,5.41432 ,5.68053,5.94645,6.21213,6.47757, 6.74272,7.14002,7.40456,7.81375,8.0867, 8.35945,8.63182,8.90397,9.17581,9.44739 ,9.71868,10.1252,10.5412,10.8204, 11.0987,11.377,11.6548,11.9324,12.2096, 12.4864,12.7628,13.0388,13.3145,13.5899 ,13.8645,14.2762,14.5498,14.8233, 15.1919)
FOOTPRINT_POINT_LONGITUDE = (166.53,166.236,165.782,165.39,165.394, 165.397,165.4,165.405,165.408,165.411, 165.415,165.419,165.421,165.425,165.427 ,165.429,165.431,165.433,165.435, 165.437,165.438,165.44,165.442,165.443, 165.445,165.446,165.446,165.448,165.448 ,165.449,165.45,165.45,165.45,165.451, 165.451,165.451,165.451,165.451,165.451 ,165.451,165.45,165.45,165.45,165.449, 165.449,165.448,165.447,165.446,165.446 ,165.444,165.768,166.134,166.568,166.57 ,166.572,166.573,166.575,166.577, 166.579,166.581,166.583,166.585,166.587 ,166.589,166.592,166.594,166.596, 166.599,166.601,166.604,166.606,166.609 ,166.613,166.616,166.621,166.624, 166.627,166.63,166.633,166.636,166.64, 166.643,166.648,166.654,166.657,166.661 ,166.665,166.669,166.673,166.677, 166.681,166.685,166.689,166.693,166.697 ,166.702,166.708,166.713,166.718, 166.53)
ORBIT_NUMBER = 5118
ORBITAL_ECCENTRICITY = 0.574
ORBITAL_INCLINATION = 86.73
ORBITAL_SEMIMAJOR_AXIS = 8724.52
PERIAPSIS_ALTITUDE = 317.39
PERIAPSIS_ARGUMENT_ANGLE = 177.95
PERIAPSIS_TIME = 2007-12-27T04:14:57.000Z
SPACECRAFT_ORIENTATION = (0.0,-1.0,0.0)
^MEX_ORIENTATION_DESC = "MEX_ORIENTATION_DESC.TXT"
SPACECRAFT_POINTING_MODE = NADIR
^MEX_POINTING_DESC = "MEX_POINTING_DESC.TXT"
RIGHT_ASCENSION = -1e+32
DECLINATION = -1e+32
OFFSET_ANGLE = -1e+32
SPACECRAFT_SOLAR_DISTANCE = 2.36147e+08
TARGET_NAME = MARS
/* CAMERA DATA ELEMENTS */
DETECTOR_TEMPERATURE = 17.351
FOCAL_PLANE_TEMPERATURE = 7.7677
INST_CMPRS_NAME = "DISCRETE COSINE TRANSFORMATION (DCT)"
INST_CMPRS_RATIO = 12.1647
INST_CMPRS_QUALITY = 0
INST_CMPRS_QUANTZ_TBL_ID = 0
INSTRUMENT_TEMPERATURE = 11.0301
LENS_TEMPERATURE = 8.1755
MACROPIXEL_SIZE = 4
MISSING_FRAMES = 0
PIXEL_SUBSAMPLING_FLAG = N
SIGNAL_CHAIN_ID = 2
/* RADIOMETRIC DATA ELEMENTS */
BANDWIDTH = 81.0
CENTER_FILTER_WAVELENGTH = 955.5
RADIANCE_OFFSET = 0.673429
RADIANCE_SCALING_FACTOR = 0.00332557
REFLECTANCE_SCALING_FACTOR = 0.000400088
MEX:REFLECTANCE_OFFSET = 0.0810178
/* IMAGE OBJECT DEFINITIONS */
OBJECT = IMAGE
  INTERCHANGE_FORMAT = BINARY
  LINES = 16168
  LINE_SAMPLES = 1559
  SAMPLE_TYPE = UNSIGNED_INTEGER
  SAMPLE_BITS = 8
  BANDS = 1
  BAND_STORAGE_TYPE = BAND_SEQUENTIAL
  MAXIMUM = 255
  MEAN = 113.755
  MINIMUM = 1
  STANDARD_DEVIATION = 18.3404
END_OBJECT = IMAGE
/* MAP OBJECT DEFINITIONS */
OBJECT = IMAGE_MAP_PROJECTION
  ^DATA_SET_MAP_PROJECTION_CATALOG= "DSMAP.CAT"
  A_AXIS_RADIUS = 3396.0
  B_AXIS_RADIUS = 3396.0
  C_AXIS_RADIUS = 3396.0
  CENTER_LATITUDE = 0.0
  CENTER_LONGITUDE = 166.0
  COORDINATE_SYSTEM_NAME = PLANETOGRAPHIC
  COORDINATE_SYSTEM_TYPE = "BODY-FIXED ROTATING"
  EASTERNMOST_LONGITUDE = 166.718
  FIRST_STANDARD_PARALLEL = "N/A"
  LINE_FIRST_PIXEL = 1
  LINE_LAST_PIXEL = 16168
  LINE_PROJECTION_OFFSET = 18021.125
  MAP_PROJECTION_ROTATION = 0.0
  MAP_PROJECTION_TYPE = SINUSOIDAL
  MAP_RESOLUTION = 1185.42760773333
  MAP_SCALE = 0.05
  MAXIMUM_LATITUDE = 15.1936
  MINIMUM_LATITUDE = 1.54075
  POSITIVE_LONGITUDE_DIRECTION = EAST
  REFERENCE_LATITUDE = "N/A"
  REFERENCE_LONGITUDE = "N/A"
  SAMPLE_FIRST_PIXEL = 1
  SAMPLE_LAST_PIXEL = 1559
  SAMPLE_PROJECTION_OFFSET = 717.375
  SECOND_STANDARD_PARALLEL = "N/A"
  WESTERNMOST_LONGITUDE = 165.39
END_OBJECT = IMAGE_MAP_PROJECTION
/* The JPEG2000 image data file associated with this label. */
OBJECT = COMPRESSED_FILE
  FILE_NAME = "H5118_0000_IR3.JP2"
  RECORD_TYPE = UNDEFINED
  FILE_RECORDS = UNK
  ENCODING_TYPE = "JP2"
  INTERCHANGE_FORMAT = BINARY
  UNCOMPRESSED_FILE_NAME = "H5118_0000_IR3.IMG"
  REQUIRED_STORAGE_BYTES = "25224620"
  ^DESCRIPTION = "JP2INFO.TXT"
END_OBJECT = COMPRESSED_FILE
END
