PDS_VERSION_ID = PDS3
/* FILE DATA ELEMENTS */
RECORD_TYPE = STREAM
/* POINTERS TO DATA OBJECTS */
^COMPRESSED_FILE = "H5124_0009_ND3.JP2"
/* IDENTIFICATION DATA ELEMENTS */
DATA_SET_ID = "MEX-M-HRSC-5-REFDR-MAPPROJECTED-V3.0"
DATA_SET_NAME = "MARS EXPRESS HRSC MAP PROJECTED REFDR V3.0"
DETECTOR_ID = MEX_HRSC_NADIR
EVENT_TYPE = "MARS-LOCAL-STEREO-Fl-Gl"
INSTRUMENT_HOST_ID = MEX
INSTRUMENT_HOST_NAME = "MARS EXPRESS"
INSTRUMENT_ID = HRSC
INSTRUMENT_NAME = "HIGH RESOLUTION STEREO CAMERA"
MISSION_NAME = "MARS EXPRESS"
MISSION_PHASE_NAME = ME_Phase_11
PROCESSING_LEVEL_ID = 3
PRODUCT_CREATION_TIME = 2016-04-27T00:54:51.000Z
PRODUCT_ID = "H5124_0009_ND3.JP2"
RELEASE_ID = 0058
REVISION_ID = 0000
/* QUALITY DATA ELEMENTS */
DATA_QUALITY_ID = 2
DATA_QUALITY_DESC = "Data calculated based on photogrammetrically improved orbit and attitude data"
/* TIME DATA ELEMENTS */
SPACECRAFT_CLOCK_START_COUNT = "1/0146956479.08416"
SPACECRAFT_CLOCK_STOP_COUNT = "1/0146956646.41690"
START_TIME = 2007-12-28T21:15:14.228Z
STOP_TIME = 2007-12-28T21:17:00.229Z
/* ORBITAL DATA ELEMENTS */
ASCENDING_NODE_LONGITUDE = 121.48
MAXIMUM_RESOLUTION = 12.7
FOOTPRINT_POINT_LATITUDE = (13.0978,13.0987,13.0994,13.0996, 13.0998,12.8833,12.7432,12.603,12.4628, 12.3226,12.1823,12.0419,11.9016,11.7612 ,11.6207,11.4802,11.3397,11.1992, 10.9883,10.8476,10.7069,10.5662,10.4255 ,10.2847,10.0736,9.80128,9.52882, 9.25627,8.98361,8.7108,8.57435,8.4379, 8.30144,8.16495,8.02845,7.89192,7.75537 ,7.6188,7.48221,7.34561,7.20899,7.07235 ,6.9357,6.79903,6.66234,6.52564,6.38893 ,6.2522,6.17657,6.17598,6.17535,6.17456 ,6.17384,6.17299,6.37785,6.51459, 6.65131,6.78802,6.92472,7.0614,7.19807, 7.33472,7.47135,7.60796,7.74456,7.88114 ,8.0177,8.15423,8.29075,8.42724,8.56372 ,8.70017,8.8366,8.97301,9.24575,9.51839 ,9.79093,10.0634,10.2039,10.3447, 10.4855,10.6263,10.767,10.9077,11.0484, 11.189,11.3296,11.4702,11.6107,11.7512, 11.8917,12.0321,12.1725,12.3128,12.4531 ,12.5934,12.7336,12.8738,13.0176, 13.0978)
FOOTPRINT_POINT_LONGITUDE = (286.216,285.941,285.631,285.428,285.2, 285.122,285.123,285.124,285.125,285.126 ,285.127,285.128,285.129,285.129,285.13 ,285.131,285.132,285.133,285.134, 285.134,285.135,285.136,285.136,285.137 ,285.138,285.139,285.14,285.141,285.141 ,285.143,285.144,285.144,285.145, 285.145,285.145,285.146,285.146,285.146 ,285.147,285.147,285.147,285.147, 285.147,285.147,285.147,285.148,285.148 ,285.148,285.269,285.445,285.621,285.82 ,285.985,286.172,286.268,286.269,286.27 ,286.271,286.272,286.273,286.275, 286.276,286.277,286.278,286.279,286.281 ,286.282,286.283,286.284,286.286, 286.287,286.288,286.29,286.291,286.294, 286.296,286.299,286.302,286.304,286.305 ,286.307,286.308,286.31,286.311,286.313 ,286.314,286.316,286.318,286.319, 286.321,286.322,286.324,286.325,286.327 ,286.329,286.33,286.332,286.334,286.337 ,286.216)
ORBIT_NUMBER = 5124
ORBITAL_ECCENTRICITY = 0.575
ORBITAL_INCLINATION = 86.72
ORBITAL_SEMIMAJOR_AXIS = 8733.62
PERIAPSIS_ALTITUDE = 317.23
PERIAPSIS_ARGUMENT_ANGLE = 176.91
PERIAPSIS_TIME = 2007-12-28T21:17:47.000Z
SPACECRAFT_ORIENTATION = (0.0,-1.0,0.0)
^MEX_ORIENTATION_DESC = "MEX_ORIENTATION_DESC.TXT"
SPACECRAFT_POINTING_MODE = NADIR
^MEX_POINTING_DESC = "MEX_POINTING_DESC.TXT"
RIGHT_ASCENSION = -1e+32
DECLINATION = -1e+32
OFFSET_ANGLE = -1e+32
SPACECRAFT_SOLAR_DISTANCE = 2.36442e+08
TARGET_NAME = MARS
/* CAMERA DATA ELEMENTS */
DETECTOR_TEMPERATURE = 18.5744
FOCAL_PLANE_TEMPERATURE = 8.3794
INST_CMPRS_NAME = "DISCRETE COSINE TRANSFORMATION (DCT)"
INST_CMPRS_RATIO = 6.12045
INST_CMPRS_QUALITY = 0
INST_CMPRS_QUANTZ_TBL_ID = 0
INSTRUMENT_TEMPERATURE = 11.4379
LENS_TEMPERATURE = 8.9911
MACROPIXEL_SIZE = 1
MISSING_FRAMES = 0
PIXEL_SUBSAMPLING_FLAG = N
SIGNAL_CHAIN_ID = 0
/* RADIOMETRIC DATA ELEMENTS */
BANDWIDTH = 177.0
CENTER_FILTER_WAVELENGTH = 677.5
RADIANCE_OFFSET = 2.41756
RADIANCE_SCALING_FACTOR = 0.014221
REFLECTANCE_SCALING_FACTOR = 0.000422338
MEX:REFLECTANCE_OFFSET = 0.0717975
/* IMAGE OBJECT DEFINITIONS */
OBJECT = IMAGE
  INTERCHANGE_FORMAT = BINARY
  LINES = 32848
  LINE_SAMPLES = 5992
  SAMPLE_TYPE = UNSIGNED_INTEGER
  SAMPLE_BITS = 8
  BANDS = 1
  BAND_STORAGE_TYPE = BAND_SEQUENTIAL
  MAXIMUM = 255
  MEAN = 103.444
  MINIMUM = 1
  STANDARD_DEVIATION = 25.5292
END_OBJECT = IMAGE
/* MAP OBJECT DEFINITIONS */
OBJECT = IMAGE_MAP_PROJECTION
  ^DATA_SET_MAP_PROJECTION_CATALOG= "DSMAP.CAT"
  A_AXIS_RADIUS = 3396.0
  B_AXIS_RADIUS = 3396.0
  C_AXIS_RADIUS = 3396.0
  CENTER_LATITUDE = 0.0
  CENTER_LONGITUDE = 286.0
  COORDINATE_SYSTEM_NAME = PLANETOGRAPHIC
  COORDINATE_SYSTEM_TYPE = "BODY-FIXED ROTATING"
  EASTERNMOST_LONGITUDE = 286.337
  FIRST_STANDARD_PARALLEL = "N/A"
  LINE_FIRST_PIXEL = 1
  LINE_LAST_PIXEL = 32848
  LINE_PROJECTION_OFFSET = 62138.0
  MAP_PROJECTION_ROTATION = 0.0
  MAP_PROJECTION_TYPE = SINUSOIDAL
  MAP_RESOLUTION = 4741.71043093333
  MAP_SCALE = 0.0125
  MAXIMUM_LATITUDE = 13.0998
  MINIMUM_LATITUDE = 6.17299
  POSITIVE_LONGITUDE_DIRECTION = EAST
  REFERENCE_LATITUDE = "N/A"
  REFERENCE_LONGITUDE = "N/A"
  SAMPLE_FIRST_PIXEL = 1
  SAMPLE_LAST_PIXEL = 5992
  SAMPLE_PROJECTION_OFFSET = 4238.0
  SECOND_STANDARD_PARALLEL = "N/A"
  WESTERNMOST_LONGITUDE = 285.122
END_OBJECT = IMAGE_MAP_PROJECTION
/* The JPEG2000 image data file associated with this label. */
OBJECT = COMPRESSED_FILE
  FILE_NAME = "H5124_0009_ND3.JP2"
  RECORD_TYPE = UNDEFINED
  FILE_RECORDS = UNK
  ENCODING_TYPE = "JP2"
  INTERCHANGE_FORMAT = BINARY
  UNCOMPRESSED_FILE_NAME = "H5124_0009_ND3.IMG"
  REQUIRED_STORAGE_BYTES = "196855176"
  ^DESCRIPTION = "JP2INFO.TXT"
END_OBJECT = COMPRESSED_FILE
END
