PDS_VERSION_ID = PDS3
/* FILE DATA ELEMENTS */
RECORD_TYPE = STREAM
/* POINTERS TO DATA OBJECTS */
^COMPRESSED_FILE = "H5124_0009_P23.JP2"
/* IDENTIFICATION DATA ELEMENTS */
DATA_SET_ID = "MEX-M-HRSC-5-REFDR-MAPPROJECTED-V3.0"
DATA_SET_NAME = "MARS EXPRESS HRSC MAP PROJECTED REFDR V3.0"
DETECTOR_ID = MEX_HRSC_P2
EVENT_TYPE = "MARS-LOCAL-STEREO-Fl-Gl"
INSTRUMENT_HOST_ID = MEX
INSTRUMENT_HOST_NAME = "MARS EXPRESS"
INSTRUMENT_ID = HRSC
INSTRUMENT_NAME = "HIGH RESOLUTION STEREO CAMERA"
MISSION_NAME = "MARS EXPRESS"
MISSION_PHASE_NAME = ME_Phase_11
PROCESSING_LEVEL_ID = 3
PRODUCT_CREATION_TIME = 2016-04-27T00:54:51.000Z
PRODUCT_ID = "H5124_0009_P23.JP2"
RELEASE_ID = 0058
REVISION_ID = 0000
/* QUALITY DATA ELEMENTS */
DATA_QUALITY_ID = 2
DATA_QUALITY_DESC = "Data calculated based on photogrammetrically improved orbit and attitude data"
/* TIME DATA ELEMENTS */
SPACECRAFT_CLOCK_START_COUNT = "1/0146956479.08416"
SPACECRAFT_CLOCK_STOP_COUNT = "1/0146956646.41690"
START_TIME = 2007-12-28T21:15:34.011Z
STOP_TIME = 2007-12-28T21:17:18.736Z
/* ORBITAL DATA ELEMENTS */
ASCENDING_NODE_LONGITUDE = 121.48
MAXIMUM_RESOLUTION = 26.1
FOOTPRINT_POINT_LATITUDE = (13.0873,13.0877,13.0882,13.0886,13.089 ,13.0895,13.0256,12.8845,12.7429, 12.6019,12.3904,12.1784,11.9665,11.8256 ,11.6844,11.5427,11.4021,11.2627, 11.1265,10.99,10.8536,10.7174,10.4447, 10.3077,10.035,9.89855,9.69374,9.48907, 9.35251,9.21641,9.07981,8.94352,8.80684 ,8.66836,8.53069,8.3941,8.25758,8.12114 ,7.98446,7.84775,7.71131,7.57479, 7.37008,7.23358,7.02893,6.89252,6.68807 ,6.48342,6.34725,6.21089,6.17659, 6.17568,6.1748,6.17424,6.17375,6.31018, 6.44641,6.58253,6.71885,6.85528,7.05979 ,7.19614,7.33246,7.46887,7.67347, 7.81007,7.94657,8.08291,8.28734,8.49215 ,8.62877,8.83357,8.97014,9.10654, 9.31135,9.51618,9.65274,9.78925,9.92583 ,10.0625,10.199,10.4039,10.6087,10.7453 ,10.8818,11.0184,11.155,11.2915,11.4315 ,11.5726,11.7137,11.8549,11.9961, 12.1372,12.2784,12.4196,12.5608,12.7726 ,12.9148,13.0873)
FOOTPRINT_POINT_LONGITUDE = (286.281,286.107,285.841,285.655, 285.481,285.296,285.127,285.128,285.129 ,285.13,285.131,285.132,285.133,285.134 ,285.135,285.136,285.136,285.137, 285.137,285.138,285.138,285.139,285.14, 285.14,285.141,285.142,285.142,285.143, 285.143,285.143,285.144,285.144,285.144 ,285.145,285.146,285.146,285.146, 285.147,285.147,285.147,285.147,285.147 ,285.147,285.148,285.148,285.148, 285.148,285.148,285.147,285.147,285.331 ,285.569,285.85,286.045,286.207,286.266 ,286.267,286.268,286.269,286.27,286.272 ,286.273,286.274,286.275,286.276, 286.278,286.279,286.28,286.281,286.283, 286.285,286.286,286.288,286.289,286.291 ,286.293,286.294,286.295,286.296, 286.298,286.299,286.301,286.303,286.304 ,286.306,286.307,286.309,286.31,286.311 ,286.313,286.314,286.316,286.317, 286.319,286.32,286.322,286.323,286.325, 286.328,286.281)
ORBIT_NUMBER = 5124
ORBITAL_ECCENTRICITY = 0.575
ORBITAL_INCLINATION = 86.72
ORBITAL_SEMIMAJOR_AXIS = 8733.62
PERIAPSIS_ALTITUDE = 317.23
PERIAPSIS_ARGUMENT_ANGLE = 176.91
PERIAPSIS_TIME = 2007-12-28T21:17:47.000Z
SPACECRAFT_ORIENTATION = (0.0,-1.0,0.0)
^MEX_ORIENTATION_DESC = "MEX_ORIENTATION_DESC.TXT"
SPACECRAFT_POINTING_MODE = NADIR
^MEX_POINTING_DESC = "MEX_POINTING_DESC.TXT"
RIGHT_ASCENSION = -1e+32
DECLINATION = -1e+32
OFFSET_ANGLE = -1e+32
SPACECRAFT_SOLAR_DISTANCE = 2.36442e+08
TARGET_NAME = MARS
/* CAMERA DATA ELEMENTS */
DETECTOR_TEMPERATURE = 18.7783
FOCAL_PLANE_TEMPERATURE = 8.3794
INST_CMPRS_NAME = "DISCRETE COSINE TRANSFORMATION (DCT)"
INST_CMPRS_RATIO = 5.71517
INST_CMPRS_QUALITY = 0
INST_CMPRS_QUANTZ_TBL_ID = 0
INSTRUMENT_TEMPERATURE = 11.4379
LENS_TEMPERATURE = 8.9911
MACROPIXEL_SIZE = 2
MISSING_FRAMES = 0
PIXEL_SUBSAMPLING_FLAG = N
SIGNAL_CHAIN_ID = 3
/* RADIOMETRIC DATA ELEMENTS */
BANDWIDTH = 177.0
CENTER_FILTER_WAVELENGTH = 676.5
RADIANCE_OFFSET = 2.73044
RADIANCE_SCALING_FACTOR = 0.0142768
REFLECTANCE_SCALING_FACTOR = 0.00042319
MEX:REFLECTANCE_OFFSET = 0.0809351
/* IMAGE OBJECT DEFINITIONS */
OBJECT = IMAGE
  INTERCHANGE_FORMAT = BINARY
  LINES = 16424
  LINE_SAMPLES = 2996
  SAMPLE_TYPE = UNSIGNED_INTEGER
  SAMPLE_BITS = 8
  BANDS = 1
  BAND_STORAGE_TYPE = BAND_SEQUENTIAL
  MAXIMUM = 255
  MEAN = 106.172
  MINIMUM = 1
  STANDARD_DEVIATION = 26.261
END_OBJECT = IMAGE
/* MAP OBJECT DEFINITIONS */
OBJECT = IMAGE_MAP_PROJECTION
  ^DATA_SET_MAP_PROJECTION_CATALOG= "DSMAP.CAT"
  A_AXIS_RADIUS = 3396.0
  B_AXIS_RADIUS = 3396.0
  C_AXIS_RADIUS = 3396.0
  CENTER_LATITUDE = 0.0
  CENTER_LONGITUDE = 286.0
  COORDINATE_SYSTEM_NAME = PLANETOGRAPHIC
  COORDINATE_SYSTEM_TYPE = "BODY-FIXED ROTATING"
  EASTERNMOST_LONGITUDE = 286.328
  FIRST_STANDARD_PARALLEL = "N/A"
  LINE_FIRST_PIXEL = 1
  LINE_LAST_PIXEL = 16424
  LINE_PROJECTION_OFFSET = 31068.75
  MAP_PROJECTION_ROTATION = 0.0
  MAP_PROJECTION_TYPE = SINUSOIDAL
  MAP_RESOLUTION = 2370.85521546667
  MAP_SCALE = 0.025
  MAXIMUM_LATITUDE = 13.0895
  MINIMUM_LATITUDE = 6.17375
  POSITIVE_LONGITUDE_DIRECTION = EAST
  REFERENCE_LATITUDE = "N/A"
  REFERENCE_LONGITUDE = "N/A"
  SAMPLE_FIRST_PIXEL = 1
  SAMPLE_LAST_PIXEL = 2996
  SAMPLE_PROJECTION_OFFSET = 2118.75
  SECOND_STANDARD_PARALLEL = "N/A"
  WESTERNMOST_LONGITUDE = 285.127
END_OBJECT = IMAGE_MAP_PROJECTION
/* The JPEG2000 image data file associated with this label. */
OBJECT = COMPRESSED_FILE
  FILE_NAME = "H5124_0009_P23.JP2"
  RECORD_TYPE = UNDEFINED
  FILE_RECORDS = UNK
  ENCODING_TYPE = "JP2"
  INTERCHANGE_FORMAT = BINARY
  UNCOMPRESSED_FILE_NAME = "H5124_0009_P23.IMG"
  REQUIRED_STORAGE_BYTES = "49230272"
  ^DESCRIPTION = "JP2INFO.TXT"
END_OBJECT = COMPRESSED_FILE
END
