PDS_VERSION_ID = PDS3
/* FILE DATA ELEMENTS */
RECORD_TYPE = STREAM
/* POINTERS TO DATA OBJECTS */
^COMPRESSED_FILE = "H5125_0000_BL3.JP2"
/* IDENTIFICATION DATA ELEMENTS */
DATA_SET_ID = "MEX-M-HRSC-5-REFDR-MAPPROJECTED-V3.0"
DATA_SET_NAME = "MARS EXPRESS HRSC MAP PROJECTED REFDR V3.0"
DETECTOR_ID = MEX_HRSC_BLUE
EVENT_TYPE = "MARS-REGIONAL-MAPPING-Vo-Pf-Eo"
INSTRUMENT_HOST_ID = MEX
INSTRUMENT_HOST_NAME = "MARS EXPRESS"
INSTRUMENT_ID = HRSC
INSTRUMENT_NAME = "HIGH RESOLUTION STEREO CAMERA"
MISSION_NAME = "MARS EXPRESS"
MISSION_PHASE_NAME = ME_Phase_11
PROCESSING_LEVEL_ID = 3
PRODUCT_CREATION_TIME = 2016-04-27T00:54:51.000Z
PRODUCT_ID = "H5125_0000_BL3.JP2"
RELEASE_ID = 0058
REVISION_ID = 0000
/* QUALITY DATA ELEMENTS */
DATA_QUALITY_ID = 2
DATA_QUALITY_DESC = "Data calculated based on photogrammetrically improved orbit and attitude data"
/* TIME DATA ELEMENTS */
SPACECRAFT_CLOCK_START_COUNT = "1/0146981070.09090"
SPACECRAFT_CLOCK_STOP_COUNT = "1/0146981349.25992"
START_TIME = 2007-12-29T04:05:12.069Z
STOP_TIME = 2007-12-29T04:08:47.595Z
/* ORBITAL DATA ELEMENTS */
ASCENDING_NODE_LONGITUDE = 121.46
MAXIMUM_RESOLUTION = 51.5
FOOTPRINT_POINT_LATITUDE = (15.3861,15.388,15.3894,15.3899,15.3957 ,15.1019,14.6606,14.2191,13.7772, 13.4824,13.1874,12.7589,12.4732,12.1873 ,11.9014,11.6153,11.1861,10.8991, 10.6127,10.3265,10.0463,9.76912,9.49213 ,9.21488,8.93745,8.52139,8.24379, 7.96603,7.5497,7.27209,6.99437,6.57776, 6.16107,5.88327,5.60536,5.32717,5.04987 ,4.77207,4.49434,4.21647,3.93884, 3.66105,3.38348,3.10583,2.68917,2.27294 ,1.99558,1.71826,1.30227,1.28487, 1.28279,1.28119,1.27882,1.41712,1.83326 ,2.11077,2.38818,2.6658,2.94379,3.22145 ,3.49917,3.91581,4.1934,4.47136,4.74915 ,5.02708,5.30492,5.72138,5.99943, 6.27692,6.55504,6.83272,7.1109,7.52759, 7.80535,8.08299,8.36048,8.77653,9.05418 ,9.33172,9.60939,9.88645,10.1639, 10.4483,10.7348,11.0215,11.3074,11.596, 11.8833,12.3118,12.5975,12.8807,13.1671 ,13.6093,13.9041,14.199,14.4936,14.788, 15.2292,15.3861)
FOOTPRINT_POINT_LONGITUDE = (185.919,185.559,185.186,184.998, 184.743,184.747,184.752,184.757,184.762 ,184.765,184.768,184.771,184.773, 184.775,184.777,184.779,184.781,184.784 ,184.786,184.786,184.788,184.789, 184.789,184.79,184.791,184.792,184.792, 184.793,184.794,184.794,184.794,184.794 ,184.794,184.794,184.794,184.794, 184.793,184.792,184.791,184.791,184.79, 184.789,184.788,184.787,184.786,184.784 ,184.782,184.781,184.778,185.075, 185.296,185.484,185.766,185.905,185.906 ,185.907,185.908,185.909,185.911, 185.912,185.914,185.916,185.917,185.919 ,185.92,185.922,185.923,185.926,185.928 ,185.929,185.931,185.933,185.935, 185.939,185.941,185.943,185.945,185.948 ,185.95,185.953,185.956,185.958,185.96, 185.963,185.966,185.968,185.971,185.975 ,185.979,185.983,185.986,185.987,185.99 ,185.995,185.999,186.002,186.006, 186.009,186.014,185.919)
ORBIT_NUMBER = 5125
ORBITAL_ECCENTRICITY = 0.574
ORBITAL_INCLINATION = 86.73
ORBITAL_SEMIMAJOR_AXIS = 8723.72
PERIAPSIS_ALTITUDE = 317.84
PERIAPSIS_ARGUMENT_ANGLE = 176.7
PERIAPSIS_TIME = 2007-12-29T04:08:12.000Z
SPACECRAFT_ORIENTATION = (0.0,-1.0,0.0)
^MEX_ORIENTATION_DESC = "MEX_ORIENTATION_DESC.TXT"
SPACECRAFT_POINTING_MODE = ACROSSTRACK
^MEX_POINTING_DESC = "MEX_POINTING_DESC.TXT"
RIGHT_ASCENSION = -1e+32
DECLINATION = -1e+32
OFFSET_ANGLE = -0.3
SPACECRAFT_SOLAR_DISTANCE = 2.36491e+08
TARGET_NAME = MARS
/* CAMERA DATA ELEMENTS */
DETECTOR_TEMPERATURE = 18.3705
FOCAL_PLANE_TEMPERATURE = 7.9716
INST_CMPRS_NAME = "DISCRETE COSINE TRANSFORMATION (DCT)"
INST_CMPRS_RATIO = 6.53299
INST_CMPRS_QUALITY = 0
INST_CMPRS_QUANTZ_TBL_ID = 0
INSTRUMENT_TEMPERATURE = 11.4379
LENS_TEMPERATURE = 8.1755
MACROPIXEL_SIZE = 4
MISSING_FRAMES = 0
PIXEL_SUBSAMPLING_FLAG = N
SIGNAL_CHAIN_ID = 2
/* RADIOMETRIC DATA ELEMENTS */
BANDWIDTH = 76.0
CENTER_FILTER_WAVELENGTH = 444.0
RADIANCE_OFFSET = 0.371634
RADIANCE_SCALING_FACTOR = 0.00148342
REFLECTANCE_SCALING_FACTOR = 8.52405e-05
MEX:REFLECTANCE_OFFSET = 0.021355
/* IMAGE OBJECT DEFINITIONS */
OBJECT = IMAGE
  INTERCHANGE_FORMAT = BINARY
  LINES = 16729
  LINE_SAMPLES = 1537
  SAMPLE_TYPE = UNSIGNED_INTEGER
  SAMPLE_BITS = 8
  BANDS = 1
  BAND_STORAGE_TYPE = BAND_SEQUENTIAL
  MAXIMUM = 255
  MEAN = 124.356
  MINIMUM = 1
  STANDARD_DEVIATION = 24.4289
END_OBJECT = IMAGE
/* MAP OBJECT DEFINITIONS */
OBJECT = IMAGE_MAP_PROJECTION
  ^DATA_SET_MAP_PROJECTION_CATALOG= "DSMAP.CAT"
  A_AXIS_RADIUS = 3396.0
  B_AXIS_RADIUS = 3396.0
  C_AXIS_RADIUS = 3396.0
  CENTER_LATITUDE = 0.0
  CENTER_LONGITUDE = 185.0
  COORDINATE_SYSTEM_NAME = PLANETOGRAPHIC
  COORDINATE_SYSTEM_TYPE = "BODY-FIXED ROTATING"
  EASTERNMOST_LONGITUDE = 186.014
  FIRST_STANDARD_PARALLEL = "N/A"
  LINE_FIRST_PIXEL = 1
  LINE_LAST_PIXEL = 16729
  LINE_PROJECTION_OFFSET = 18248.875
  MAP_PROJECTION_ROTATION = 0.0
  MAP_PROJECTION_TYPE = SINUSOIDAL
  MAP_RESOLUTION = 1185.42760773333
  MAP_SCALE = 0.05
  MAXIMUM_LATITUDE = 15.3957
  MINIMUM_LATITUDE = 1.27882
  POSITIVE_LONGITUDE_DIRECTION = EAST
  REFERENCE_LATITUDE = "N/A"
  REFERENCE_LONGITUDE = "N/A"
  SAMPLE_FIRST_PIXEL = 1
  SAMPLE_LAST_PIXEL = 1537
  SAMPLE_PROJECTION_OFFSET = 354.375
  SECOND_STANDARD_PARALLEL = "N/A"
  WESTERNMOST_LONGITUDE = 184.743
END_OBJECT = IMAGE_MAP_PROJECTION
/* The JPEG2000 image data file associated with this label. */
OBJECT = COMPRESSED_FILE
  FILE_NAME = "H5125_0000_BL3.JP2"
  RECORD_TYPE = UNDEFINED
  FILE_RECORDS = UNK
  ENCODING_TYPE = "JP2"
  INTERCHANGE_FORMAT = BINARY
  UNCOMPRESSED_FILE_NAME = "H5125_0000_BL3.IMG"
  REQUIRED_STORAGE_BYTES = "25732454"
  ^DESCRIPTION = "JP2INFO.TXT"
END_OBJECT = COMPRESSED_FILE
END
